{"text_format":"1","workbook":"xlsx","n_sheets":6,"sheets":["Header Entry","Item Entry","Associates CSV","Lines CSV","Combined CSV","Country Codes Lookup"],"not_rendered":{"charts":0,"images":1,"macros":1,"external_links":0,"defined_names":2,"comments":2,"pivot_tables":0},"unopened":[],"bounds":{"document_bytes":16777216,"sheet_cells":100000,"rows_first":2000,"rows_last":500,"rows_between":2000,"halvings":0,"cell_chars":16384,"cell_head_chars":4096},"cells_cut":0,"cells_raw":0,"read":"whole","date_system":"1900"}

{"sheet":"Header Entry","index":0,"n_rows":107,"n_cols":32,"rows_kept":107,"cut":false,"hidden":false,"merged":[[66,10,66,17],[56,10,56,17],[56,2,56,9],[57,2,57,9],[58,2,58,3],[61,2,61,9],[61,10,61,17],[57,10,57,17],[58,10,58,11],[6,2,6,4],[6,6,6,7],[10,2,10,3],[14,23,14,24],[35,2,35,9],[6,12,7,15],[31,2,31,9],[14,17,14,20],[14,1,14,6],[22,2,22,9],[18,7,18,9],[18,2,18,5],[17,2,17,9],[32,2,32,3],[27,2,27,5],[23,2,23,3],[53,2,53,5],[8,2,8,3],[9,2,9,3],[8,5,8,7],[9,5,9,7],[12,1,12,5],[11,4,11,5],[12,6,12,9],[27,7,27,9],[30,2,30,9],[20,2,20,9],[21,2,21,9],[36,2,36,4],[36,8,36,9],[26,2,26,9],[29,2,29,9],[47,10,47,17],[48,10,48,17],[44,10,44,13],[44,15,44,17],[52,10,52,17],[49,10,49,11],[55,10,55,17],[39,2,39,9],[40,2,40,4],[53,7,53,9],[52,2,52,9],[49,2,49,3],[47,2,47,9],[48,2,48,9],[43,2,43,9],[44,2,44,5],[44,7,44,9],[46,2,46,9],[40,8,40,9],[43,10,43,17],[46,10,46,17],[53,10,53,13],[1,2,1,8],[2,2,2,8],[69,1,69,9],[53,15,53,17],[67,2,67,3],[67,10,67,11],[65,10,65,17],[62,2,62,5],[62,7,62,9],[62,10,62,13],[62,15,62,17],[65,2,65,9],[66,2,66,9],[64,2,64,9],[64,10,64,17],[55,2,55,9]]}
[null,null,null,null,null,null,null,null,null,null,null,null,null,null,null,null,null,null,null,null,null,null,null,null,null,null,null,null,null,null,null,"ALABAMA"]
[null,null,"U.S. IMPORTER SECURITY FILING SUBMISSION FORM",null,null,null,null,null,null,null,null,null,null,null,null,null,null,null,null,null,null,null,null,null,"CBP#",null,null,null,null,null,null,"ALASKA"]
[null,null,"For all ocean bound cargo to the United States",null,null,null,null,null,null,null,null,null,null,null,null,null,null,null,null,null,null,null,null,null,"EIN",null,null,null,null,null,null,"AMERICAN SAMOA"]
[null,null,null,null,null,null,null,null,null,null,null,null,null,null,null,null,null,null,null,null,null,null,null,null,"SSN",null,null,"CFS",null,null,null,"ARIZONA"]
[null,"Summary of Shipment Information",null,null,null,null,null,null,null,null,null,null,null,null,null,null,null,null,null,null,null,null,null,null,null,null,null,"CY",null,null,null,"ARKANSAS"]
[null,null,null,null,null,null,null,null,null,null,null,null,"TIPS",null,null,null,null,null,null,null,null,null,null,null,null,null,null,null,null,null,null,"CALIFORNIA"]
[null,"  Customer Reference:",null,null,null,"Vendor",null,null,"Move Type:",null,null,null,"*Data elements in bold are required in order to successfully upload the filing to exp.o ISF.",null,null,null,null,null,null,null,null,null,null,null,null,null,null,null,null,null,null,"COLORADO"]
[null,null,null,null,null,null,null,null,null,null,null,null,null,null,null,null,null,null,null,null,null,null,null,null,null,null,null,null,null,null,null,"CONNECTICUT"]
[null,"  ISF Cut-Off Date:",null,null,"Vessel:",null,null,null,"Origin:",null,null,"CY","* Key filing data into the fields shaded in blue",null,null,null,null,null,null,null,null,null,null,null,null,null,null,null,null,null,null,"DELAWARE"]
[null,"  Vessel Sailing Date:",null,null,"Voyage:",null,null,null,"Destination:",null,null,"CFS","*Dates should be entered in the format MM/DD/YY",null,null,null,null,null,null,null,null,null,null,null,null,null,null,null,null,null,null,"DISTRICT OF COLUMBIA"]
[null,"  Vessel ETA Date:",null,null,null,null,null,null,null,null,null,null,null,null,null,null,null,null,null,null,null,null,null,null,null,null,null,null,null,null,null,"FLORIDA"]
[null," HBL SCAC:",null,"HBL#:",null,null,"  MBL SCAC:",null,"MBL#:",null,null,null,null,null,null,null,null,null,null,null,null,null,null,null,null,null,null,null,null,null,null,"GEORGIA"]
[null,"The House Bill consists of a SCAC Code (a four character code representing the AMS filer) and the House Bill of Lading Number. ISF must be filed at the lowest manifested (AMS) bill of lading.                                                   ",null,null,null,null,"IF a HBL is issued, the MBL is ONLY a reference in the ISF.  However, if HBL is NOT applicable, the Master Bill (also known as Regular Bill) MUST be used.  The SCAC Code is the four character code representing the vessel carrier.  The Master Bill of Lading Number (or Regular Bill) is twelve characters long and CAN NOT exceed 12 characters ",null,null,null,null,null,null,null,null,null,null,null,null,null,null,null,null,null,null,null,null,null,null,null,null,"IDAHO"]
[null,null,null,null,null,null,null,null,null,null,null,null,null,null,null,null,null,null,null,null,null,null,null,null,null,null,null,null,null,null,null,"ILLINOIS"]
[null,"Data Elements Required for Importer Security Filing",null,null,null,null,null,null,null,null,null,null,null,null,null,null,null,null,null,null,null,null,null,null,null,null,null,null,null,null,null,"INDIANA"]
[null,null,null,null,null,null,null,null,null,null,null,null,null,null,null,null,null,null,null,null,null,null,null,null,null,null,null,null,null,null,null,"IOWA"]
[null,"Seller Name & Address or Dun & Bradstreet Number (DUNS): ",null,null,null,null,null,null,"Same as the Shipper?",null,null,null,null,null,null,null,null,null,null,null,null,null,null,null,null,null,null,null,null,null,null,"KANSAS"]
[null,"Definition","Name and address of the last known entity by whom the goods are sold or agreed to be sold.  If the goods are to be imported otherwise than in pursuance of a purchase, the name and address of the owner of the goods must be provided.",null,null,null,null,null,null,null,null,null,null,null,null,null,null,null,null,null,null,null,null,null,null,null,null,null,null,null,null,"KENTUCKY"]
[null,"Name:",null,null,null,null,"GOVERNMENT ID#",null,null,null,null,null,null,null,null,null,null,null,null,null,null,null,null,null,null,null,null,"Yes",null,null,null,"LOUISIANA"]
[null,null,null,null,null,null,null,null,null,null,null,null,null,null,null,null,null,null,null,null,null,null,null,null,null,null,null,"No",null,null,null,"MAINE"]
[null,"Address1:",null,null,null,null,null,null,null,null,null,null,null,null,null,null,null,null,null,null,null,null,null,null,null,null,null,null,null,null,null,"MARSHALL ISLANDS"]
[null,"Address2:",null,null,null,null,null,null,null,null,null,null,null,null,null,null,null,null,null,null,null,null,null,null,null,null,null,null,null,null,null,"MARYLAND"]
[null,"Address3:",null,null,null,null,null,null,null,null,null,null,null,null,null,null,null,null,null,null,null,null,null,null,null,null,null,null,null,null,null,"MASSACHUSETTS"]
[null,"City:",null,null,"State:",null,"Postal Code:",null,"Country:",null,null,null,null,null,null,null,null,null,null,null,null,null,null,null,null,null,null,null,null,null,null,"MICHIGAN"]
[null,null,null,null,null,null,null,null,null,null,null,null,null,null,null,null,null,null,null,null,null,null,null,null,null,null,null,null,null,null,null,"MINNESOTA"]
[null,"Buyer Name & Address or GOVERNMENT ID# ",null,null,null,null,null,null,null,null,null,null,null,null,null,null,null,null,null,null,null,null,null,null,null,null,null,null,null,null,null,"MISSISSIPPI"]
[null,"Definition","Name and address of the last known entity to whom the goods are sold or agreed to be sold.   If the goods are to be imported otherwise than in pursuance of a purchase, the name and address of the owner of the goods must be provided.   ",null,null,null,null,null,null,null,null,null,null,null,null,null,null,null,null,null,null,null,null,null,null,null,null,null,null,null,null,"MISSOURI"]
[null,"Name:",null,null,null,null,"GOVERNMENT ID#",null,null,null,null,null,null,null,null,null,null,null,null,null,null,null,null,null,null,null,null,null,null,null,null,"MONTANA"]
[null,null,null,null,null,null,null,null,null,null,null,null,null,null,null,null,null,null,null,null,null,null,null,null,null,null,null,null,null,null,null,"NEBRASKA"]
[null,"Address1:",null,null,null,null,null,null,null,null,null,null,null,null,null,null,null,null,null,null,null,null,null,null,null,null,null,null,null,null,null,"NEVADA"]
[null,"Address2:",null,null,null,null,null,null,null,null,null,null,null,null,null,null,null,null,null,null,null,null,null,null,null,null,null,null,null,null,null,"NEW HAMPSHIRE"]
[null,"Address3:",null,null,null,null,null,null,null,null,null,null,null,null,null,null,null,null,null,null,null,null,null,null,null,null,null,null,null,null,null,"NEW JERSEY"]
[null,"City:",null,null,"State:",null,"Postal Code:",null,"Country:",null,null,null,null,null,null,null,null,null,null,null,null,null,null,null,null,null,null,null,null,null,null,"NEW MEXICO"]
[null,null,null,null,null,null,null,null,null,null,null,null,null,null,null,null,null,null,null,null,null,null,null,null,null,null,null,null,null,null,null,"NEW YORK"]
[null,"Importer of Record Name or Number:",null,null,null,null,null,null,"Same as the Buyer?",null,null,null,null,null,null,null,null,null,null,null,null,null,null,null,null,null,null,null,null,null,null,"NORTH CAROLINA"]
[null,"Definition","Importer of record number/FTZ applicant identification number.   Internal Revenue Service (IRS) number, Employer Identification Number (EIN), Social Security Number (SSN), or CBP assigned number of the entity liable for payment of all duties and responsible for meeting all statutory and regulatory requirements incurred as a result of importation.  For goods intended to be delivered to a Foreign Trade Zone (FTZ), the IRS number, EIN, SSN, or CBP assigned number of the party filing the FTZ documentation with CBP must be provided.",null,null,null,null,null,null,null,null,null,null,null,null,null,null,null,null,null,null,null,null,null,null,null,null,null,null,null,null,"NORTH DAKOTA"]
[null,"Name:",{"$f":"IF(J35=\"Yes\", C28, \" \")","v":" "},null,null,null,"Number(if known):",null,null,null,null,null,null,null,null,null,null,null,null,null,null,null,null,null,null,null,null,null,null,null,null,"NORTHERN MARIANA ISLANDS"]
[null,null,null,null,null,null,null,null,null,null,null,null,null,null,null,null,null,null,null,null,null,null,null,null,null,null,null,null,null,null,null,"OHIO"]
[null,"Consignee Name or Number:",null,null,null,null,null,null,"Same as the Buyer?",null,null,null,null,null,null,null,null,null,null,null,null,null,null,null,null,null,null,null,null,null,null,"OKLAHOMA"]
[null,"Definition","Internal Revenue Service (IRS) number, Employer Identification Number (EIN), Social Security Number (SSN), or CBP assigned number of the individual(s) or firm(s) in the United States on whose account the merchandise is shipped.",null,null,null,null,null,null,null,null,null,null,null,null,null,null,null,null,null,null,null,null,null,null,null,null,null,null,null,null,"OREGON"]
[null,"Name:",{"$f":"IF(J39=\"YES\",C28,\"\")","v":""},null,null,null,"Number(if known):",null,null,null,null,null,null,null,null,null,null,null,null,null,null,null,null,null,null,null,null,null,null,null,null,"PALAU"]
[null,null,null,null,null,null,null,null,null,null,null,null,null,null,null,null,null,null,null,null,null,null,null,null,null,null,null,null,null,null,null,"PENNSYLVANIA"]
[null,"Ship To Name & Address or GOVERNMENT ID#",null,null,null,null,null,null,"Same as the Buyer?",null,null,null,null,null,null,null,null,null,null,null,null,null,null,null,null,null,null,null,null,null,null,"PUERTO RICO"]
[null,"Definition","Name and address of the first deliver-to party scheduled to physically receive the goods after the goods have been released from customs custody. ",null,null,null,null,null,null,null,null,null,null,null,null,null,null,null,null,null,null,null,null,null,null,null,null,null,null,null,null,"RHODE ISLAND"]
[null,"Name:",{"$f":"IF(J43=\"YES\",C28,\"\")","v":""},null,null,null,"GOVERNMENT ID#",null,null,null,null,null,null,null,null,null,null,null,null,null,null,null,null,null,null,null,null,null,null,null,null,"SOUTH CAROLINA"]
[null,null,null,null,null,null,null,null,null,null,null,null,null,null,null,null,null,null,null,null,null,null,null,null,null,null,null,null,null,null,null,"SOUTH DAKOTA"]
[null,"Address1:",{"$f":"IF($J$43=\"Yes\", IF(C30=0, \" \", C30), \" \")","v":" "},null,null,null,null,null,null,null,null,null,null,null,null,null,null,null,null,null,null,null,null,null,null,null,null,null,null,null,null,"TENNESSEE"]
[null,"Address2:",{"$f":"IF($J$43=\"Yes\", IF(C31=0, \" \", C31), \" \")","v":" "},null,null,null,null,null,null,null,null,null,null,null,null,null,null,null,null,null,null,null,null,null,null,null,null,null,null,null,null,"TEXAS"]
[null,"Address3:",{"$f":"IF($J$43=\"Yes\", IF(C32=0, \" \", C32), \" \")","v":" "},null,null,null,null,null,null,null,null,null,null,null,null,null,null,null,null,null,null,null,null,null,null,null,null,null,null,null,null,"UTAH"]
[null,"City:",{"$f":"IF($J$43=\"Yes\", IF(C33=0, \" \", C33), \" \")","v":" "},null,"State:",null,"Postal Code:",{"$f":"IF($J$43=\"Yes\", IF(H33=0, \" \", H33), \" \")","v":" "},"Country:",{"$f":"IF($J$43=\"Yes\", IF(J33=0, \" \", J33), \" \")","v":" "},null,null,null,null,null,null,null,null,null,null,null,null,null,null,null,null,null,null,null,null,null,"VERMONT"]
[null,null,null,null,null,null,null,null,null,null,null,null,null,null,null,null,null,null,null,null,null,null,null,null,null,null,null,null,null,null,null,"VIRGIN ISLANDS"]
[null,"Consolidator (Stuffer) Name & Address or GOVERNMENT ID#",null,null,null,null,null,null,"Same as the Seller?",null,null,null,null,null,null,null,null,null,null,null,null,null,null,null,null,null,null,null,null,null,null,"VIRGINIA"]
[null,"Definition","Name and address of the party who stuffed the container or arranged for the stuffing of the container.  For break bulk shipments, the name and address of the party who made the goods \"ship ready\" or the party who arranged for the goods to be made \"ship ready\" must be provided.",null,null,null,null,null,null,null,null,null,null,null,null,null,null,null,null,null,null,null,null,null,null,null,null,null,null,null,null,"WASHINGTON"]
[null,"Name:",null,null,null,null,"GOVERNMENT ID#",null,null,null,null,null,null,null,null,null,null,null,null,null,null,null,null,null,null,null,null,null,null,null,null,"WEST VIRGINIA"]
[null,null,null,null,null,null,null,null,null,null,null,null,null,null,null,null,null,null,null,null,null,null,null,null,null,null,null,null,null,null,null,"WISCONSIN"]
[null,"Address1:",null,null,null,null,null,null,null,null,null,null,null,null,null,null,null,null,null,null,null,null,null,null,null,null,null,null,null,null,null,"WYOMING"]
[null,"Address2:",null,null,null,null,null,null,null,null,null,null,null,null,null,null,null,null,null,null,null,null,null,null,null,null,null,null,null,null,null,"AL"]
[null,"Address3:",null,null,null,null,null,null,null,null,null,null,null,null,null,null,null,null,null,null,null,null,null,null,null,null,null,null,null,null,null,"AK"]
[null,"City:",null,null,"State:",null,"Postal Code:",null,"Country:",null,null,null,null,null,null,null,null,null,null,null,null,null,null,null,null,null,null,null,null,null,null,"AS"]
[null,null,null,null,null,null,null,null,null,null,null,null,null,null,null,null,null,null,null,null,null,null,null,null,null,null,null,null,null,null,null,"AZ"]
[null,"Container Stuffing Location Name & Address or GOVERNMENT ID#",null,null,null,null,null,null,"Same as the Seller?",null,null,null,null,null,null,null,null,null,null,null,null,null,null,null,null,null,null,null,null,null,null,"AR"]
[null,"Definition","Name and address(es) of the physical location(s) where the goods were stuffed into the container.   For break bulk shipments, the name and address(es) of the physical location(s) where the goods were made \"ship ready\" must be provided.",null,null,null,null,null,null,null,null,null,null,null,null,null,null,null,null,null,null,null,null,null,null,null,null,null,null,null,null,"CA"]
[null,"Name:",null,null,null,null,"GOVERNMENT ID#",{"$f":"IF($J$61=\"Yes\", IF(H19=0, \"\", H19), \"\")","v":""},null,null,null,null,null,null,null,null,null,null,null,null,null,null,null,null,null,null,null,null,null,null,null,"CO"]
[null,null,null,null,null,null,null,null,null,null,null,null,null,null,null,null,null,null,null,null,null,null,null,null,null,null,null,null,null,null,null,"CT"]
[null,"Address1:",null,null,null,null,null,null,null,null,null,null,null,null,null,null,null,null,null,null,null,null,null,null,null,null,null,null,null,null,null,"DE"]
[null,"Address2:",null,null,null,null,null,null,null,null,null,null,null,null,null,null,null,null,null,null,null,null,null,null,null,null,null,null,null,null,null,"DC"]
[null,"Address3:",null,null,null,null,null,null,null,null,null,null,null,null,null,null,null,null,null,null,null,null,null,null,null,null,null,null,null,null,null,"FM"]
[null,"City:",null,null,"State:",null,"Postal Code:",null,"Country:",null,null,null,null,null,null,null,null,null,null,null,null,null,null,null,null,null,null,null,null,null,null,"FL"]
[null,null,null,null,null,null,null,null,null,null,null,null,null,null,null,null,null,null,null,null,null,null,null,null,null,null,null,null,null,null,null,"IL"]
[null,"© 2014 Property of Expeditors International of Washington, Inc. and its subsidiaries. Business Confidential and Proprietary. Reproduction by written authorization only",null,null,null,null,null,null,null,null,null,null,null,null,null,null,null,null,null,null,null,null,null,null,null,null,null,null,null,null,null,"ME"]
[null,null,null,null,null,null,null,null,null,null,null,null,null,null,null,null,null,null,null,null,null,null,null,null,null,null,null,null,null,null,null,"MH"]
[null,null,null,null,null,null,null,null,null,null,null,null,null,null,null,null,null,null,null,null,null,null,null,null,null,null,null,null,null,null,null,"MD"]
[null,null,null,null,null,null,null,null,null,null,null,null,null,null,null,null,null,null,null,null,null,null,null,null,null,null,null,null,null,null,null,"MA"]
[null,null,null,null,null,null,null,null,null,null,null,null,null,null,null,null,null,null,null,null,null,null,null,null,null,null,null,null,null,null,null,"MI"]
[null,null,null,null,null,null,null,null,null,null,null,null,null,null,null,null,null,null,null,null,null,null,null,null,null,null,null,null,null,null,null,"MN"]
[null,null,null,null,null,null,null,null,null,null,null,null,null,null,null,null,null,null,null,null,null,null,null,null,null,null,null,null,null,null,null,"MS"]
[null,null,null,null,null,null,null,null,null,null,null,null,null,null,null,null,null,null,null,null,null,null,null,null,null,null,null,null,null,null,null,"MO"]
[null,null,null,null,null,null,null,null,null,null,null,null,null,null,null,null,null,null,null,null,null,null,null,null,null,null,null,null,null,null,null,"MT"]
[null,null,null,null,null,null,null,null,null,null,null,null,null,null,null,null,null,null,null,null,null,null,null,null,null,null,null,null,null,null,null,"NE"]
[null,null,null,null,null,null,null,null,null,null,null,null,null,null,null,null,null,null,null,null,null,null,null,null,null,null,null,null,null,null,null,"NV"]
[null,null,null,null,null,null,null,null,null,null,null,null,null,null,null,null,null,null,null,null,null,null,null,null,null,null,null,null,null,null,null,"NH"]
[null,null,null,null,null,null,null,null,null,null,null,null,null,null,null,null,null,null,null,null,null,null,null,null,null,null,null,null,null,null,null,"NJ"]
[null,null,null,null,null,null,null,null,null,null,null,null,null,null,null,null,null,null,null,null,null,null,null,null,null,null,null,null,null,null,null,"NM"]
[null,null,null,null,null,null,null,null,null,null,null,null,null,null,null,null,null,null,null,null,null,null,null,null,null,null,null,null,null,null,null,"NY"]
[null,null,null,null,null,null,null,null,null,null,null,null,null,null,null,null,null,null,null,null,null,null,null,null,null,null,null,null,null,null,null,"NC"]
[null,null,null,null,null,null,null,null,null,null,null,null,null,null,null,null,null,null,null,null,null,null,null,null,null,null,null,null,null,null,null,"ND"]
[null,null,null,null,null,null,null,null,null,null,null,null,null,null,null,null,null,null,null,null,null,null,null,null,null,null,null,null,null,null,null,"MP"]
[null,null,null,null,null,null,null,null,null,null,null,null,null,null,null,null,null,null,null,null,null,null,null,null,null,null,null,null,null,null,null,"OH"]
[null,null,null,null,null,null,null,null,null,null,null,null,null,null,null,null,null,null,null,null,null,null,null,null,null,null,null,null,null,null,null,"OK"]
[null,null,null,null,null,null,null,null,null,null,null,null,null,null,null,null,null,null,null,null,null,null,null,null,null,null,null,null,null,null,null,"OR"]
[null,null,null,null,null,null,null,null,null,null,null,null,null,null,null,null,null,null,null,null,null,null,null,null,null,null,null,null,null,null,null,"PW"]
[null,null,null,null,null,null,null,null,null,null,null,null,null,null,null,null,null,null,null,null,null,null,null,null,null,null,null,null,null,null,null,"PA"]
[null,null,null,null,null,null,null,null,null,null,null,null,null,null,null,null,null,null,null,null,null,null,null,null,null,null,null,null,null,null,null,"PR"]
[null,null,null,null,null,null,null,null,null,null,null,null,null,null,null,null,null,null,null,null,null,null,null,null,null,null,null,null,null,null,null,"RI"]
[null,null,null,null,null,null,null,null,null,null,null,null,null,null,null,null,null,null,null,null,null,null,null,null,null,null,null,null,null,null,null,"SC"]
[null,null,null,null,null,null,null,null,null,null,null,null,null,null,null,null,null,null,null,null,null,null,null,null,null,null,null,null,null,null,null,"SD"]
[null,null,null,null,null,null,null,null,null,null,null,null,null,null,null,null,null,null,null,null,null,null,null,null,null,null,null,null,null,null,null,"TN"]
[null,null,null,null,null,null,null,null,null,null,null,null,null,null,null,null,null,null,null,null,null,null,null,null,null,null,null,null,null,null,null,"TX"]
[null,null,null,null,null,null,null,null,null,null,null,null,null,null,null,null,null,null,null,null,null,null,null,null,null,null,null,null,null,null,null,"UT"]
[null,null,null,null,null,null,null,null,null,null,null,null,null,null,null,null,null,null,null,null,null,null,null,null,null,null,null,null,null,null,null,"VT"]
[null,null,null,null,null,null,null,null,null,null,null,null,null,null,null,null,null,null,null,null,null,null,null,null,null,null,null,null,null,null,null,"VI"]
[null,null,null,null,null,null,null,null,null,null,null,null,null,null,null,null,null,null,null,null,null,null,null,null,null,null,null,null,null,null,null,"VA"]
[null,null,null,null,null,null,null,null,null,null,null,null,null,null,null,null,null,null,null,null,null,null,null,null,null,null,null,null,null,null,null,"WA"]
[null,null,null,null,null,null,null,null,null,null,null,null,null,null,null,null,null,null,null,null,null,null,null,null,null,null,null,null,null,null,null,"WV"]
[null,null,null,null,null,null,null,null,null,null,null,null,null,null,null,null,null,null,null,null,null,null,null,null,null,null,null,null,null,null,null,"WI"]
[null,null,null,null,null,null,null,null,null,null,null,null,null,null,null,null,null,null,null,null,null,null,null,null,null,null,null,null,null,null,null,"WY"]
[null,null,null,null,null,null,null,null,null,null,null,null,null,null,null,null,null,null,null,null,null,null,null,null,null,null,null,null,null,null,null,"GA"]

{"sheet":"Item Entry","index":1,"n_rows":122,"n_cols":13,"rows_kept":122,"cut":false,"hidden":false,"merged":[[118,8,118,9],[119,5,119,6],[119,8,119,9],[117,5,117,6],[117,8,117,9],[109,8,109,9],[110,5,110,6],[110,8,110,9],[108,8,108,9],[111,5,111,6],[115,8,115,9],[116,5,116,6],[116,8,116,9],[112,8,112,9],[113,5,113,6],[113,8,113,9],[114,5,114,6],[114,8,114,9],[105,8,105,9],[111,8,111,9],[106,8,106,9],[107,5,107,6],[107,8,107,9],[108,5,108,6],[88,8,88,9],[89,5,89,6],[89,8,89,9],[93,8,93,9],[94,8,94,9],[95,5,95,6],[95,8,95,9],[91,5,91,6],[91,8,91,9],[92,5,92,6],[99,8,99,9],[100,8,100,9],[101,5,101,6],[101,8,101,9],[97,8,97,9],[98,5,98,6],[98,8,98,9],[96,5,96,6],[47,8,47,9],[51,8,51,9],[52,8,52,9],[53,5,53,6],[53,8,53,9],[50,5,50,6],[50,8,50,9],[49,8,49,9],[48,5,48,6],[48,8,48,9],[47,5,47,6],[49,5,49,6],[34,8,34,9],[31,8,31,9],[32,5,32,6],[32,8,32,9],[33,5,33,6],[30,8,30,9],[34,5,34,6],[9,2,9,10],[11,2,11,10],[31,5,31,6],[28,5,28,6],[25,5,25,6],[27,5,27,6],[30,5,30,6],[27,8,27,9],[28,8,28,9],[29,5,29,6],[29,8,29,9],[33,8,33,9],[14,2,14,6],[5,1,5,10],[7,2,7,10],[25,8,25,9],[26,5,26,6],[26,8,26,9],[16,2,16,10],[17,2,17,10],[18,2,18,10],[19,2,19,3],[21,8,21,9],[21,5,21,6],[24,5,24,6],[24,8,24,9],[22,5,22,6],[23,5,23,6],[22,8,22,9],[23,8,23,9],[14,8,14,10],[37,8,37,9],[38,5,38,6],[38,8,38,9],[36,5,36,6],[36,8,36,9],[35,5,35,6],[35,8,35,9],[40,5,40,6],[39,5,39,6],[37,5,37,6],[42,5,42,6],[42,8,42,9],[39,8,39,9],[40,8,40,9],[41,5,41,6],[41,8,41,9],[45,8,45,9],[46,8,46,9],[45,5,45,6],[46,5,46,6],[43,5,43,6],[43,8,43,9],[44,5,44,6],[44,8,44,9],[56,8,56,9],[54,5,54,6],[54,8,54,9],[52,5,52,6],[51,5,51,6],[55,5,55,6],[55,8,55,9],[58,5,58,6],[57,5,57,6],[56,5,56,6],[62,8,62,9],[60,5,60,6],[60,8,60,9],[57,8,57,9],[58,8,58,9],[59,5,59,6],[59,8,59,9],[61,5,61,6],[61,8,61,9],[62,5,62,6],[64,5,64,6],[63,5,63,6],[67,5,67,6],[67,8,67,9],[68,5,68,6],[68,8,68,9],[66,5,66,6],[66,8,66,9],[63,8,63,9],[64,8,64,9],[65,5,65,6],[65,8,65,9],[70,5,70,6],[69,5,69,6],[79,8,79,9],[78,5,78,6],[78,8,78,9],[72,5,72,6],[72,8,72,9],[69,8,69,9],[70,8,70,9],[71,5,71,6],[71,8,71,9],[75,8,75,9],[76,8,76,9],[73,5,73,6],[73,8,73,9],[75,5,75,6],[77,5,77,6],[79,5,79,6],[76,5,76,6],[96,8,96,9],[81,5,81,6],[74,5,74,6],[74,8,74,9],[77,8,77,9],[81,8,81,9],[82,8,82,9],[83,5,83,6],[88,5,88,6],[87,5,87,6],[86,5,86,6],[80,5,80,6],[80,8,80,9],[85,5,85,6],[85,8,85,9],[86,8,86,9],[84,5,84,6],[84,8,84,9],[82,5,82,6],[83,8,83,9],[1,1,1,10],[2,1,2,10],[109,5,109,6],[121,1,121,10],[118,5,118,6],[115,5,115,6],[106,5,106,6],[105,5,105,6],[112,5,112,6],[100,5,100,6],[99,5,99,6],[103,5,103,6],[103,8,103,9],[104,5,104,6],[104,8,104,9],[102,5,102,6],[102,8,102,9],[92,8,92,9],[90,5,90,6],[90,8,90,9],[87,8,87,9],[94,5,94,6],[93,5,93,6],[97,5,97,6]]}
[]
[null,"U.S. IMPORTER SECURITY FILING SUBMISSION FORM"]
[null,"For all ocean bound cargo to the United States"]
[]
[]
[null,"Each Item Requires Manufacture Name & Address/ Country of Origin/ Commodity HTSUS Number"]
[null,"Manufacturer Name & Address"]
[null,"Definition","Name and address of the entity that last manufactures, assembles, produces, or grows the commodity or name and address of the party supplying the finished goods in the country from which the goods are leaving.  In the alternative the name and address of the manufacturer (or supplier) that is currently required by the import laws, rules and regulations of the United States (i.e., entry procedures) may be provided (this is the information that is used to create the existing manufacture (MID) number for entry purposes). "]
[null,"Country of Origin",null,null,null,null,null,null,null,null,"Must be a valid 2 letter country code"]
[null,"Definition","Country of manufacture, production, or growth of the article, based upon the import laws, rules and regulations of the United States."]
[null,"Commodity HTSUS Number",null,null,null,null,null,null,null,null,"Must be 6 - 10 digits; periods are optional"]
[null,"Definition","Duty/statistical reporting number under which the article is classified in the Harmonized Tariff Schedule of the United States (HTSUS).  The HTSUS number must be provided to the six-digit level.  The HTSUS number may be provided up to the 10-digit level."]
[]
[null,"Manufacturer",null,null,null,null,null,null,null,"Same as the Seller?"]
[null,"Name:",{"$f":"IF($K$14=\"Yes\", IF('Header Entry'!$C$19=0, \"\", 'Header Entry'!$C$19), \"\")","v":""},null,null,null,null,"GOV'T ID #",{"$f":"IF($K$14=\"Yes\", IF('Header Entry'!$H$19=0, \"\", 'Header Entry'!$H$19), \"\")","v":""}]
[]
[null,"Address1:"]
[null,"Address2:",{"$f":"IF($K$14=\"Yes\", IF('Header Entry'!$C$22=0, \"\", 'Header Entry'!$C$22), \"\")","v":""}]
[null,"Address3:",{"$f":"IF($K$14=\"Yes\", IF('Header Entry'!$C$23=0, \"\", 'Header Entry'!$C$23), \"\")","v":""}]
[null,"City:",{"$f":"IF($K$14=\"Yes\", IF('Header Entry'!C24=0, \" \", 'Header Entry'!C24), \" \")","v":" "},null,null,"State:",null,"Postal Code:",{"$f":"IF($K$14=\"Yes\", IF('Header Entry'!H24=0, \" \", 'Header Entry'!H24), \" \")","v":" "},"Country:",{"$f":"IF($K$14=\"Yes\", IF('Header Entry'!J24=0, \" \", 'Header Entry'!J24), \" \")","v":" "}]
[]
[null,null,null,"Item Number","HTS","Desciption",null,"C/O","P.O. Number",null,null,null,"Yes"]
[null,null,null,null,null,null,null,null,null,null,null,null,"No"]
[]
[]
[]
[]
[]
[]
[]
[]
[]
[]
[]
[]
[]
[]
[]
[]
[]
[]
[]
[]
[]
[]
[]
[]
[]
[]
[]
[]
[]
[]
[]
[]
[]
[]
[]
[]
[]
[]
[]
[]
[]
[]
[]
[]
[]
[]
[]
[]
[]
[]
[]
[]
[]
[]
[]
[]
[]
[]
[]
[]
[]
[]
[]
[]
[]
[]
[]
[]
[]
[]
[]
[]
[]
[]
[]
[]
[]
[]
[]
[]
[]
[]
[]
[]
[]
[]
[]
[]
[]
[]
[]
[]
[]
[]
[]
[]
[]
[]
[null,"© 2014 Property of Expeditors International of Washington, Inc. and its subsidiaries. Business Confidential and Proprietary. Reproduction by written authorization only"]

{"sheet":"Associates CSV","index":2,"n_rows":8,"n_cols":14,"rows_kept":8,"cut":false,"hidden":true,"merged":[]}
["Associate Type","Name","Address1","Address2","Address3","Address4","Address5","Address6","Country","City","State","Postal","Number Type","Number"]
["SELLER",{"$f":"IF('Header Entry'!$C$19=0,\"\", 'Header Entry'!$C$19)","v":""},{"$f":"IF('Header Entry'!$C$21=0,\"\", 'Header Entry'!$C$21)","v":""},{"$f":"IF('Header Entry'!$C$22=0,\"\", 'Header Entry'!$C$22)","v":""},{"$f":"IF('Header Entry'!$C$23=0,\"\", 'Header Entry'!$C$23)","v":""},null,null,null,{"$f":"IF('Header Entry'!$J$24=0,\"\", 'Header Entry'!$J$24)","v":""},{"$f":"IF('Header Entry'!$C$24=0,\"\", 'Header Entry'!$C$24)","v":""},{"$f":"IF('Header Entry'!$F$24=0,\"\", 'Header Entry'!$F$24)","v":""},{"$f":"IF('Header Entry'!$H$24=0,\"\", 'Header Entry'!$H$24)","v":""},{"$f":"IF('Header Entry'!H19=\"\",\"\",\"DUNS#\")","v":""},{"$f":"IF('Header Entry'!$H$19=0,\"\", 'Header Entry'!$H$19)","v":""}]
["BUYER",{"$f":"IF('Header Entry'!$C$28=0,\"\", 'Header Entry'!$C$28)","v":""},{"$f":"IF('Header Entry'!$C$30=0,\"\", 'Header Entry'!$C$30)","v":""},{"$f":"IF('Header Entry'!$C$31=0,\"\", 'Header Entry'!$C$31)","v":""},{"$f":"IF('Header Entry'!$C$32=0,\"\", 'Header Entry'!$C$32)","v":""},null,null,null,{"$f":"IF('Header Entry'!$J$33=0,\"\", 'Header Entry'!$J$33)","v":""},{"$f":"IF('Header Entry'!$C$33=0,\"\", 'Header Entry'!$C$33)","v":""},{"$f":"IF('Header Entry'!$F$33=0,\"\", 'Header Entry'!$F$33)","v":""},{"$f":"IF('Header Entry'!$H$33=0,\"\", 'Header Entry'!$H$33)","v":""},{"$f":"IF('Header Entry'!H28=\"\",\"\",\"DUNS#\")","v":""},{"$f":"IF('Header Entry'!$H$28=0,\"\", 'Header Entry'!$H$28)","v":""}]
["SHIP_TO",{"$f":"IF('Header Entry'!$C$45=0,\"\", 'Header Entry'!$C$45)","v":""},{"$f":"IF('Header Entry'!$C$47=0,\"\", 'Header Entry'!$C$47)","v":" "},{"$f":"IF('Header Entry'!$C$48=0,\"\", 'Header Entry'!$C$48)","v":" "},{"$f":"IF('Header Entry'!$C$49=0,\"\", 'Header Entry'!$C$49)","v":" "},null,null,null,{"$f":"IF('Header Entry'!$J$50=0,\"\", 'Header Entry'!$J$50)","v":" "},{"$f":"IF('Header Entry'!$C$50=0,\"\", 'Header Entry'!$C$50)","v":" "},{"$f":"IF('Header Entry'!$F$50=0,\"\", 'Header Entry'!$F$50)","v":""},{"$f":"IF('Header Entry'!$H$50=0,\"\", 'Header Entry'!$H$50)","v":" "},{"$f":"IF('Header Entry'!H45=\"\",\"\",\"DUNS#\")","v":""},{"$f":"IF('Header Entry'!$H$45=0,\"\", 'Header Entry'!$H$45)","v":""}]
["CONSIGNEE",{"$f":"IF('Header Entry'!$C$41=0,\"\", 'Header Entry'!$C$41)","v":""},null,null,null,null,null,null,null,null,null,null,{"$f":"IF('Header Entry'!$H$41=0,\"\", 'Header Entry'!$H$41)","v":""},{"$f":"IF('Header Entry'!$I$41=0,\"\", 'Header Entry'!$I$41)","v":""}]
["CONSOLIDATOR",{"$f":"IF('Header Entry'!$C$54=0,\"\", 'Header Entry'!$C$54)","v":""},{"$f":"IF('Header Entry'!$C$56=0,\"\", 'Header Entry'!$C$56)","v":""},{"$f":"IF('Header Entry'!$C$57=0,\"\", 'Header Entry'!$C$57)","v":""},{"$f":"IF('Header Entry'!$C$58=0,\"\", 'Header Entry'!$C$58)","v":""},null,null,null,{"$f":"IF('Header Entry'!$J$59=0,\"\", 'Header Entry'!$J$59)","v":""},{"$f":"IF('Header Entry'!$C$59=0,\"\", 'Header Entry'!$C$59)","v":""},{"$f":"IF('Header Entry'!$F$59=0,\"\", 'Header Entry'!$F$59)","v":""},{"$f":"IF('Header Entry'!$H$59=0,\"\", 'Header Entry'!$H$59)","v":""},{"$f":"IF('Header Entry'!H54=\"\",\"\",\"DUNS#\")","v":""},{"$f":"IF('Header Entry'!$H$54=0,\"\", 'Header Entry'!$H$54)","v":""}]
["STUFFING_LOCATION",{"$f":"IF('Header Entry'!$C$63=0,\"\", 'Header Entry'!$C$63)","v":""},{"$f":"IF('Header Entry'!$C$65=0,\"\", 'Header Entry'!$C$65)","v":""},{"$f":"IF('Header Entry'!$C$66=0,\"\", 'Header Entry'!$C$66)","v":""},{"$f":"IF('Header Entry'!$C$67=0,\"\", 'Header Entry'!$C$67)","v":""},null,null,null,{"$f":"IF('Header Entry'!$J$68=0,\"\", 'Header Entry'!$J$68)","v":""},{"$f":"IF('Header Entry'!$C$68=0,\"\", 'Header Entry'!$C$68)","v":""},{"$f":"IF('Header Entry'!$F$68=0,\"\", 'Header Entry'!$F$68)","v":""},{"$f":"IF('Header Entry'!$H$68=0,\"\", 'Header Entry'!$H$68)","v":""},{"$f":"IF('Header Entry'!H63=\"\",\"\",\"DUNS#\")","v":""},{"$f":"IF('Header Entry'!$H$63=0,\"\", 'Header Entry'!$H$63)","v":""}]
["MANUFACTURER",{"$f":"IF('Item Entry'!$C$15=0,\"\", 'Item Entry'!$C$15)","v":""},{"$f":"IF('Item Entry'!$C$17=0,\"\", 'Item Entry'!$C$17)","v":""},{"$f":"IF('Item Entry'!$C$18=0,\"\", 'Item Entry'!$C$18)","v":""},{"$f":"IF('Item Entry'!$C$19=0,\"\", 'Item Entry'!$C$19)","v":""},null,null,null,{"$f":"IF('Item Entry'!$K$20=0,\"\", 'Item Entry'!$K$20)","v":" "},{"$f":"IF('Item Entry'!$C$20=0,\"\", 'Item Entry'!$C$20)","v":" "},{"$f":"IF('Item Entry'!$G$20=0,\"\", 'Item Entry'!$G$20)","v":""},{"$f":"IF('Item Entry'!$I$20=0,\"\", 'Item Entry'!$I$20)","v":" "},{"$f":"IF('Item Entry'!I15=\"\",\"\",\"DUNS#\")","v":""},{"$f":"IF('Item Entry'!$I$15=0,\"\", 'Item Entry'!$I$15)","v":""}]

{"sheet":"Lines CSV","index":3,"n_rows":99,"n_cols":6,"rows_kept":99,"cut":false,"hidden":true,"merged":[]}
["Manufacturer Name","Item Number ","Description ","HS Tariff","Country of Origin","PO Number "]
[{"$f":"IF(AND(B2=\"\", D2=\"\", E2=\"\", F2=\"\"), \"\", 'Associates CSV'!$B$8)","v":""},{"$f":"IF('Item Entry'!B23=\"\", \"\", 'Item Entry'!B23)","v":""},null,{"$f":"IF('Item Entry'!F23=\"\", \"\", 'Item Entry'!F23)","v":""},{"$f":"IF('Item Entry'!H23=\"\", \"\", 'Item Entry'!H23)","v":""},{"$f":"IF('Item Entry'!I23=\"\", \"\", 'Item Entry'!I23)","v":""}]
[{"$f":"IF(AND(B3=\"\", D3=\"\", E3=\"\", F3=\"\"), \"\", 'Associates CSV'!$B$8)","v":""},{"$f":"IF('Item Entry'!B24=\"\", \"\", 'Item Entry'!B24)","v":""},null,{"$f":"IF('Item Entry'!F24=\"\", \"\", 'Item Entry'!F24)","v":""},{"$f":"IF('Item Entry'!H24=\"\", \"\", 'Item Entry'!H24)","v":""},{"$f":"IF('Item Entry'!I24=\"\", \"\", 'Item Entry'!I24)","v":""}]
[{"$f":"IF(AND(B4=\"\", D4=\"\", E4=\"\", F4=\"\"), \"\", 'Associates CSV'!$B$8)","v":""},{"$f":"IF('Item Entry'!B25=\"\", \"\", 'Item Entry'!B25)","v":""},null,{"$f":"IF('Item Entry'!F25=\"\", \"\", 'Item Entry'!F25)","v":""},{"$f":"IF('Item Entry'!H25=\"\", \"\", 'Item Entry'!H25)","v":""},{"$f":"IF('Item Entry'!I25=\"\", \"\", 'Item Entry'!I25)","v":""}]
[{"$f":"IF(AND(B5=\"\", D5=\"\", E5=\"\", F5=\"\"), \"\", 'Associates CSV'!$B$8)","v":""},{"$f":"IF('Item Entry'!B26=\"\", \"\", 'Item Entry'!B26)","v":""},null,{"$f":"IF('Item Entry'!F26=\"\", \"\", 'Item Entry'!F26)","v":""},{"$f":"IF('Item Entry'!H26=\"\", \"\", 'Item Entry'!H26)","v":""},{"$f":"IF('Item Entry'!I26=\"\", \"\", 'Item Entry'!I26)","v":""}]
[{"$f":"IF(AND(B6=\"\", D6=\"\", E6=\"\", F6=\"\"), \"\", 'Associates CSV'!$B$8)","v":""},{"$f":"IF('Item Entry'!B27=\"\", \"\", 'Item Entry'!B27)","v":""},null,{"$f":"IF('Item Entry'!F27=\"\", \"\", 'Item Entry'!F27)","v":""},{"$f":"IF('Item Entry'!H27=\"\", \"\", 'Item Entry'!H27)","v":""},{"$f":"IF('Item Entry'!I27=\"\", \"\", 'Item Entry'!I27)","v":""}]
[{"$f":"IF(AND(B7=\"\", D7=\"\", E7=\"\", F7=\"\"), \"\", 'Associates CSV'!$B$8)","v":""},{"$f":"IF('Item Entry'!B28=\"\", \"\", 'Item Entry'!B28)","v":""},null,{"$f":"IF('Item Entry'!F28=\"\", \"\", 'Item Entry'!F28)","v":""},{"$f":"IF('Item Entry'!H28=\"\", \"\", 'Item Entry'!H28)","v":""},{"$f":"IF('Item Entry'!I28=\"\", \"\", 'Item Entry'!I28)","v":""}]
[{"$f":"IF(AND(B8=\"\", D8=\"\", E8=\"\", F8=\"\"), \"\", 'Associates CSV'!$B$8)","v":""},{"$f":"IF('Item Entry'!B29=\"\", \"\", 'Item Entry'!B29)","v":""},null,{"$f":"IF('Item Entry'!F29=\"\", \"\", 'Item Entry'!F29)","v":""},{"$f":"IF('Item Entry'!H29=\"\", \"\", 'Item Entry'!H29)","v":""},{"$f":"IF('Item Entry'!I29=\"\", \"\", 'Item Entry'!I29)","v":""}]
[{"$f":"IF(AND(B9=\"\", D9=\"\", E9=\"\", F9=\"\"), \"\", 'Associates CSV'!$B$8)","v":""},{"$f":"IF('Item Entry'!B30=\"\", \"\", 'Item Entry'!B30)","v":""},null,{"$f":"IF('Item Entry'!F30=\"\", \"\", 'Item Entry'!F30)","v":""},{"$f":"IF('Item Entry'!H30=\"\", \"\", 'Item Entry'!H30)","v":""},{"$f":"IF('Item Entry'!I30=\"\", \"\", 'Item Entry'!I30)","v":""}]
[{"$f":"IF(AND(B10=\"\", D10=\"\", E10=\"\", F10=\"\"), \"\", 'Associates CSV'!$B$8)","v":""},{"$f":"IF('Item Entry'!B31=\"\", \"\", 'Item Entry'!B31)","v":""},null,{"$f":"IF('Item Entry'!F31=\"\", \"\", 'Item Entry'!F31)","v":""},{"$f":"IF('Item Entry'!H31=\"\", \"\", 'Item Entry'!H31)","v":""},{"$f":"IF('Item Entry'!I31=\"\", \"\", 'Item Entry'!I31)","v":""}]
[{"$f":"IF(AND(B11=\"\", D11=\"\", E11=\"\", F11=\"\"), \"\", 'Associates CSV'!$B$8)","v":""},{"$f":"IF('Item Entry'!B32=\"\", \"\", 'Item Entry'!B32)","v":""},null,{"$f":"IF('Item Entry'!F32=\"\", \"\", 'Item Entry'!F32)","v":""},{"$f":"IF('Item Entry'!H32=\"\", \"\", 'Item Entry'!H32)","v":""},{"$f":"IF('Item Entry'!I32=\"\", \"\", 'Item Entry'!I32)","v":""}]
[{"$f":"IF(AND(B12=\"\", D12=\"\", E12=\"\", F12=\"\"), \"\", 'Associates CSV'!$B$8)","v":""},{"$f":"IF('Item Entry'!B33=\"\", \"\", 'Item Entry'!B33)","v":""},null,{"$f":"IF('Item Entry'!F33=\"\", \"\", 'Item Entry'!F33)","v":""},{"$f":"IF('Item Entry'!H33=\"\", \"\", 'Item Entry'!H33)","v":""},{"$f":"IF('Item Entry'!I33=\"\", \"\", 'Item Entry'!I33)","v":""}]
[{"$f":"IF(AND(B13=\"\", D13=\"\", E13=\"\", F13=\"\"), \"\", 'Associates CSV'!$B$8)","v":""},{"$f":"IF('Item Entry'!B34=\"\", \"\", 'Item Entry'!B34)","v":""},null,{"$f":"IF('Item Entry'!F34=\"\", \"\", 'Item Entry'!F34)","v":""},{"$f":"IF('Item Entry'!H34=\"\", \"\", 'Item Entry'!H34)","v":""},{"$f":"IF('Item Entry'!I34=\"\", \"\", 'Item Entry'!I34)","v":""}]
[{"$f":"IF(AND(B14=\"\", D14=\"\", E14=\"\", F14=\"\"), \"\", 'Associates CSV'!$B$8)","v":""},{"$f":"IF('Item Entry'!B35=\"\", \"\", 'Item Entry'!B35)","v":""},null,{"$f":"IF('Item Entry'!F35=\"\", \"\", 'Item Entry'!F35)","v":""},{"$f":"IF('Item Entry'!H35=\"\", \"\", 'Item Entry'!H35)","v":""},{"$f":"IF('Item Entry'!I35=\"\", \"\", 'Item Entry'!I35)","v":""}]
[{"$f":"IF(AND(B15=\"\", D15=\"\", E15=\"\", F15=\"\"), \"\", 'Associates CSV'!$B$8)","v":""},{"$f":"IF('Item Entry'!B36=\"\", \"\", 'Item Entry'!B36)","v":""},null,{"$f":"IF('Item Entry'!F36=\"\", \"\", 'Item Entry'!F36)","v":""},{"$f":"IF('Item Entry'!H36=\"\", \"\", 'Item Entry'!H36)","v":""},{"$f":"IF('Item Entry'!I36=\"\", \"\", 'Item Entry'!I36)","v":""}]
[{"$f":"IF(AND(B16=\"\", D16=\"\", E16=\"\", F16=\"\"), \"\", 'Associates CSV'!$B$8)","v":""},{"$f":"IF('Item Entry'!B37=\"\", \"\", 'Item Entry'!B37)","v":""},null,{"$f":"IF('Item Entry'!F37=\"\", \"\", 'Item Entry'!F37)","v":""},{"$f":"IF('Item Entry'!H37=\"\", \"\", 'Item Entry'!H37)","v":""},{"$f":"IF('Item Entry'!I37=\"\", \"\", 'Item Entry'!I37)","v":""}]
[{"$f":"IF(AND(B17=\"\", D17=\"\", E17=\"\", F17=\"\"), \"\", 'Associates CSV'!$B$8)","v":""},{"$f":"IF('Item Entry'!B38=\"\", \"\", 'Item Entry'!B38)","v":""},null,{"$f":"IF('Item Entry'!F38=\"\", \"\", 'Item Entry'!F38)","v":""},{"$f":"IF('Item Entry'!H38=\"\", \"\", 'Item Entry'!H38)","v":""},{"$f":"IF('Item Entry'!I38=\"\", \"\", 'Item Entry'!I38)","v":""}]
[{"$f":"IF(AND(B18=\"\", D18=\"\", E18=\"\", F18=\"\"), \"\", 'Associates CSV'!$B$8)","v":""},{"$f":"IF('Item Entry'!B39=\"\", \"\", 'Item Entry'!B39)","v":""},null,{"$f":"IF('Item Entry'!F39=\"\", \"\", 'Item Entry'!F39)","v":""},{"$f":"IF('Item Entry'!H39=\"\", \"\", 'Item Entry'!H39)","v":""},{"$f":"IF('Item Entry'!I39=\"\", \"\", 'Item Entry'!I39)","v":""}]
[{"$f":"IF(AND(B19=\"\", D19=\"\", E19=\"\", F19=\"\"), \"\", 'Associates CSV'!$B$8)","v":""},{"$f":"IF('Item Entry'!B40=\"\", \"\", 'Item Entry'!B40)","v":""},null,{"$f":"IF('Item Entry'!F40=\"\", \"\", 'Item Entry'!F40)","v":""},{"$f":"IF('Item Entry'!H40=\"\", \"\", 'Item Entry'!H40)","v":""},{"$f":"IF('Item Entry'!I40=\"\", \"\", 'Item Entry'!I40)","v":""}]
[{"$f":"IF(AND(B20=\"\", D20=\"\", E20=\"\", F20=\"\"), \"\", 'Associates CSV'!$B$8)","v":""},{"$f":"IF('Item Entry'!B41=\"\", \"\", 'Item Entry'!B41)","v":""},null,{"$f":"IF('Item Entry'!F41=\"\", \"\", 'Item Entry'!F41)","v":""},{"$f":"IF('Item Entry'!H41=\"\", \"\", 'Item Entry'!H41)","v":""},{"$f":"IF('Item Entry'!I41=\"\", \"\", 'Item Entry'!I41)","v":""}]
[{"$f":"IF(AND(B21=\"\", D21=\"\", E21=\"\", F21=\"\"), \"\", 'Associates CSV'!$B$8)","v":""},{"$f":"IF('Item Entry'!B42=\"\", \"\", 'Item Entry'!B42)","v":""},null,{"$f":"IF('Item Entry'!F42=\"\", \"\", 'Item Entry'!F42)","v":""},{"$f":"IF('Item Entry'!H42=\"\", \"\", 'Item Entry'!H42)","v":""},{"$f":"IF('Item Entry'!I42=\"\", \"\", 'Item Entry'!I42)","v":""}]
[{"$f":"IF(AND(B22=\"\", D22=\"\", E22=\"\", F22=\"\"), \"\", 'Associates CSV'!$B$8)","v":""},{"$f":"IF('Item Entry'!B43=\"\", \"\", 'Item Entry'!B43)","v":""},null,{"$f":"IF('Item Entry'!F43=\"\", \"\", 'Item Entry'!F43)","v":""},{"$f":"IF('Item Entry'!H43=\"\", \"\", 'Item Entry'!H43)","v":""},{"$f":"IF('Item Entry'!I43=\"\", \"\", 'Item Entry'!I43)","v":""}]
[{"$f":"IF(AND(B23=\"\", D23=\"\", E23=\"\", F23=\"\"), \"\", 'Associates CSV'!$B$8)","v":""},{"$f":"IF('Item Entry'!B44=\"\", \"\", 'Item Entry'!B44)","v":""},null,{"$f":"IF('Item Entry'!F44=\"\", \"\", 'Item Entry'!F44)","v":""},{"$f":"IF('Item Entry'!H44=\"\", \"\", 'Item Entry'!H44)","v":""},{"$f":"IF('Item Entry'!I44=\"\", \"\", 'Item Entry'!I44)","v":""}]
[{"$f":"IF(AND(B24=\"\", D24=\"\", E24=\"\", F24=\"\"), \"\", 'Associates CSV'!$B$8)","v":""},{"$f":"IF('Item Entry'!B45=\"\", \"\", 'Item Entry'!B45)","v":""},null,{"$f":"IF('Item Entry'!F45=\"\", \"\", 'Item Entry'!F45)","v":""},{"$f":"IF('Item Entry'!H45=\"\", \"\", 'Item Entry'!H45)","v":""},{"$f":"IF('Item Entry'!I45=\"\", \"\", 'Item Entry'!I45)","v":""}]
[{"$f":"IF(AND(B25=\"\", D25=\"\", E25=\"\", F25=\"\"), \"\", 'Associates CSV'!$B$8)","v":""},{"$f":"IF('Item Entry'!B46=\"\", \"\", 'Item Entry'!B46)","v":""},null,{"$f":"IF('Item Entry'!F46=\"\", \"\", 'Item Entry'!F46)","v":""},{"$f":"IF('Item Entry'!H46=\"\", \"\", 'Item Entry'!H46)","v":""},{"$f":"IF('Item Entry'!I46=\"\", \"\", 'Item Entry'!I46)","v":""}]
[{"$f":"IF(AND(B26=\"\", D26=\"\", E26=\"\", F26=\"\"), \"\", 'Associates CSV'!$B$8)","v":""},{"$f":"IF('Item Entry'!B47=\"\", \"\", 'Item Entry'!B47)","v":""},null,{"$f":"IF('Item Entry'!F47=\"\", \"\", 'Item Entry'!F47)","v":""},{"$f":"IF('Item Entry'!H47=\"\", \"\", 'Item Entry'!H47)","v":""},{"$f":"IF('Item Entry'!I47=\"\", \"\", 'Item Entry'!I47)","v":""}]
[{"$f":"IF(AND(B27=\"\", D27=\"\", E27=\"\", F27=\"\"), \"\", 'Associates CSV'!$B$8)","v":""},{"$f":"IF('Item Entry'!B48=\"\", \"\", 'Item Entry'!B48)","v":""},null,{"$f":"IF('Item Entry'!F48=\"\", \"\", 'Item Entry'!F48)","v":""},{"$f":"IF('Item Entry'!H48=\"\", \"\", 'Item Entry'!H48)","v":""},{"$f":"IF('Item Entry'!I48=\"\", \"\", 'Item Entry'!I48)","v":""}]
[{"$f":"IF(AND(B28=\"\", D28=\"\", E28=\"\", F28=\"\"), \"\", 'Associates CSV'!$B$8)","v":""},{"$f":"IF('Item Entry'!B49=\"\", \"\", 'Item Entry'!B49)","v":""},null,{"$f":"IF('Item Entry'!F49=\"\", \"\", 'Item Entry'!F49)","v":""},{"$f":"IF('Item Entry'!H49=\"\", \"\", 'Item Entry'!H49)","v":""},{"$f":"IF('Item Entry'!I49=\"\", \"\", 'Item Entry'!I49)","v":""}]
[{"$f":"IF(AND(B29=\"\", D29=\"\", E29=\"\", F29=\"\"), \"\", 'Associates CSV'!$B$8)","v":""},{"$f":"IF('Item Entry'!B50=\"\", \"\", 'Item Entry'!B50)","v":""},null,{"$f":"IF('Item Entry'!F50=\"\", \"\", 'Item Entry'!F50)","v":""},{"$f":"IF('Item Entry'!H50=\"\", \"\", 'Item Entry'!H50)","v":""},{"$f":"IF('Item Entry'!I50=\"\", \"\", 'Item Entry'!I50)","v":""}]
[{"$f":"IF(AND(B30=\"\", D30=\"\", E30=\"\", F30=\"\"), \"\", 'Associates CSV'!$B$8)","v":""},{"$f":"IF('Item Entry'!B51=\"\", \"\", 'Item Entry'!B51)","v":""},null,{"$f":"IF('Item Entry'!F51=\"\", \"\", 'Item Entry'!F51)","v":""},{"$f":"IF('Item Entry'!H51=\"\", \"\", 'Item Entry'!H51)","v":""},{"$f":"IF('Item Entry'!I51=\"\", \"\", 'Item Entry'!I51)","v":""}]
[{"$f":"IF(AND(B31=\"\", D31=\"\", E31=\"\", F31=\"\"), \"\", 'Associates CSV'!$B$8)","v":""},{"$f":"IF('Item Entry'!B52=\"\", \"\", 'Item Entry'!B52)","v":""},null,{"$f":"IF('Item Entry'!F52=\"\", \"\", 'Item Entry'!F52)","v":""},{"$f":"IF('Item Entry'!H52=\"\", \"\", 'Item Entry'!H52)","v":""},{"$f":"IF('Item Entry'!I52=\"\", \"\", 'Item Entry'!I52)","v":""}]
[{"$f":"IF(AND(B32=\"\", D32=\"\", E32=\"\", F32=\"\"), \"\", 'Associates CSV'!$B$8)","v":""},{"$f":"IF('Item Entry'!B53=\"\", \"\", 'Item Entry'!B53)","v":""},null,{"$f":"IF('Item Entry'!F53=\"\", \"\", 'Item Entry'!F53)","v":""},{"$f":"IF('Item Entry'!H53=\"\", \"\", 'Item Entry'!H53)","v":""},{"$f":"IF('Item Entry'!I53=\"\", \"\", 'Item Entry'!I53)","v":""}]
[{"$f":"IF(AND(B33=\"\", D33=\"\", E33=\"\", F33=\"\"), \"\", 'Associates CSV'!$B$8)","v":""},{"$f":"IF('Item Entry'!B54=\"\", \"\", 'Item Entry'!B54)","v":""},null,{"$f":"IF('Item Entry'!F54=\"\", \"\", 'Item Entry'!F54)","v":""},{"$f":"IF('Item Entry'!H54=\"\", \"\", 'Item Entry'!H54)","v":""},{"$f":"IF('Item Entry'!I54=\"\", \"\", 'Item Entry'!I54)","v":""}]
[{"$f":"IF(AND(B34=\"\", D34=\"\", E34=\"\", F34=\"\"), \"\", 'Associates CSV'!$B$8)","v":""},{"$f":"IF('Item Entry'!B55=\"\", \"\", 'Item Entry'!B55)","v":""},null,{"$f":"IF('Item Entry'!F55=\"\", \"\", 'Item Entry'!F55)","v":""},{"$f":"IF('Item Entry'!H55=\"\", \"\", 'Item Entry'!H55)","v":""},{"$f":"IF('Item Entry'!I55=\"\", \"\", 'Item Entry'!I55)","v":""}]
[{"$f":"IF(AND(B35=\"\", D35=\"\", E35=\"\", F35=\"\"), \"\", 'Associates CSV'!$B$8)","v":""},{"$f":"IF('Item Entry'!B56=\"\", \"\", 'Item Entry'!B56)","v":""},null,{"$f":"IF('Item Entry'!F56=\"\", \"\", 'Item Entry'!F56)","v":""},{"$f":"IF('Item Entry'!H56=\"\", \"\", 'Item Entry'!H56)","v":""},{"$f":"IF('Item Entry'!I56=\"\", \"\", 'Item Entry'!I56)","v":""}]
[{"$f":"IF(AND(B36=\"\", D36=\"\", E36=\"\", F36=\"\"), \"\", 'Associates CSV'!$B$8)","v":""},{"$f":"IF('Item Entry'!B57=\"\", \"\", 'Item Entry'!B57)","v":""},null,{"$f":"IF('Item Entry'!F57=\"\", \"\", 'Item Entry'!F57)","v":""},{"$f":"IF('Item Entry'!H57=\"\", \"\", 'Item Entry'!H57)","v":""},{"$f":"IF('Item Entry'!I57=\"\", \"\", 'Item Entry'!I57)","v":""}]
[{"$f":"IF(AND(B37=\"\", D37=\"\", E37=\"\", F37=\"\"), \"\", 'Associates CSV'!$B$8)","v":""},{"$f":"IF('Item Entry'!B58=\"\", \"\", 'Item Entry'!B58)","v":""},null,{"$f":"IF('Item Entry'!F58=\"\", \"\", 'Item Entry'!F58)","v":""},{"$f":"IF('Item Entry'!H58=\"\", \"\", 'Item Entry'!H58)","v":""},{"$f":"IF('Item Entry'!I58=\"\", \"\", 'Item Entry'!I58)","v":""}]
[{"$f":"IF(AND(B38=\"\", D38=\"\", E38=\"\", F38=\"\"), \"\", 'Associates CSV'!$B$8)","v":""},{"$f":"IF('Item Entry'!B59=\"\", \"\", 'Item Entry'!B59)","v":""},null,{"$f":"IF('Item Entry'!F59=\"\", \"\", 'Item Entry'!F59)","v":""},{"$f":"IF('Item Entry'!H59=\"\", \"\", 'Item Entry'!H59)","v":""},{"$f":"IF('Item Entry'!I59=\"\", \"\", 'Item Entry'!I59)","v":""}]
[{"$f":"IF(AND(B39=\"\", D39=\"\", E39=\"\", F39=\"\"), \"\", 'Associates CSV'!$B$8)","v":""},{"$f":"IF('Item Entry'!B60=\"\", \"\", 'Item Entry'!B60)","v":""},null,{"$f":"IF('Item Entry'!F60=\"\", \"\", 'Item Entry'!F60)","v":""},{"$f":"IF('Item Entry'!H60=\"\", \"\", 'Item Entry'!H60)","v":""},{"$f":"IF('Item Entry'!I60=\"\", \"\", 'Item Entry'!I60)","v":""}]
[{"$f":"IF(AND(B40=\"\", D40=\"\", E40=\"\", F40=\"\"), \"\", 'Associates CSV'!$B$8)","v":""},{"$f":"IF('Item Entry'!B61=\"\", \"\", 'Item Entry'!B61)","v":""},null,{"$f":"IF('Item Entry'!F61=\"\", \"\", 'Item Entry'!F61)","v":""},{"$f":"IF('Item Entry'!H61=\"\", \"\", 'Item Entry'!H61)","v":""},{"$f":"IF('Item Entry'!I61=\"\", \"\", 'Item Entry'!I61)","v":""}]
[{"$f":"IF(AND(B41=\"\", D41=\"\", E41=\"\", F41=\"\"), \"\", 'Associates CSV'!$B$8)","v":""},{"$f":"IF('Item Entry'!B62=\"\", \"\", 'Item Entry'!B62)","v":""},null,{"$f":"IF('Item Entry'!F62=\"\", \"\", 'Item Entry'!F62)","v":""},{"$f":"IF('Item Entry'!H62=\"\", \"\", 'Item Entry'!H62)","v":""},{"$f":"IF('Item Entry'!I62=\"\", \"\", 'Item Entry'!I62)","v":""}]
[{"$f":"IF(AND(B42=\"\", D42=\"\", E42=\"\", F42=\"\"), \"\", 'Associates CSV'!$B$8)","v":""},{"$f":"IF('Item Entry'!B63=\"\", \"\", 'Item Entry'!B63)","v":""},null,{"$f":"IF('Item Entry'!F63=\"\", \"\", 'Item Entry'!F63)","v":""},{"$f":"IF('Item Entry'!H63=\"\", \"\", 'Item Entry'!H63)","v":""},{"$f":"IF('Item Entry'!I63=\"\", \"\", 'Item Entry'!I63)","v":""}]
[{"$f":"IF(AND(B43=\"\", D43=\"\", E43=\"\", F43=\"\"), \"\", 'Associates CSV'!$B$8)","v":""},{"$f":"IF('Item Entry'!B64=\"\", \"\", 'Item Entry'!B64)","v":""},null,{"$f":"IF('Item Entry'!F64=\"\", \"\", 'Item Entry'!F64)","v":""},{"$f":"IF('Item Entry'!H64=\"\", \"\", 'Item Entry'!H64)","v":""},{"$f":"IF('Item Entry'!I64=\"\", \"\", 'Item Entry'!I64)","v":""}]
[{"$f":"IF(AND(B44=\"\", D44=\"\", E44=\"\", F44=\"\"), \"\", 'Associates CSV'!$B$8)","v":""},{"$f":"IF('Item Entry'!B65=\"\", \"\", 'Item Entry'!B65)","v":""},null,{"$f":"IF('Item Entry'!F65=\"\", \"\", 'Item Entry'!F65)","v":""},{"$f":"IF('Item Entry'!H65=\"\", \"\", 'Item Entry'!H65)","v":""},{"$f":"IF('Item Entry'!I65=\"\", \"\", 'Item Entry'!I65)","v":""}]
[{"$f":"IF(AND(B45=\"\", D45=\"\", E45=\"\", F45=\"\"), \"\", 'Associates CSV'!$B$8)","v":""},{"$f":"IF('Item Entry'!B66=\"\", \"\", 'Item Entry'!B66)","v":""},null,{"$f":"IF('Item Entry'!F66=\"\", \"\", 'Item Entry'!F66)","v":""},{"$f":"IF('Item Entry'!H66=\"\", \"\", 'Item Entry'!H66)","v":""},{"$f":"IF('Item Entry'!I66=\"\", \"\", 'Item Entry'!I66)","v":""}]
[{"$f":"IF(AND(B46=\"\", D46=\"\", E46=\"\", F46=\"\"), \"\", 'Associates CSV'!$B$8)","v":""},{"$f":"IF('Item Entry'!B67=\"\", \"\", 'Item Entry'!B67)","v":""},null,{"$f":"IF('Item Entry'!F67=\"\", \"\", 'Item Entry'!F67)","v":""},{"$f":"IF('Item Entry'!H67=\"\", \"\", 'Item Entry'!H67)","v":""},{"$f":"IF('Item Entry'!I67=\"\", \"\", 'Item Entry'!I67)","v":""}]
[{"$f":"IF(AND(B47=\"\", D47=\"\", E47=\"\", F47=\"\"), \"\", 'Associates CSV'!$B$8)","v":""},{"$f":"IF('Item Entry'!B68=\"\", \"\", 'Item Entry'!B68)","v":""},null,{"$f":"IF('Item Entry'!F68=\"\", \"\", 'Item Entry'!F68)","v":""},{"$f":"IF('Item Entry'!H68=\"\", \"\", 'Item Entry'!H68)","v":""},{"$f":"IF('Item Entry'!I68=\"\", \"\", 'Item Entry'!I68)","v":""}]
[{"$f":"IF(AND(B48=\"\", D48=\"\", E48=\"\", F48=\"\"), \"\", 'Associates CSV'!$B$8)","v":""},{"$f":"IF('Item Entry'!B69=\"\", \"\", 'Item Entry'!B69)","v":""},null,{"$f":"IF('Item Entry'!F69=\"\", \"\", 'Item Entry'!F69)","v":""},{"$f":"IF('Item Entry'!H69=\"\", \"\", 'Item Entry'!H69)","v":""},{"$f":"IF('Item Entry'!I69=\"\", \"\", 'Item Entry'!I69)","v":""}]
[{"$f":"IF(AND(B49=\"\", D49=\"\", E49=\"\", F49=\"\"), \"\", 'Associates CSV'!$B$8)","v":""},{"$f":"IF('Item Entry'!B70=\"\", \"\", 'Item Entry'!B70)","v":""},null,{"$f":"IF('Item Entry'!F70=\"\", \"\", 'Item Entry'!F70)","v":""},{"$f":"IF('Item Entry'!H70=\"\", \"\", 'Item Entry'!H70)","v":""},{"$f":"IF('Item Entry'!I70=\"\", \"\", 'Item Entry'!I70)","v":""}]
[{"$f":"IF(AND(B50=\"\", D50=\"\", E50=\"\", F50=\"\"), \"\", 'Associates CSV'!$B$8)","v":""},{"$f":"IF('Item Entry'!B71=\"\", \"\", 'Item Entry'!B71)","v":""},null,{"$f":"IF('Item Entry'!F71=\"\", \"\", 'Item Entry'!F71)","v":""},{"$f":"IF('Item Entry'!H71=\"\", \"\", 'Item Entry'!H71)","v":""},{"$f":"IF('Item Entry'!I71=\"\", \"\", 'Item Entry'!I71)","v":""}]
[{"$f":"IF(AND(B51=\"\", D51=\"\", E51=\"\", F51=\"\"), \"\", 'Associates CSV'!$B$8)","v":""},{"$f":"IF('Item Entry'!B72=\"\", \"\", 'Item Entry'!B72)","v":""},null,{"$f":"IF('Item Entry'!F72=\"\", \"\", 'Item Entry'!F72)","v":""},{"$f":"IF('Item Entry'!H72=\"\", \"\", 'Item Entry'!H72)","v":""},{"$f":"IF('Item Entry'!I72=\"\", \"\", 'Item Entry'!I72)","v":""}]
[{"$f":"IF(AND(B52=\"\", D52=\"\", E52=\"\", F52=\"\"), \"\", 'Associates CSV'!$B$8)","v":""},{"$f":"IF('Item Entry'!B73=\"\", \"\", 'Item Entry'!B73)","v":""},null,{"$f":"IF('Item Entry'!F73=\"\", \"\", 'Item Entry'!F73)","v":""},{"$f":"IF('Item Entry'!H73=\"\", \"\", 'Item Entry'!H73)","v":""},{"$f":"IF('Item Entry'!I73=\"\", \"\", 'Item Entry'!I73)","v":""}]
[{"$f":"IF(AND(B53=\"\", D53=\"\", E53=\"\", F53=\"\"), \"\", 'Associates CSV'!$B$8)","v":""},{"$f":"IF('Item Entry'!B74=\"\", \"\", 'Item Entry'!B74)","v":""},null,{"$f":"IF('Item Entry'!F74=\"\", \"\", 'Item Entry'!F74)","v":""},{"$f":"IF('Item Entry'!H74=\"\", \"\", 'Item Entry'!H74)","v":""},{"$f":"IF('Item Entry'!I74=\"\", \"\", 'Item Entry'!I74)","v":""}]
[{"$f":"IF(AND(B54=\"\", D54=\"\", E54=\"\", F54=\"\"), \"\", 'Associates CSV'!$B$8)","v":""},{"$f":"IF('Item Entry'!B75=\"\", \"\", 'Item Entry'!B75)","v":""},null,{"$f":"IF('Item Entry'!F75=\"\", \"\", 'Item Entry'!F75)","v":""},{"$f":"IF('Item Entry'!H75=\"\", \"\", 'Item Entry'!H75)","v":""},{"$f":"IF('Item Entry'!I75=\"\", \"\", 'Item Entry'!I75)","v":""}]
[{"$f":"IF(AND(B55=\"\", D55=\"\", E55=\"\", F55=\"\"), \"\", 'Associates CSV'!$B$8)","v":""},{"$f":"IF('Item Entry'!B76=\"\", \"\", 'Item Entry'!B76)","v":""},null,{"$f":"IF('Item Entry'!F76=\"\", \"\", 'Item Entry'!F76)","v":""},{"$f":"IF('Item Entry'!H76=\"\", \"\", 'Item Entry'!H76)","v":""},{"$f":"IF('Item Entry'!I76=\"\", \"\", 'Item Entry'!I76)","v":""}]
[{"$f":"IF(AND(B56=\"\", D56=\"\", E56=\"\", F56=\"\"), \"\", 'Associates CSV'!$B$8)","v":""},{"$f":"IF('Item Entry'!B77=\"\", \"\", 'Item Entry'!B77)","v":""},null,{"$f":"IF('Item Entry'!F77=\"\", \"\", 'Item Entry'!F77)","v":""},{"$f":"IF('Item Entry'!H77=\"\", \"\", 'Item Entry'!H77)","v":""},{"$f":"IF('Item Entry'!I77=\"\", \"\", 'Item Entry'!I77)","v":""}]
[{"$f":"IF(AND(B57=\"\", D57=\"\", E57=\"\", F57=\"\"), \"\", 'Associates CSV'!$B$8)","v":""},{"$f":"IF('Item Entry'!B78=\"\", \"\", 'Item Entry'!B78)","v":""},null,{"$f":"IF('Item Entry'!F78=\"\", \"\", 'Item Entry'!F78)","v":""},{"$f":"IF('Item Entry'!H78=\"\", \"\", 'Item Entry'!H78)","v":""},{"$f":"IF('Item Entry'!I78=\"\", \"\", 'Item Entry'!I78)","v":""}]
[{"$f":"IF(AND(B58=\"\", D58=\"\", E58=\"\", F58=\"\"), \"\", 'Associates CSV'!$B$8)","v":""},{"$f":"IF('Item Entry'!B79=\"\", \"\", 'Item Entry'!B79)","v":""},null,{"$f":"IF('Item Entry'!F79=\"\", \"\", 'Item Entry'!F79)","v":""},{"$f":"IF('Item Entry'!H79=\"\", \"\", 'Item Entry'!H79)","v":""},{"$f":"IF('Item Entry'!I79=\"\", \"\", 'Item Entry'!I79)","v":""}]
[{"$f":"IF(AND(B59=\"\", D59=\"\", E59=\"\", F59=\"\"), \"\", 'Associates CSV'!$B$8)","v":""},{"$f":"IF('Item Entry'!B80=\"\", \"\", 'Item Entry'!B80)","v":""},null,{"$f":"IF('Item Entry'!F80=\"\", \"\", 'Item Entry'!F80)","v":""},{"$f":"IF('Item Entry'!H80=\"\", \"\", 'Item Entry'!H80)","v":""},{"$f":"IF('Item Entry'!I80=\"\", \"\", 'Item Entry'!I80)","v":""}]
[{"$f":"IF(AND(B60=\"\", D60=\"\", E60=\"\", F60=\"\"), \"\", 'Associates CSV'!$B$8)","v":""},{"$f":"IF('Item Entry'!B81=\"\", \"\", 'Item Entry'!B81)","v":""},null,{"$f":"IF('Item Entry'!F81=\"\", \"\", 'Item Entry'!F81)","v":""},{"$f":"IF('Item Entry'!H81=\"\", \"\", 'Item Entry'!H81)","v":""},{"$f":"IF('Item Entry'!I81=\"\", \"\", 'Item Entry'!I81)","v":""}]
[{"$f":"IF(AND(B61=\"\", D61=\"\", E61=\"\", F61=\"\"), \"\", 'Associates CSV'!$B$8)","v":""},{"$f":"IF('Item Entry'!B82=\"\", \"\", 'Item Entry'!B82)","v":""},null,{"$f":"IF('Item Entry'!F82=\"\", \"\", 'Item Entry'!F82)","v":""},{"$f":"IF('Item Entry'!H82=\"\", \"\", 'Item Entry'!H82)","v":""},{"$f":"IF('Item Entry'!I82=\"\", \"\", 'Item Entry'!I82)","v":""}]
[{"$f":"IF(AND(B62=\"\", D62=\"\", E62=\"\", F62=\"\"), \"\", 'Associates CSV'!$B$8)","v":""},{"$f":"IF('Item Entry'!B83=\"\", \"\", 'Item Entry'!B83)","v":""},null,{"$f":"IF('Item Entry'!F83=\"\", \"\", 'Item Entry'!F83)","v":""},{"$f":"IF('Item Entry'!H83=\"\", \"\", 'Item Entry'!H83)","v":""},{"$f":"IF('Item Entry'!I83=\"\", \"\", 'Item Entry'!I83)","v":""}]
[{"$f":"IF(AND(B63=\"\", D63=\"\", E63=\"\", F63=\"\"), \"\", 'Associates CSV'!$B$8)","v":""},{"$f":"IF('Item Entry'!B84=\"\", \"\", 'Item Entry'!B84)","v":""},null,{"$f":"IF('Item Entry'!F84=\"\", \"\", 'Item Entry'!F84)","v":""},{"$f":"IF('Item Entry'!H84=\"\", \"\", 'Item Entry'!H84)","v":""},{"$f":"IF('Item Entry'!I84=\"\", \"\", 'Item Entry'!I84)","v":""}]
[{"$f":"IF(AND(B64=\"\", D64=\"\", E64=\"\", F64=\"\"), \"\", 'Associates CSV'!$B$8)","v":""},{"$f":"IF('Item Entry'!B85=\"\", \"\", 'Item Entry'!B85)","v":""},null,{"$f":"IF('Item Entry'!F85=\"\", \"\", 'Item Entry'!F85)","v":""},{"$f":"IF('Item Entry'!H85=\"\", \"\", 'Item Entry'!H85)","v":""},{"$f":"IF('Item Entry'!I85=\"\", \"\", 'Item Entry'!I85)","v":""}]
[{"$f":"IF(AND(B65=\"\", D65=\"\", E65=\"\", F65=\"\"), \"\", 'Associates CSV'!$B$8)","v":""},{"$f":"IF('Item Entry'!B86=\"\", \"\", 'Item Entry'!B86)","v":""},null,{"$f":"IF('Item Entry'!F86=\"\", \"\", 'Item Entry'!F86)","v":""},{"$f":"IF('Item Entry'!H86=\"\", \"\", 'Item Entry'!H86)","v":""},{"$f":"IF('Item Entry'!I86=\"\", \"\", 'Item Entry'!I86)","v":""}]
[{"$f":"IF(AND(B66=\"\", D66=\"\", E66=\"\", F66=\"\"), \"\", 'Associates CSV'!$B$8)","v":""},{"$f":"IF('Item Entry'!B87=\"\", \"\", 'Item Entry'!B87)","v":""},null,{"$f":"IF('Item Entry'!F87=\"\", \"\", 'Item Entry'!F87)","v":""},{"$f":"IF('Item Entry'!H87=\"\", \"\", 'Item Entry'!H87)","v":""},{"$f":"IF('Item Entry'!I87=\"\", \"\", 'Item Entry'!I87)","v":""}]
[{"$f":"IF(AND(B67=\"\", D67=\"\", E67=\"\", F67=\"\"), \"\", 'Associates CSV'!$B$8)","v":""},{"$f":"IF('Item Entry'!B88=\"\", \"\", 'Item Entry'!B88)","v":""},null,{"$f":"IF('Item Entry'!F88=\"\", \"\", 'Item Entry'!F88)","v":""},{"$f":"IF('Item Entry'!H88=\"\", \"\", 'Item Entry'!H88)","v":""},{"$f":"IF('Item Entry'!I88=\"\", \"\", 'Item Entry'!I88)","v":""}]
[{"$f":"IF(AND(B68=\"\", D68=\"\", E68=\"\", F68=\"\"), \"\", 'Associates CSV'!$B$8)","v":""},{"$f":"IF('Item Entry'!B89=\"\", \"\", 'Item Entry'!B89)","v":""},null,{"$f":"IF('Item Entry'!F89=\"\", \"\", 'Item Entry'!F89)","v":""},{"$f":"IF('Item Entry'!H89=\"\", \"\", 'Item Entry'!H89)","v":""},{"$f":"IF('Item Entry'!I89=\"\", \"\", 'Item Entry'!I89)","v":""}]
[{"$f":"IF(AND(B69=\"\", D69=\"\", E69=\"\", F69=\"\"), \"\", 'Associates CSV'!$B$8)","v":""},{"$f":"IF('Item Entry'!B90=\"\", \"\", 'Item Entry'!B90)","v":""},null,{"$f":"IF('Item Entry'!F90=\"\", \"\", 'Item Entry'!F90)","v":""},{"$f":"IF('Item Entry'!H90=\"\", \"\", 'Item Entry'!H90)","v":""},{"$f":"IF('Item Entry'!I90=\"\", \"\", 'Item Entry'!I90)","v":""}]
[{"$f":"IF(AND(B70=\"\", D70=\"\", E70=\"\", F70=\"\"), \"\", 'Associates CSV'!$B$8)","v":""},{"$f":"IF('Item Entry'!B91=\"\", \"\", 'Item Entry'!B91)","v":""},null,{"$f":"IF('Item Entry'!F91=\"\", \"\", 'Item Entry'!F91)","v":""},{"$f":"IF('Item Entry'!H91=\"\", \"\", 'Item Entry'!H91)","v":""},{"$f":"IF('Item Entry'!I91=\"\", \"\", 'Item Entry'!I91)","v":""}]
[{"$f":"IF(AND(B71=\"\", D71=\"\", E71=\"\", F71=\"\"), \"\", 'Associates CSV'!$B$8)","v":""},{"$f":"IF('Item Entry'!B92=\"\", \"\", 'Item Entry'!B92)","v":""},null,{"$f":"IF('Item Entry'!F92=\"\", \"\", 'Item Entry'!F92)","v":""},{"$f":"IF('Item Entry'!H92=\"\", \"\", 'Item Entry'!H92)","v":""},{"$f":"IF('Item Entry'!I92=\"\", \"\", 'Item Entry'!I92)","v":""}]
[{"$f":"IF(AND(B72=\"\", D72=\"\", E72=\"\", F72=\"\"), \"\", 'Associates CSV'!$B$8)","v":""},{"$f":"IF('Item Entry'!B93=\"\", \"\", 'Item Entry'!B93)","v":""},null,{"$f":"IF('Item Entry'!F93=\"\", \"\", 'Item Entry'!F93)","v":""},{"$f":"IF('Item Entry'!H93=\"\", \"\", 'Item Entry'!H93)","v":""},{"$f":"IF('Item Entry'!I93=\"\", \"\", 'Item Entry'!I93)","v":""}]
[{"$f":"IF(AND(B73=\"\", D73=\"\", E73=\"\", F73=\"\"), \"\", 'Associates CSV'!$B$8)","v":""},{"$f":"IF('Item Entry'!B94=\"\", \"\", 'Item Entry'!B94)","v":""},null,{"$f":"IF('Item Entry'!F94=\"\", \"\", 'Item Entry'!F94)","v":""},{"$f":"IF('Item Entry'!H94=\"\", \"\", 'Item Entry'!H94)","v":""},{"$f":"IF('Item Entry'!I94=\"\", \"\", 'Item Entry'!I94)","v":""}]
[{"$f":"IF(AND(B74=\"\", D74=\"\", E74=\"\", F74=\"\"), \"\", 'Associates CSV'!$B$8)","v":""},{"$f":"IF('Item Entry'!B95=\"\", \"\", 'Item Entry'!B95)","v":""},null,{"$f":"IF('Item Entry'!F95=\"\", \"\", 'Item Entry'!F95)","v":""},{"$f":"IF('Item Entry'!H95=\"\", \"\", 'Item Entry'!H95)","v":""},{"$f":"IF('Item Entry'!I95=\"\", \"\", 'Item Entry'!I95)","v":""}]
[{"$f":"IF(AND(B75=\"\", D75=\"\", E75=\"\", F75=\"\"), \"\", 'Associates CSV'!$B$8)","v":""},{"$f":"IF('Item Entry'!B96=\"\", \"\", 'Item Entry'!B96)","v":""},null,{"$f":"IF('Item Entry'!F96=\"\", \"\", 'Item Entry'!F96)","v":""},{"$f":"IF('Item Entry'!H96=\"\", \"\", 'Item Entry'!H96)","v":""},{"$f":"IF('Item Entry'!I96=\"\", \"\", 'Item Entry'!I96)","v":""}]
[{"$f":"IF(AND(B76=\"\", D76=\"\", E76=\"\", F76=\"\"), \"\", 'Associates CSV'!$B$8)","v":""},{"$f":"IF('Item Entry'!B97=\"\", \"\", 'Item Entry'!B97)","v":""},null,{"$f":"IF('Item Entry'!F97=\"\", \"\", 'Item Entry'!F97)","v":""},{"$f":"IF('Item Entry'!H97=\"\", \"\", 'Item Entry'!H97)","v":""},{"$f":"IF('Item Entry'!I97=\"\", \"\", 'Item Entry'!I97)","v":""}]
[{"$f":"IF(AND(B77=\"\", D77=\"\", E77=\"\", F77=\"\"), \"\", 'Associates CSV'!$B$8)","v":""},{"$f":"IF('Item Entry'!B98=\"\", \"\", 'Item Entry'!B98)","v":""},null,{"$f":"IF('Item Entry'!F98=\"\", \"\", 'Item Entry'!F98)","v":""},{"$f":"IF('Item Entry'!H98=\"\", \"\", 'Item Entry'!H98)","v":""},{"$f":"IF('Item Entry'!I98=\"\", \"\", 'Item Entry'!I98)","v":""}]
[{"$f":"IF(AND(B78=\"\", D78=\"\", E78=\"\", F78=\"\"), \"\", 'Associates CSV'!$B$8)","v":""},{"$f":"IF('Item Entry'!B99=\"\", \"\", 'Item Entry'!B99)","v":""},null,{"$f":"IF('Item Entry'!F99=\"\", \"\", 'Item Entry'!F99)","v":""},{"$f":"IF('Item Entry'!H99=\"\", \"\", 'Item Entry'!H99)","v":""},{"$f":"IF('Item Entry'!I99=\"\", \"\", 'Item Entry'!I99)","v":""}]
[{"$f":"IF(AND(B79=\"\", D79=\"\", E79=\"\", F79=\"\"), \"\", 'Associates CSV'!$B$8)","v":""},{"$f":"IF('Item Entry'!B100=\"\", \"\", 'Item Entry'!B100)","v":""},null,{"$f":"IF('Item Entry'!F100=\"\", \"\", 'Item Entry'!F100)","v":""},{"$f":"IF('Item Entry'!H100=\"\", \"\", 'Item Entry'!H100)","v":""},{"$f":"IF('Item Entry'!I100=\"\", \"\", 'Item Entry'!I100)","v":""}]
[{"$f":"IF(AND(B80=\"\", D80=\"\", E80=\"\", F80=\"\"), \"\", 'Associates CSV'!$B$8)","v":""},{"$f":"IF('Item Entry'!B101=\"\", \"\", 'Item Entry'!B101)","v":""},null,{"$f":"IF('Item Entry'!F101=\"\", \"\", 'Item Entry'!F101)","v":""},{"$f":"IF('Item Entry'!H101=\"\", \"\", 'Item Entry'!H101)","v":""},{"$f":"IF('Item Entry'!I101=\"\", \"\", 'Item Entry'!I101)","v":""}]
[{"$f":"IF(AND(B81=\"\", D81=\"\", E81=\"\", F81=\"\"), \"\", 'Associates CSV'!$B$8)","v":""},{"$f":"IF('Item Entry'!B102=\"\", \"\", 'Item Entry'!B102)","v":""},null,{"$f":"IF('Item Entry'!F102=\"\", \"\", 'Item Entry'!F102)","v":""},{"$f":"IF('Item Entry'!H102=\"\", \"\", 'Item Entry'!H102)","v":""},{"$f":"IF('Item Entry'!I102=\"\", \"\", 'Item Entry'!I102)","v":""}]
[{"$f":"IF(AND(B82=\"\", D82=\"\", E82=\"\", F82=\"\"), \"\", 'Associates CSV'!$B$8)","v":""},{"$f":"IF('Item Entry'!B103=\"\", \"\", 'Item Entry'!B103)","v":""},null,{"$f":"IF('Item Entry'!F103=\"\", \"\", 'Item Entry'!F103)","v":""},{"$f":"IF('Item Entry'!H103=\"\", \"\", 'Item Entry'!H103)","v":""},{"$f":"IF('Item Entry'!I103=\"\", \"\", 'Item Entry'!I103)","v":""}]
[{"$f":"IF(AND(B83=\"\", D83=\"\", E83=\"\", F83=\"\"), \"\", 'Associates CSV'!$B$8)","v":""},{"$f":"IF('Item Entry'!B104=\"\", \"\", 'Item Entry'!B104)","v":""},null,{"$f":"IF('Item Entry'!F104=\"\", \"\", 'Item Entry'!F104)","v":""},{"$f":"IF('Item Entry'!H104=\"\", \"\", 'Item Entry'!H104)","v":""},{"$f":"IF('Item Entry'!I104=\"\", \"\", 'Item Entry'!I104)","v":""}]
[{"$f":"IF(AND(B84=\"\", D84=\"\", E84=\"\", F84=\"\"), \"\", 'Associates CSV'!$B$8)","v":""},{"$f":"IF('Item Entry'!B105=\"\", \"\", 'Item Entry'!B105)","v":""},null,{"$f":"IF('Item Entry'!F105=\"\", \"\", 'Item Entry'!F105)","v":""},{"$f":"IF('Item Entry'!H105=\"\", \"\", 'Item Entry'!H105)","v":""},{"$f":"IF('Item Entry'!I105=\"\", \"\", 'Item Entry'!I105)","v":""}]
[{"$f":"IF(AND(B85=\"\", D85=\"\", E85=\"\", F85=\"\"), \"\", 'Associates CSV'!$B$8)","v":""},{"$f":"IF('Item Entry'!B106=\"\", \"\", 'Item Entry'!B106)","v":""},null,{"$f":"IF('Item Entry'!F106=\"\", \"\", 'Item Entry'!F106)","v":""},{"$f":"IF('Item Entry'!H106=\"\", \"\", 'Item Entry'!H106)","v":""},{"$f":"IF('Item Entry'!I106=\"\", \"\", 'Item Entry'!I106)","v":""}]
[{"$f":"IF(AND(B86=\"\", D86=\"\", E86=\"\", F86=\"\"), \"\", 'Associates CSV'!$B$8)","v":""},{"$f":"IF('Item Entry'!B107=\"\", \"\", 'Item Entry'!B107)","v":""},null,{"$f":"IF('Item Entry'!F107=\"\", \"\", 'Item Entry'!F107)","v":""},{"$f":"IF('Item Entry'!H107=\"\", \"\", 'Item Entry'!H107)","v":""},{"$f":"IF('Item Entry'!I107=\"\", \"\", 'Item Entry'!I107)","v":""}]
[{"$f":"IF(AND(B87=\"\", D87=\"\", E87=\"\", F87=\"\"), \"\", 'Associates CSV'!$B$8)","v":""},{"$f":"IF('Item Entry'!B108=\"\", \"\", 'Item Entry'!B108)","v":""},null,{"$f":"IF('Item Entry'!F108=\"\", \"\", 'Item Entry'!F108)","v":""},{"$f":"IF('Item Entry'!H108=\"\", \"\", 'Item Entry'!H108)","v":""},{"$f":"IF('Item Entry'!I108=\"\", \"\", 'Item Entry'!I108)","v":""}]
[{"$f":"IF(AND(B88=\"\", D88=\"\", E88=\"\", F88=\"\"), \"\", 'Associates CSV'!$B$8)","v":""},{"$f":"IF('Item Entry'!B109=\"\", \"\", 'Item Entry'!B109)","v":""},null,{"$f":"IF('Item Entry'!F109=\"\", \"\", 'Item Entry'!F109)","v":""},{"$f":"IF('Item Entry'!H109=\"\", \"\", 'Item Entry'!H109)","v":""},{"$f":"IF('Item Entry'!I109=\"\", \"\", 'Item Entry'!I109)","v":""}]
[{"$f":"IF(AND(B89=\"\", D89=\"\", E89=\"\", F89=\"\"), \"\", 'Associates CSV'!$B$8)","v":""},{"$f":"IF('Item Entry'!B110=\"\", \"\", 'Item Entry'!B110)","v":""},null,{"$f":"IF('Item Entry'!F110=\"\", \"\", 'Item Entry'!F110)","v":""},{"$f":"IF('Item Entry'!H110=\"\", \"\", 'Item Entry'!H110)","v":""},{"$f":"IF('Item Entry'!I110=\"\", \"\", 'Item Entry'!I110)","v":""}]
[{"$f":"IF(AND(B90=\"\", D90=\"\", E90=\"\", F90=\"\"), \"\", 'Associates CSV'!$B$8)","v":""},{"$f":"IF('Item Entry'!B111=\"\", \"\", 'Item Entry'!B111)","v":""},null,{"$f":"IF('Item Entry'!F111=\"\", \"\", 'Item Entry'!F111)","v":""},{"$f":"IF('Item Entry'!H111=\"\", \"\", 'Item Entry'!H111)","v":""},{"$f":"IF('Item Entry'!I111=\"\", \"\", 'Item Entry'!I111)","v":""}]
[{"$f":"IF(AND(B91=\"\", D91=\"\", E91=\"\", F91=\"\"), \"\", 'Associates CSV'!$B$8)","v":""},{"$f":"IF('Item Entry'!B112=\"\", \"\", 'Item Entry'!B112)","v":""},null,{"$f":"IF('Item Entry'!F112=\"\", \"\", 'Item Entry'!F112)","v":""},{"$f":"IF('Item Entry'!H112=\"\", \"\", 'Item Entry'!H112)","v":""},{"$f":"IF('Item Entry'!I112=\"\", \"\", 'Item Entry'!I112)","v":""}]
[{"$f":"IF(AND(B92=\"\", D92=\"\", E92=\"\", F92=\"\"), \"\", 'Associates CSV'!$B$8)","v":""},{"$f":"IF('Item Entry'!B113=\"\", \"\", 'Item Entry'!B113)","v":""},null,{"$f":"IF('Item Entry'!F113=\"\", \"\", 'Item Entry'!F113)","v":""},{"$f":"IF('Item Entry'!H113=\"\", \"\", 'Item Entry'!H113)","v":""},{"$f":"IF('Item Entry'!I113=\"\", \"\", 'Item Entry'!I113)","v":""}]
[{"$f":"IF(AND(B93=\"\", D93=\"\", E93=\"\", F93=\"\"), \"\", 'Associates CSV'!$B$8)","v":""},{"$f":"IF('Item Entry'!B114=\"\", \"\", 'Item Entry'!B114)","v":""},null,{"$f":"IF('Item Entry'!F114=\"\", \"\", 'Item Entry'!F114)","v":""},{"$f":"IF('Item Entry'!H114=\"\", \"\", 'Item Entry'!H114)","v":""},{"$f":"IF('Item Entry'!I114=\"\", \"\", 'Item Entry'!I114)","v":""}]
[{"$f":"IF(AND(B94=\"\", D94=\"\", E94=\"\", F94=\"\"), \"\", 'Associates CSV'!$B$8)","v":""},{"$f":"IF('Item Entry'!B115=\"\", \"\", 'Item Entry'!B115)","v":""},null,{"$f":"IF('Item Entry'!F115=\"\", \"\", 'Item Entry'!F115)","v":""},{"$f":"IF('Item Entry'!H115=\"\", \"\", 'Item Entry'!H115)","v":""},{"$f":"IF('Item Entry'!I115=\"\", \"\", 'Item Entry'!I115)","v":""}]
[{"$f":"IF(AND(B95=\"\", D95=\"\", E95=\"\", F95=\"\"), \"\", 'Associates CSV'!$B$8)","v":""},{"$f":"IF('Item Entry'!B116=\"\", \"\", 'Item Entry'!B116)","v":""},null,{"$f":"IF('Item Entry'!F116=\"\", \"\", 'Item Entry'!F116)","v":""},{"$f":"IF('Item Entry'!H116=\"\", \"\", 'Item Entry'!H116)","v":""},{"$f":"IF('Item Entry'!I116=\"\", \"\", 'Item Entry'!I116)","v":""}]
[{"$f":"IF(AND(B96=\"\", D96=\"\", E96=\"\", F96=\"\"), \"\", 'Associates CSV'!$B$8)","v":""},{"$f":"IF('Item Entry'!B117=\"\", \"\", 'Item Entry'!B117)","v":""},null,{"$f":"IF('Item Entry'!F117=\"\", \"\", 'Item Entry'!F117)","v":""},{"$f":"IF('Item Entry'!H117=\"\", \"\", 'Item Entry'!H117)","v":""},{"$f":"IF('Item Entry'!I117=\"\", \"\", 'Item Entry'!I117)","v":""}]
[{"$f":"IF(AND(B97=\"\", D97=\"\", E97=\"\", F97=\"\"), \"\", 'Associates CSV'!$B$8)","v":""},{"$f":"IF('Item Entry'!B118=\"\", \"\", 'Item Entry'!B118)","v":""},null,{"$f":"IF('Item Entry'!F118=\"\", \"\", 'Item Entry'!F118)","v":""},{"$f":"IF('Item Entry'!H118=\"\", \"\", 'Item Entry'!H118)","v":""},{"$f":"IF('Item Entry'!I118=\"\", \"\", 'Item Entry'!I118)","v":""}]
[{"$f":"IF(AND(B98=\"\", D98=\"\", E98=\"\", F98=\"\"), \"\", 'Associates CSV'!$B$8)","v":""},{"$f":"IF('Item Entry'!B119=\"\", \"\", 'Item Entry'!B119)","v":""},null,{"$f":"IF('Item Entry'!F119=\"\", \"\", 'Item Entry'!F119)","v":""},{"$f":"IF('Item Entry'!H119=\"\", \"\", 'Item Entry'!H119)","v":""},{"$f":"IF('Item Entry'!I119=\"\", \"\", 'Item Entry'!I119)","v":""}]
[{"$f":"IF(AND(B99=\"\", D99=\"\", E99=\"\", F99=\"\"), \"\", 'Associates CSV'!$B$8)","v":""},{"$f":"IF('Item Entry'!B120=\"\", \"\", 'Item Entry'!B120)","v":""},null,{"$f":"IF('Item Entry'!F120=\"\", \"\", 'Item Entry'!F120)","v":""},{"$f":"IF('Item Entry'!H120=\"\", \"\", 'Item Entry'!H120)","v":""},{"$f":"IF('Item Entry'!I120=\"\", \"\", 'Item Entry'!I120)","v":""}]

{"sheet":"Combined CSV","index":4,"n_rows":291,"n_cols":15,"rows_kept":291,"cut":false,"hidden":false,"merged":[]}
["BOL Issuer","BOL Number  ","BOL Type ","Cut-off Date  ","Origin Port  ","Destination Port  ","Move Type","Customer Reference","Vendor ID","Carrier Code","Vessel","Voyage","Port of Destination","Port of Discharge ETA","Port of Discharge Location"]
[{"$f":"IF('Header Entry'!$C$12=\"\",'Header Entry'!$H$12, IF('Header Entry'!$E$12<>\"\",'Header Entry'!$C$12))","v":0},{"$f":"IF('Header Entry'!$E$12=\"\",'Header Entry'!$J$12,'Header Entry'!$E$12)","v":0},{"$f":"IF('Header Entry'!$E$12<>0,\"HOUSE\",IF('Header Entry'!$J$12<>0,\"MASTER\"))","v":false},{"$f":"IF('Header Entry'!C9=\"\",\"\",'Header Entry'!C9)","v":""},{"$f":"IF('Header Entry'!J9=\"\",\"\",'Header Entry'!J9)","v":""},{"$f":"IF('Header Entry'!J10=\"\",\"\",'Header Entry'!J10)","v":""},{"$f":"IF('Header Entry'!J7=\"\",\"\",'Header Entry'!J7)","v":""},{"$f":"IF('Header Entry'!C7=\"\",\"\",'Header Entry'!C7)","v":""},null,{"$f":"IF('Header Entry'!H12=\"\",\"\",'Header Entry'!H12)","v":""},{"$f":"IF('Header Entry'!$F$9=\"\",\"\", 'Header Entry'!$F$9)","v":""},{"$f":"IF('Header Entry'!$F$10=\"\",\"\", 'Header Entry'!$F$10)","v":""},{"$f":"IF('Header Entry'!J10=\"\",\"\",'Header Entry'!J10)","v":""},null,{"$f":"IF('Header Entry'!J10=\"\",\"\",'Header Entry'!J10)","v":""}]
["Associate Type","Name","Address1","Address2","Address3","Address4","Address5","Address6","Country","City","State","Postal","Number Type","Number"]
["SELLER",{"$f":"IF('Header Entry'!C19=\"\",\"\",'Header Entry'!C19)","v":""},{"$f":"IF('Header Entry'!C21=\"\",\"\",'Header Entry'!C21)","v":""},{"$f":"IF('Header Entry'!C22=\"\",\"\",'Header Entry'!C22)","v":""},{"$f":"IF('Header Entry'!C23=\"\",\"\",'Header Entry'!C23)","v":""},null,null,null,{"$f":"IF('Header Entry'!J24=\"\",\"\",'Header Entry'!J24)","v":""},{"$f":"IF('Header Entry'!$C$24=0,\"\", 'Header Entry'!$C$24)","v":""},{"$f":"IF('Header Entry'!F24=0,\"\", 'Header Entry'!F24)","v":""},{"$f":"IF('Header Entry'!$H$24=0,\"\", 'Header Entry'!$H$24)","v":""},{"$f":"IF('Header Entry'!H19=\"\",\"\",\"DUNS#\")","v":""},{"$f":"IF('Header Entry'!$H$19=0,\"\", 'Header Entry'!$H$19)","v":""}]
["BUYER",{"$f":"IF('Header Entry'!$C$28=0,\"\", 'Header Entry'!$C$28)","v":""},{"$f":"IF('Header Entry'!$C$30=0,\"\", 'Header Entry'!$C$30)","v":""},{"$f":"IF('Header Entry'!$C$31=0,\"\", 'Header Entry'!$C$31)","v":""},{"$f":"IF('Header Entry'!$C$32=0,\"\", 'Header Entry'!$C$32)","v":""},null,null,null,{"$f":"IF('Header Entry'!$J$33=0,\"\", 'Header Entry'!$J$33)","v":""},{"$f":"IF('Header Entry'!$C$33=0,\"\", 'Header Entry'!$C$33)","v":""},{"$f":"IF('Header Entry'!F33=\"\",\"\", 'Header Entry'!F33)","v":""},{"$f":"IF('Header Entry'!$H$33=0,\"\", 'Header Entry'!$H$33)","v":""},{"$f":"IF('Header Entry'!H28=\"\",\"\",\"DUNS#\")","v":""},{"$f":"IF('Header Entry'!$H$28=0,\"\", 'Header Entry'!$H$28)","v":""}]
["SHIP_TO",{"$f":"IF('Header Entry'!$C$45=0,\"\", 'Header Entry'!$C$45)","v":""},{"$f":"IF('Header Entry'!$C$47=0,\"\", 'Header Entry'!$C$47)","v":" "},{"$f":"IF('Header Entry'!$C$48=0,\"\", 'Header Entry'!$C$48)","v":" "},{"$f":"IF('Header Entry'!$C$49=0,\"\", 'Header Entry'!$C$49)","v":" "},null,null,null,{"$f":"IF('Header Entry'!$J$50=0,\"\", 'Header Entry'!$J$50)","v":" "},{"$f":"IF('Header Entry'!$C$50=0,\"\", 'Header Entry'!$C$50)","v":" "},{"$f":"IF('Header Entry'!$F$50=0,\"\", 'Header Entry'!$F$50)","v":""},{"$f":"IF('Header Entry'!$H$50=0,\"\", 'Header Entry'!$H$50)","v":" "},{"$f":"IF('Header Entry'!H45=\"\",\"\",\"DUNS#\")","v":""},{"$f":"IF('Header Entry'!$H$45=0,\"\", 'Header Entry'!$H$45)","v":""}]
["CONSIGNEE",{"$f":"IF('Header Entry'!$C$41=0,\"\", 'Header Entry'!$C$41)","v":""},null,null,null,null,null,null,null,null,null,null,{"$f":"IF('Header Entry'!H41=\"\",\"\",'Header Entry'!H41)","v":""},{"$f":"IF('Header Entry'!$I$41=0,\"\", 'Header Entry'!$I$41)","v":""}]
["CONSOLIDATOR",{"$f":"IF('Header Entry'!$C$54=0, \" \", 'Header Entry'!$C$54)","v":" "},{"$f":"IF('Header Entry'!$C$56=0, \" \", 'Header Entry'!$C$56)","v":" "},{"$f":"IF('Header Entry'!$C$57=0, \" \", 'Header Entry'!$C$57)","v":" "},{"$f":"IF('Header Entry'!$C$58=0, \" \", 'Header Entry'!$C$58)","v":" "},null,null,null,{"$f":"IF('Header Entry'!J59=\"\",\"\",'Header Entry'!J59)","v":""},{"$f":"IF('Header Entry'!C59=\"\",\"\", 'Header Entry'!C59)","v":""},{"$f":"IF('Header Entry'!$F$59=0,\"\", 'Header Entry'!$F$59)","v":""},{"$f":"IF('Header Entry'!$H$59=0,\"\", 'Header Entry'!$H$59)","v":""},{"$f":"IF('Header Entry'!H54=\"\",\"\",\"DUNS#\")","v":""},{"$f":"IF('Header Entry'!$H$54=0,\"\", 'Header Entry'!$H$54)","v":""}]
["STUFFING_LOCATION",{"$f":"IF('Header Entry'!$C$63=0, \" \", 'Header Entry'!$C$63)","v":" "},{"$f":"IF('Header Entry'!$C$65=0, \" \", 'Header Entry'!$C$65)","v":" "},{"$f":"IF('Header Entry'!$C$66=0, \" \", 'Header Entry'!$C$66)","v":" "},{"$f":"IF('Header Entry'!$C$67=0, \" \", 'Header Entry'!$C$67)","v":" "},null,null,null,{"$f":"IF('Header Entry'!J68=\"\",\"\",'Header Entry'!J68)","v":""},{"$f":"IF('Header Entry'!$C$68=0,\"\", 'Header Entry'!$C$68)","v":""},{"$f":"IF('Header Entry'!$F$68=0,\"\", 'Header Entry'!$F$68)","v":""},{"$f":"IF('Header Entry'!$H$68=0,\"\", 'Header Entry'!$H$68)","v":""},{"$f":"IF('Header Entry'!H63=\"\",\"\",\"DUNS#\")","v":""},{"$f":"IF('Header Entry'!$H$63=0,\"\", 'Header Entry'!$H$63)","v":""}]
["MANUFACTURER",{"$f":"IF('Item Entry'!$C$15=0,\"\", 'Item Entry'!$C$15)","v":""},{"$f":"IF('Item Entry'!$C$17=0,\"\", 'Item Entry'!$C$17)","v":""},{"$f":"IF('Item Entry'!$C$18=0,\"\", 'Item Entry'!$C$18)","v":""},{"$f":"IF('Item Entry'!$C$19=0,\"\", 'Item Entry'!$C$19)","v":""},null,null,null,{"$f":"IF('Item Entry'!K20=\"\",\"\", 'Item Entry'!K20)","v":" "},{"$f":"IF('Item Entry'!$C$20=0,\"\", 'Item Entry'!$C$20)","v":" "},{"$f":"IF('Item Entry'!$G$20=0,\"\", 'Item Entry'!$G$20)","v":""},{"$f":"IF('Item Entry'!$I$20=0,\"\", 'Item Entry'!$I$20)","v":" "},{"$f":"IF('Item Entry'!I15=\"\",\"\",\"DUNS#\")","v":""},{"$f":"IF('Item Entry'!$I$15=0,\"\", 'Item Entry'!$I$15)","v":""}]
["Manufacturer Name","Item Number","Description ","HS Tariff ","Country of Origin ","PO Number "]
[{"$f":"IF(AND(B12=\"\", D12=\"\", E12=\"\", F12=\"\"), \"\", 'Combined CSV'!$B$10)","v":""},{"$f":"IF('Item Entry'!D23=\"\", \"\", 'Item Entry'!D23)","v":""},{"$f":"IF('Item Entry'!F23=\"\", \"\", 'Item Entry'!F23)","v":""},{"$f":"IF('Item Entry'!E23=\"\", \"\", 'Item Entry'!E23)","v":""},{"$f":"IF('Item Entry'!H23=\"\", \"\", 'Item Entry'!H23)","v":""},{"$f":"IF('Item Entry'!I23=\"\", \"\", 'Item Entry'!I23)","v":""}]
[{"$f":"IF(AND(B13=\"\", D13=\"\", E13=\"\", F13=\"\"), \"\", 'Combined CSV'!$B$10)","v":""},{"$f":"IF('Item Entry'!D24=\"\", \"\", 'Item Entry'!D24)","v":""},{"$f":"IF('Item Entry'!F24=\"\", \"\", 'Item Entry'!F24)","v":""},{"$f":"IF('Item Entry'!E24=\"\", \"\", 'Item Entry'!E24)","v":""},{"$f":"IF('Item Entry'!H24=\"\", \"\", 'Item Entry'!H24)","v":""},{"$f":"IF('Item Entry'!I24=\"\", \"\", 'Item Entry'!I24)","v":""}]
[{"$f":"IF(AND(B14=\"\", D14=\"\", E14=\"\", F14=\"\"), \"\", 'Combined CSV'!$B$10)","v":""},{"$f":"IF('Item Entry'!D25=\"\", \"\", 'Item Entry'!D25)","v":""},{"$f":"IF('Item Entry'!F25=\"\", \"\", 'Item Entry'!F25)","v":""},{"$f":"IF('Item Entry'!E25=\"\", \"\", 'Item Entry'!E25)","v":""},{"$f":"IF('Item Entry'!H25=\"\", \"\", 'Item Entry'!H25)","v":""},{"$f":"IF('Item Entry'!I25=\"\", \"\", 'Item Entry'!I25)","v":""}]
[{"$f":"IF(AND(B15=\"\", D15=\"\", E15=\"\", F15=\"\"), \"\", 'Combined CSV'!$B$10)","v":""},{"$f":"IF('Item Entry'!D26=\"\", \"\", 'Item Entry'!D26)","v":""},{"$f":"IF('Item Entry'!F26=\"\", \"\", 'Item Entry'!F26)","v":""},{"$f":"IF('Item Entry'!E26=\"\", \"\", 'Item Entry'!E26)","v":""},{"$f":"IF('Item Entry'!H26=\"\", \"\", 'Item Entry'!H26)","v":""},{"$f":"IF('Item Entry'!I26=\"\", \"\", 'Item Entry'!I26)","v":""}]
[{"$f":"IF(AND(B16=\"\", D16=\"\", E16=\"\", F16=\"\"), \"\", 'Combined CSV'!$B$10)","v":""},{"$f":"IF('Item Entry'!D27=\"\", \"\", 'Item Entry'!D27)","v":""},{"$f":"IF('Item Entry'!F27=\"\", \"\", 'Item Entry'!F27)","v":""},{"$f":"IF('Item Entry'!E27=\"\", \"\", 'Item Entry'!E27)","v":""},{"$f":"IF('Item Entry'!H27=\"\", \"\", 'Item Entry'!H27)","v":""},{"$f":"IF('Item Entry'!I27=\"\", \"\", 'Item Entry'!I27)","v":""}]
[{"$f":"IF(AND(B17=\"\", D17=\"\", E17=\"\", F17=\"\"), \"\", 'Combined CSV'!$B$10)","v":""},{"$f":"IF('Item Entry'!D28=\"\", \"\", 'Item Entry'!D28)","v":""},{"$f":"IF('Item Entry'!F28=\"\", \"\", 'Item Entry'!F28)","v":""},{"$f":"IF('Item Entry'!E28=\"\", \"\", 'Item Entry'!E28)","v":""},{"$f":"IF('Item Entry'!H28=\"\", \"\", 'Item Entry'!H28)","v":""},{"$f":"IF('Item Entry'!I28=\"\", \"\", 'Item Entry'!I28)","v":""}]
[{"$f":"IF(AND(B18=\"\", D18=\"\", E18=\"\", F18=\"\"), \"\", 'Combined CSV'!$B$10)","v":""},{"$f":"IF('Item Entry'!D29=\"\", \"\", 'Item Entry'!D29)","v":""},{"$f":"IF('Item Entry'!F29=\"\", \"\", 'Item Entry'!F29)","v":""},{"$f":"IF('Item Entry'!E29=\"\", \"\", 'Item Entry'!E29)","v":""},{"$f":"IF('Item Entry'!H29=\"\", \"\", 'Item Entry'!H29)","v":""},{"$f":"IF('Item Entry'!I29=\"\", \"\", 'Item Entry'!I29)","v":""}]
[{"$f":"IF(AND(B19=\"\", D19=\"\", E19=\"\", F19=\"\"), \"\", 'Combined CSV'!$B$10)","v":""},{"$f":"IF('Item Entry'!D30=\"\", \"\", 'Item Entry'!D30)","v":""},{"$f":"IF('Item Entry'!F30=\"\", \"\", 'Item Entry'!F30)","v":""},{"$f":"IF('Item Entry'!E30=\"\", \"\", 'Item Entry'!E30)","v":""},{"$f":"IF('Item Entry'!H30=\"\", \"\", 'Item Entry'!H30)","v":""},{"$f":"IF('Item Entry'!I30=\"\", \"\", 'Item Entry'!I30)","v":""}]
[{"$f":"IF(AND(B20=\"\", D20=\"\", E20=\"\", F20=\"\"), \"\", 'Combined CSV'!$B$10)","v":""},{"$f":"IF('Item Entry'!D31=\"\", \"\", 'Item Entry'!D31)","v":""},{"$f":"IF('Item Entry'!F31=\"\", \"\", 'Item Entry'!F31)","v":""},{"$f":"IF('Item Entry'!E31=\"\", \"\", 'Item Entry'!E31)","v":""},{"$f":"IF('Item Entry'!H31=\"\", \"\", 'Item Entry'!H31)","v":""},{"$f":"IF('Item Entry'!I31=\"\", \"\", 'Item Entry'!I31)","v":""}]
[{"$f":"IF(AND(B21=\"\", D21=\"\", E21=\"\", F21=\"\"), \"\", 'Combined CSV'!$B$10)","v":""},{"$f":"IF('Item Entry'!D32=\"\", \"\", 'Item Entry'!D32)","v":""},{"$f":"IF('Item Entry'!F32=\"\", \"\", 'Item Entry'!F32)","v":""},{"$f":"IF('Item Entry'!E32=\"\", \"\", 'Item Entry'!E32)","v":""},{"$f":"IF('Item Entry'!H32=\"\", \"\", 'Item Entry'!H32)","v":""},{"$f":"IF('Item Entry'!I32=\"\", \"\", 'Item Entry'!I32)","v":""}]
[{"$f":"IF(AND(B22=\"\", D22=\"\", E22=\"\", F22=\"\"), \"\", 'Combined CSV'!$B$10)","v":""},{"$f":"IF('Item Entry'!D33=\"\", \"\", 'Item Entry'!D33)","v":""},{"$f":"IF('Item Entry'!F33=\"\", \"\", 'Item Entry'!F33)","v":""},{"$f":"IF('Item Entry'!E33=\"\", \"\", 'Item Entry'!E33)","v":""},{"$f":"IF('Item Entry'!H33=\"\", \"\", 'Item Entry'!H33)","v":""},{"$f":"IF('Item Entry'!I33=\"\", \"\", 'Item Entry'!I33)","v":""}]
[{"$f":"IF(AND(B23=\"\", D23=\"\", E23=\"\", F23=\"\"), \"\", 'Combined CSV'!$B$10)","v":""},{"$f":"IF('Item Entry'!D34=\"\", \"\", 'Item Entry'!D34)","v":""},{"$f":"IF('Item Entry'!F34=\"\", \"\", 'Item Entry'!F34)","v":""},{"$f":"IF('Item Entry'!E34=\"\", \"\", 'Item Entry'!E34)","v":""},{"$f":"IF('Item Entry'!H34=\"\", \"\", 'Item Entry'!H34)","v":""},{"$f":"IF('Item Entry'!I34=\"\", \"\", 'Item Entry'!I34)","v":""}]
[{"$f":"IF(AND(B24=\"\", D24=\"\", E24=\"\", F24=\"\"), \"\", 'Combined CSV'!$B$10)","v":""},{"$f":"IF('Item Entry'!D35=\"\", \"\", 'Item Entry'!D35)","v":""},{"$f":"IF('Item Entry'!F35=\"\", \"\", 'Item Entry'!F35)","v":""},{"$f":"IF('Item Entry'!E35=\"\", \"\", 'Item Entry'!E35)","v":""},{"$f":"IF('Item Entry'!H35=\"\", \"\", 'Item Entry'!H35)","v":""},{"$f":"IF('Item Entry'!I35=\"\", \"\", 'Item Entry'!I35)","v":""}]
[{"$f":"IF(AND(B25=\"\", D25=\"\", E25=\"\", F25=\"\"), \"\", 'Combined CSV'!$B$10)","v":""},{"$f":"IF('Item Entry'!D36=\"\", \"\", 'Item Entry'!D36)","v":""},{"$f":"IF('Item Entry'!F36=\"\", \"\", 'Item Entry'!F36)","v":""},{"$f":"IF('Item Entry'!E36=\"\", \"\", 'Item Entry'!E36)","v":""},{"$f":"IF('Item Entry'!H36=\"\", \"\", 'Item Entry'!H36)","v":""},{"$f":"IF('Item Entry'!I36=\"\", \"\", 'Item Entry'!I36)","v":""}]
[{"$f":"IF(AND(B26=\"\", D26=\"\", E26=\"\", F26=\"\"), \"\", 'Combined CSV'!$B$10)","v":""},{"$f":"IF('Item Entry'!D37=\"\", \"\", 'Item Entry'!D37)","v":""},{"$f":"IF('Item Entry'!F37=\"\", \"\", 'Item Entry'!F37)","v":""},{"$f":"IF('Item Entry'!E37=\"\", \"\", 'Item Entry'!E37)","v":""},{"$f":"IF('Item Entry'!H37=\"\", \"\", 'Item Entry'!H37)","v":""},{"$f":"IF('Item Entry'!I37=\"\", \"\", 'Item Entry'!I37)","v":""}]
[{"$f":"IF(AND(B27=\"\", D27=\"\", E27=\"\", F27=\"\"), \"\", 'Combined CSV'!$B$10)","v":""},{"$f":"IF('Item Entry'!D38=\"\", \"\", 'Item Entry'!D38)","v":""},{"$f":"IF('Item Entry'!F38=\"\", \"\", 'Item Entry'!F38)","v":""},{"$f":"IF('Item Entry'!E38=\"\", \"\", 'Item Entry'!E38)","v":""},{"$f":"IF('Item Entry'!H38=\"\", \"\", 'Item Entry'!H38)","v":""},{"$f":"IF('Item Entry'!I38=\"\", \"\", 'Item Entry'!I38)","v":""}]
[{"$f":"IF(AND(B28=\"\", D28=\"\", E28=\"\", F28=\"\"), \"\", 'Combined CSV'!$B$10)","v":""},{"$f":"IF('Item Entry'!D39=\"\", \"\", 'Item Entry'!D39)","v":""},{"$f":"IF('Item Entry'!F39=\"\", \"\", 'Item Entry'!F39)","v":""},{"$f":"IF('Item Entry'!E39=\"\", \"\", 'Item Entry'!E39)","v":""},{"$f":"IF('Item Entry'!H39=\"\", \"\", 'Item Entry'!H39)","v":""},{"$f":"IF('Item Entry'!I39=\"\", \"\", 'Item Entry'!I39)","v":""}]
[{"$f":"IF(AND(B29=\"\", D29=\"\", E29=\"\", F29=\"\"), \"\", 'Combined CSV'!$B$10)","v":""},{"$f":"IF('Item Entry'!D40=\"\", \"\", 'Item Entry'!D40)","v":""},{"$f":"IF('Item Entry'!F40=\"\", \"\", 'Item Entry'!F40)","v":""},{"$f":"IF('Item Entry'!E40=\"\", \"\", 'Item Entry'!E40)","v":""},{"$f":"IF('Item Entry'!H40=\"\", \"\", 'Item Entry'!H40)","v":""},{"$f":"IF('Item Entry'!I40=\"\", \"\", 'Item Entry'!I40)","v":""}]
[{"$f":"IF(AND(B30=\"\", D30=\"\", E30=\"\", F30=\"\"), \"\", 'Combined CSV'!$B$10)","v":""},{"$f":"IF('Item Entry'!D41=\"\", \"\", 'Item Entry'!D41)","v":""},{"$f":"IF('Item Entry'!F41=\"\", \"\", 'Item Entry'!F41)","v":""},{"$f":"IF('Item Entry'!E41=\"\", \"\", 'Item Entry'!E41)","v":""},{"$f":"IF('Item Entry'!H41=\"\", \"\", 'Item Entry'!H41)","v":""},{"$f":"IF('Item Entry'!I41=\"\", \"\", 'Item Entry'!I41)","v":""}]
[{"$f":"IF(AND(B31=\"\", D31=\"\", E31=\"\", F31=\"\"), \"\", 'Combined CSV'!$B$10)","v":""},{"$f":"IF('Item Entry'!D42=\"\", \"\", 'Item Entry'!D42)","v":""},{"$f":"IF('Item Entry'!F42=\"\", \"\", 'Item Entry'!F42)","v":""},{"$f":"IF('Item Entry'!E42=\"\", \"\", 'Item Entry'!E42)","v":""},{"$f":"IF('Item Entry'!H42=\"\", \"\", 'Item Entry'!H42)","v":""},{"$f":"IF('Item Entry'!I42=\"\", \"\", 'Item Entry'!I42)","v":""}]
[{"$f":"IF(AND(B32=\"\", D32=\"\", E32=\"\", F32=\"\"), \"\", 'Combined CSV'!$B$10)","v":""},{"$f":"IF('Item Entry'!D43=\"\", \"\", 'Item Entry'!D43)","v":""},{"$f":"IF('Item Entry'!F43=\"\", \"\", 'Item Entry'!F43)","v":""},{"$f":"IF('Item Entry'!E43=\"\", \"\", 'Item Entry'!E43)","v":""},{"$f":"IF('Item Entry'!H43=\"\", \"\", 'Item Entry'!H43)","v":""},{"$f":"IF('Item Entry'!I43=\"\", \"\", 'Item Entry'!I43)","v":""}]
[{"$f":"IF(AND(B33=\"\", D33=\"\", E33=\"\", F33=\"\"), \"\", 'Combined CSV'!$B$10)","v":""},{"$f":"IF('Item Entry'!D44=\"\", \"\", 'Item Entry'!D44)","v":""},{"$f":"IF('Item Entry'!F44=\"\", \"\", 'Item Entry'!F44)","v":""},{"$f":"IF('Item Entry'!E44=\"\", \"\", 'Item Entry'!E44)","v":""},{"$f":"IF('Item Entry'!H44=\"\", \"\", 'Item Entry'!H44)","v":""},{"$f":"IF('Item Entry'!I44=\"\", \"\", 'Item Entry'!I44)","v":""}]
[{"$f":"IF(AND(B34=\"\", D34=\"\", E34=\"\", F34=\"\"), \"\", 'Combined CSV'!$B$10)","v":""},{"$f":"IF('Item Entry'!D45=\"\", \"\", 'Item Entry'!D45)","v":""},{"$f":"IF('Item Entry'!F45=\"\", \"\", 'Item Entry'!F45)","v":""},{"$f":"IF('Item Entry'!E45=\"\", \"\", 'Item Entry'!E45)","v":""},{"$f":"IF('Item Entry'!H45=\"\", \"\", 'Item Entry'!H45)","v":""},{"$f":"IF('Item Entry'!I45=\"\", \"\", 'Item Entry'!I45)","v":""}]
[{"$f":"IF(AND(B35=\"\", D35=\"\", E35=\"\", F35=\"\"), \"\", 'Combined CSV'!$B$10)","v":""},{"$f":"IF('Item Entry'!D46=\"\", \"\", 'Item Entry'!D46)","v":""},{"$f":"IF('Item Entry'!F46=\"\", \"\", 'Item Entry'!F46)","v":""},{"$f":"IF('Item Entry'!E46=\"\", \"\", 'Item Entry'!E46)","v":""},{"$f":"IF('Item Entry'!H46=\"\", \"\", 'Item Entry'!H46)","v":""},{"$f":"IF('Item Entry'!I46=\"\", \"\", 'Item Entry'!I46)","v":""}]
[{"$f":"IF(AND(B36=\"\", D36=\"\", E36=\"\", F36=\"\"), \"\", 'Combined CSV'!$B$10)","v":""},{"$f":"IF('Item Entry'!D47=\"\", \"\", 'Item Entry'!D47)","v":""},{"$f":"IF('Item Entry'!F47=\"\", \"\", 'Item Entry'!F47)","v":""},{"$f":"IF('Item Entry'!E47=\"\", \"\", 'Item Entry'!E47)","v":""},{"$f":"IF('Item Entry'!H47=\"\", \"\", 'Item Entry'!H47)","v":""},{"$f":"IF('Item Entry'!I47=\"\", \"\", 'Item Entry'!I47)","v":""}]
[{"$f":"IF(AND(B37=\"\", D37=\"\", E37=\"\", F37=\"\"), \"\", 'Combined CSV'!$B$10)","v":""},{"$f":"IF('Item Entry'!D48=\"\", \"\", 'Item Entry'!D48)","v":""},{"$f":"IF('Item Entry'!F48=\"\", \"\", 'Item Entry'!F48)","v":""},{"$f":"IF('Item Entry'!E48=\"\", \"\", 'Item Entry'!E48)","v":""},{"$f":"IF('Item Entry'!H48=\"\", \"\", 'Item Entry'!H48)","v":""},{"$f":"IF('Item Entry'!I48=\"\", \"\", 'Item Entry'!I48)","v":""}]
[{"$f":"IF(AND(B38=\"\", D38=\"\", E38=\"\", F38=\"\"), \"\", 'Combined CSV'!$B$10)","v":""},{"$f":"IF('Item Entry'!D49=\"\", \"\", 'Item Entry'!D49)","v":""},{"$f":"IF('Item Entry'!F49=\"\", \"\", 'Item Entry'!F49)","v":""},{"$f":"IF('Item Entry'!E49=\"\", \"\", 'Item Entry'!E49)","v":""},{"$f":"IF('Item Entry'!H49=\"\", \"\", 'Item Entry'!H49)","v":""},{"$f":"IF('Item Entry'!I49=\"\", \"\", 'Item Entry'!I49)","v":""}]
[{"$f":"IF(AND(B39=\"\", D39=\"\", E39=\"\", F39=\"\"), \"\", 'Combined CSV'!$B$10)","v":""},{"$f":"IF('Item Entry'!D50=\"\", \"\", 'Item Entry'!D50)","v":""},{"$f":"IF('Item Entry'!F50=\"\", \"\", 'Item Entry'!F50)","v":""},{"$f":"IF('Item Entry'!E50=\"\", \"\", 'Item Entry'!E50)","v":""},{"$f":"IF('Item Entry'!H50=\"\", \"\", 'Item Entry'!H50)","v":""},{"$f":"IF('Item Entry'!I50=\"\", \"\", 'Item Entry'!I50)","v":""}]
[{"$f":"IF(AND(B40=\"\", D40=\"\", E40=\"\", F40=\"\"), \"\", 'Combined CSV'!$B$10)","v":""},{"$f":"IF('Item Entry'!D51=\"\", \"\", 'Item Entry'!D51)","v":""},{"$f":"IF('Item Entry'!F51=\"\", \"\", 'Item Entry'!F51)","v":""},{"$f":"IF('Item Entry'!E51=\"\", \"\", 'Item Entry'!E51)","v":""},{"$f":"IF('Item Entry'!H51=\"\", \"\", 'Item Entry'!H51)","v":""},{"$f":"IF('Item Entry'!I51=\"\", \"\", 'Item Entry'!I51)","v":""}]
[{"$f":"IF(AND(B41=\"\", D41=\"\", E41=\"\", F41=\"\"), \"\", 'Combined CSV'!$B$10)","v":""},{"$f":"IF('Item Entry'!D52=\"\", \"\", 'Item Entry'!D52)","v":""},{"$f":"IF('Item Entry'!F52=\"\", \"\", 'Item Entry'!F52)","v":""},{"$f":"IF('Item Entry'!E52=\"\", \"\", 'Item Entry'!E52)","v":""},{"$f":"IF('Item Entry'!H52=\"\", \"\", 'Item Entry'!H52)","v":""},{"$f":"IF('Item Entry'!I52=\"\", \"\", 'Item Entry'!I52)","v":""}]
[{"$f":"IF(AND(B42=\"\", D42=\"\", E42=\"\", F42=\"\"), \"\", 'Combined CSV'!$B$10)","v":""},{"$f":"IF('Item Entry'!D53=\"\", \"\", 'Item Entry'!D53)","v":""},{"$f":"IF('Item Entry'!F53=\"\", \"\", 'Item Entry'!F53)","v":""},{"$f":"IF('Item Entry'!E53=\"\", \"\", 'Item Entry'!E53)","v":""},{"$f":"IF('Item Entry'!H53=\"\", \"\", 'Item Entry'!H53)","v":""},{"$f":"IF('Item Entry'!I53=\"\", \"\", 'Item Entry'!I53)","v":""}]
[{"$f":"IF(AND(B43=\"\", D43=\"\", E43=\"\", F43=\"\"), \"\", 'Combined CSV'!$B$10)","v":""},{"$f":"IF('Item Entry'!D54=\"\", \"\", 'Item Entry'!D54)","v":""},{"$f":"IF('Item Entry'!F54=\"\", \"\", 'Item Entry'!F54)","v":""},{"$f":"IF('Item Entry'!E54=\"\", \"\", 'Item Entry'!E54)","v":""},{"$f":"IF('Item Entry'!H54=\"\", \"\", 'Item Entry'!H54)","v":""},{"$f":"IF('Item Entry'!I54=\"\", \"\", 'Item Entry'!I54)","v":""}]
[{"$f":"IF(AND(B44=\"\", D44=\"\", E44=\"\", F44=\"\"), \"\", 'Combined CSV'!$B$10)","v":""},{"$f":"IF('Item Entry'!D55=\"\", \"\", 'Item Entry'!D55)","v":""},{"$f":"IF('Item Entry'!F55=\"\", \"\", 'Item Entry'!F55)","v":""},{"$f":"IF('Item Entry'!E55=\"\", \"\", 'Item Entry'!E55)","v":""},{"$f":"IF('Item Entry'!H55=\"\", \"\", 'Item Entry'!H55)","v":""},{"$f":"IF('Item Entry'!I55=\"\", \"\", 'Item Entry'!I55)","v":""}]
[{"$f":"IF(AND(B45=\"\", D45=\"\", E45=\"\", F45=\"\"), \"\", 'Combined CSV'!$B$10)","v":""},{"$f":"IF('Item Entry'!D56=\"\", \"\", 'Item Entry'!D56)","v":""},{"$f":"IF('Item Entry'!F56=\"\", \"\", 'Item Entry'!F56)","v":""},{"$f":"IF('Item Entry'!E56=\"\", \"\", 'Item Entry'!E56)","v":""},{"$f":"IF('Item Entry'!H56=\"\", \"\", 'Item Entry'!H56)","v":""},{"$f":"IF('Item Entry'!I56=\"\", \"\", 'Item Entry'!I56)","v":""}]
[{"$f":"IF(AND(B46=\"\", D46=\"\", E46=\"\", F46=\"\"), \"\", 'Combined CSV'!$B$10)","v":""},{"$f":"IF('Item Entry'!D57=\"\", \"\", 'Item Entry'!D57)","v":""},{"$f":"IF('Item Entry'!F57=\"\", \"\", 'Item Entry'!F57)","v":""},{"$f":"IF('Item Entry'!E57=\"\", \"\", 'Item Entry'!E57)","v":""},{"$f":"IF('Item Entry'!H57=\"\", \"\", 'Item Entry'!H57)","v":""},{"$f":"IF('Item Entry'!I57=\"\", \"\", 'Item Entry'!I57)","v":""}]
[{"$f":"IF(AND(B47=\"\", D47=\"\", E47=\"\", F47=\"\"), \"\", 'Combined CSV'!$B$10)","v":""},{"$f":"IF('Item Entry'!D58=\"\", \"\", 'Item Entry'!D58)","v":""},{"$f":"IF('Item Entry'!F58=\"\", \"\", 'Item Entry'!F58)","v":""},{"$f":"IF('Item Entry'!E58=\"\", \"\", 'Item Entry'!E58)","v":""},{"$f":"IF('Item Entry'!H58=\"\", \"\", 'Item Entry'!H58)","v":""},{"$f":"IF('Item Entry'!I58=\"\", \"\", 'Item Entry'!I58)","v":""}]
[{"$f":"IF(AND(B48=\"\", D48=\"\", E48=\"\", F48=\"\"), \"\", 'Combined CSV'!$B$10)","v":""},{"$f":"IF('Item Entry'!D59=\"\", \"\", 'Item Entry'!D59)","v":""},{"$f":"IF('Item Entry'!F59=\"\", \"\", 'Item Entry'!F59)","v":""},{"$f":"IF('Item Entry'!E59=\"\", \"\", 'Item Entry'!E59)","v":""},{"$f":"IF('Item Entry'!H59=\"\", \"\", 'Item Entry'!H59)","v":""},{"$f":"IF('Item Entry'!I59=\"\", \"\", 'Item Entry'!I59)","v":""}]
[{"$f":"IF(AND(B49=\"\", D49=\"\", E49=\"\", F49=\"\"), \"\", 'Combined CSV'!$B$10)","v":""},{"$f":"IF('Item Entry'!D60=\"\", \"\", 'Item Entry'!D60)","v":""},{"$f":"IF('Item Entry'!F60=\"\", \"\", 'Item Entry'!F60)","v":""},{"$f":"IF('Item Entry'!E60=\"\", \"\", 'Item Entry'!E60)","v":""},{"$f":"IF('Item Entry'!H60=\"\", \"\", 'Item Entry'!H60)","v":""},{"$f":"IF('Item Entry'!I60=\"\", \"\", 'Item Entry'!I60)","v":""}]
[{"$f":"IF(AND(B50=\"\", D50=\"\", E50=\"\", F50=\"\"), \"\", 'Combined CSV'!$B$10)","v":""},{"$f":"IF('Item Entry'!D61=\"\", \"\", 'Item Entry'!D61)","v":""},{"$f":"IF('Item Entry'!F61=\"\", \"\", 'Item Entry'!F61)","v":""},{"$f":"IF('Item Entry'!E61=\"\", \"\", 'Item Entry'!E61)","v":""},{"$f":"IF('Item Entry'!H61=\"\", \"\", 'Item Entry'!H61)","v":""},{"$f":"IF('Item Entry'!I61=\"\", \"\", 'Item Entry'!I61)","v":""}]
[{"$f":"IF(AND(B51=\"\", D51=\"\", E51=\"\", F51=\"\"), \"\", 'Combined CSV'!$B$10)","v":""},{"$f":"IF('Item Entry'!D62=\"\", \"\", 'Item Entry'!D62)","v":""},{"$f":"IF('Item Entry'!F62=\"\", \"\", 'Item Entry'!F62)","v":""},{"$f":"IF('Item Entry'!E62=\"\", \"\", 'Item Entry'!E62)","v":""},{"$f":"IF('Item Entry'!H62=\"\", \"\", 'Item Entry'!H62)","v":""},{"$f":"IF('Item Entry'!I62=\"\", \"\", 'Item Entry'!I62)","v":""}]
[{"$f":"IF(AND(B52=\"\", D52=\"\", E52=\"\", F52=\"\"), \"\", 'Combined CSV'!$B$10)","v":""},{"$f":"IF('Item Entry'!D63=\"\", \"\", 'Item Entry'!D63)","v":""},{"$f":"IF('Item Entry'!F63=\"\", \"\", 'Item Entry'!F63)","v":""},{"$f":"IF('Item Entry'!E63=\"\", \"\", 'Item Entry'!E63)","v":""},{"$f":"IF('Item Entry'!H63=\"\", \"\", 'Item Entry'!H63)","v":""},{"$f":"IF('Item Entry'!I63=\"\", \"\", 'Item Entry'!I63)","v":""}]
[{"$f":"IF(AND(B53=\"\", D53=\"\", E53=\"\", F53=\"\"), \"\", 'Combined CSV'!$B$10)","v":""},{"$f":"IF('Item Entry'!D64=\"\", \"\", 'Item Entry'!D64)","v":""},{"$f":"IF('Item Entry'!F64=\"\", \"\", 'Item Entry'!F64)","v":""},{"$f":"IF('Item Entry'!E64=\"\", \"\", 'Item Entry'!E64)","v":""},{"$f":"IF('Item Entry'!H64=\"\", \"\", 'Item Entry'!H64)","v":""},{"$f":"IF('Item Entry'!I64=\"\", \"\", 'Item Entry'!I64)","v":""}]
[{"$f":"IF(AND(B54=\"\", D54=\"\", E54=\"\", F54=\"\"), \"\", 'Combined CSV'!$B$10)","v":""},{"$f":"IF('Item Entry'!D65=\"\", \"\", 'Item Entry'!D65)","v":""},{"$f":"IF('Item Entry'!F65=\"\", \"\", 'Item Entry'!F65)","v":""},{"$f":"IF('Item Entry'!E65=\"\", \"\", 'Item Entry'!E65)","v":""},{"$f":"IF('Item Entry'!H65=\"\", \"\", 'Item Entry'!H65)","v":""},{"$f":"IF('Item Entry'!I65=\"\", \"\", 'Item Entry'!I65)","v":""}]
[{"$f":"IF(AND(B55=\"\", D55=\"\", E55=\"\", F55=\"\"), \"\", 'Combined CSV'!$B$10)","v":""},{"$f":"IF('Item Entry'!D66=\"\", \"\", 'Item Entry'!D66)","v":""},{"$f":"IF('Item Entry'!F66=\"\", \"\", 'Item Entry'!F66)","v":""},{"$f":"IF('Item Entry'!E66=\"\", \"\", 'Item Entry'!E66)","v":""},{"$f":"IF('Item Entry'!H66=\"\", \"\", 'Item Entry'!H66)","v":""},{"$f":"IF('Item Entry'!I66=\"\", \"\", 'Item Entry'!I66)","v":""}]
[{"$f":"IF(AND(B56=\"\", D56=\"\", E56=\"\", F56=\"\"), \"\", 'Combined CSV'!$B$10)","v":""},{"$f":"IF('Item Entry'!D67=\"\", \"\", 'Item Entry'!D67)","v":""},{"$f":"IF('Item Entry'!F67=\"\", \"\", 'Item Entry'!F67)","v":""},{"$f":"IF('Item Entry'!E67=\"\", \"\", 'Item Entry'!E67)","v":""},{"$f":"IF('Item Entry'!H67=\"\", \"\", 'Item Entry'!H67)","v":""},{"$f":"IF('Item Entry'!I67=\"\", \"\", 'Item Entry'!I67)","v":""}]
[{"$f":"IF(AND(B57=\"\", D57=\"\", E57=\"\", F57=\"\"), \"\", 'Combined CSV'!$B$10)","v":""},{"$f":"IF('Item Entry'!D68=\"\", \"\", 'Item Entry'!D68)","v":""},{"$f":"IF('Item Entry'!F68=\"\", \"\", 'Item Entry'!F68)","v":""},{"$f":"IF('Item Entry'!E68=\"\", \"\", 'Item Entry'!E68)","v":""},{"$f":"IF('Item Entry'!H68=\"\", \"\", 'Item Entry'!H68)","v":""},{"$f":"IF('Item Entry'!I68=\"\", \"\", 'Item Entry'!I68)","v":""}]
[{"$f":"IF(AND(B58=\"\", D58=\"\", E58=\"\", F58=\"\"), \"\", 'Combined CSV'!$B$10)","v":""},{"$f":"IF('Item Entry'!D69=\"\", \"\", 'Item Entry'!D69)","v":""},{"$f":"IF('Item Entry'!F69=\"\", \"\", 'Item Entry'!F69)","v":""},{"$f":"IF('Item Entry'!E69=\"\", \"\", 'Item Entry'!E69)","v":""},{"$f":"IF('Item Entry'!H69=\"\", \"\", 'Item Entry'!H69)","v":""},{"$f":"IF('Item Entry'!I69=\"\", \"\", 'Item Entry'!I69)","v":""}]
[{"$f":"IF(AND(B59=\"\", D59=\"\", E59=\"\", F59=\"\"), \"\", 'Combined CSV'!$B$10)","v":""},{"$f":"IF('Item Entry'!D70=\"\", \"\", 'Item Entry'!D70)","v":""},{"$f":"IF('Item Entry'!F70=\"\", \"\", 'Item Entry'!F70)","v":""},{"$f":"IF('Item Entry'!E70=\"\", \"\", 'Item Entry'!E70)","v":""},{"$f":"IF('Item Entry'!H70=\"\", \"\", 'Item Entry'!H70)","v":""},{"$f":"IF('Item Entry'!I70=\"\", \"\", 'Item Entry'!I70)","v":""}]
[{"$f":"IF(AND(B60=\"\", D60=\"\", E60=\"\", F60=\"\"), \"\", 'Combined CSV'!$B$10)","v":""},{"$f":"IF('Item Entry'!D71=\"\", \"\", 'Item Entry'!D71)","v":""},{"$f":"IF('Item Entry'!F71=\"\", \"\", 'Item Entry'!F71)","v":""},{"$f":"IF('Item Entry'!E71=\"\", \"\", 'Item Entry'!E71)","v":""},{"$f":"IF('Item Entry'!H71=\"\", \"\", 'Item Entry'!H71)","v":""},{"$f":"IF('Item Entry'!I71=\"\", \"\", 'Item Entry'!I71)","v":""}]
[{"$f":"IF(AND(B61=\"\", D61=\"\", E61=\"\", F61=\"\"), \"\", 'Combined CSV'!$B$10)","v":""},{"$f":"IF('Item Entry'!D72=\"\", \"\", 'Item Entry'!D72)","v":""},{"$f":"IF('Item Entry'!F72=\"\", \"\", 'Item Entry'!F72)","v":""},{"$f":"IF('Item Entry'!E72=\"\", \"\", 'Item Entry'!E72)","v":""},{"$f":"IF('Item Entry'!H72=\"\", \"\", 'Item Entry'!H72)","v":""},{"$f":"IF('Item Entry'!I72=\"\", \"\", 'Item Entry'!I72)","v":""}]
[{"$f":"IF(AND(B62=\"\", D62=\"\", E62=\"\", F62=\"\"), \"\", 'Combined CSV'!$B$10)","v":""},{"$f":"IF('Item Entry'!D73=\"\", \"\", 'Item Entry'!D73)","v":""},{"$f":"IF('Item Entry'!F73=\"\", \"\", 'Item Entry'!F73)","v":""},{"$f":"IF('Item Entry'!E73=\"\", \"\", 'Item Entry'!E73)","v":""},{"$f":"IF('Item Entry'!H73=\"\", \"\", 'Item Entry'!H73)","v":""},{"$f":"IF('Item Entry'!I73=\"\", \"\", 'Item Entry'!I73)","v":""}]
[{"$f":"IF(AND(B63=\"\", D63=\"\", E63=\"\", F63=\"\"), \"\", 'Combined CSV'!$B$10)","v":""},{"$f":"IF('Item Entry'!D74=\"\", \"\", 'Item Entry'!D74)","v":""},{"$f":"IF('Item Entry'!F74=\"\", \"\", 'Item Entry'!F74)","v":""},{"$f":"IF('Item Entry'!E74=\"\", \"\", 'Item Entry'!E74)","v":""},{"$f":"IF('Item Entry'!H74=\"\", \"\", 'Item Entry'!H74)","v":""},{"$f":"IF('Item Entry'!I74=\"\", \"\", 'Item Entry'!I74)","v":""}]
[{"$f":"IF(AND(B64=\"\", D64=\"\", E64=\"\", F64=\"\"), \"\", 'Combined CSV'!$B$10)","v":""},{"$f":"IF('Item Entry'!D75=\"\", \"\", 'Item Entry'!D75)","v":""},{"$f":"IF('Item Entry'!F75=\"\", \"\", 'Item Entry'!F75)","v":""},{"$f":"IF('Item Entry'!E75=\"\", \"\", 'Item Entry'!E75)","v":""},{"$f":"IF('Item Entry'!H75=\"\", \"\", 'Item Entry'!H75)","v":""},{"$f":"IF('Item Entry'!I75=\"\", \"\", 'Item Entry'!I75)","v":""}]
[{"$f":"IF(AND(B65=\"\", D65=\"\", E65=\"\", F65=\"\"), \"\", 'Combined CSV'!$B$10)","v":""},{"$f":"IF('Item Entry'!D76=\"\", \"\", 'Item Entry'!D76)","v":""},{"$f":"IF('Item Entry'!F76=\"\", \"\", 'Item Entry'!F76)","v":""},{"$f":"IF('Item Entry'!E76=\"\", \"\", 'Item Entry'!E76)","v":""},{"$f":"IF('Item Entry'!H76=\"\", \"\", 'Item Entry'!H76)","v":""},{"$f":"IF('Item Entry'!I76=\"\", \"\", 'Item Entry'!I76)","v":""}]
[{"$f":"IF(AND(B66=\"\", D66=\"\", E66=\"\", F66=\"\"), \"\", 'Combined CSV'!$B$10)","v":""},{"$f":"IF('Item Entry'!D77=\"\", \"\", 'Item Entry'!D77)","v":""},{"$f":"IF('Item Entry'!F77=\"\", \"\", 'Item Entry'!F77)","v":""},{"$f":"IF('Item Entry'!E77=\"\", \"\", 'Item Entry'!E77)","v":""},{"$f":"IF('Item Entry'!H77=\"\", \"\", 'Item Entry'!H77)","v":""},{"$f":"IF('Item Entry'!I77=\"\", \"\", 'Item Entry'!I77)","v":""}]
[{"$f":"IF(AND(B67=\"\", D67=\"\", E67=\"\", F67=\"\"), \"\", 'Combined CSV'!$B$10)","v":""},{"$f":"IF('Item Entry'!D78=\"\", \"\", 'Item Entry'!D78)","v":""},{"$f":"IF('Item Entry'!F78=\"\", \"\", 'Item Entry'!F78)","v":""},{"$f":"IF('Item Entry'!E78=\"\", \"\", 'Item Entry'!E78)","v":""},{"$f":"IF('Item Entry'!H78=\"\", \"\", 'Item Entry'!H78)","v":""},{"$f":"IF('Item Entry'!I78=\"\", \"\", 'Item Entry'!I78)","v":""}]
[{"$f":"IF(AND(B68=\"\", D68=\"\", E68=\"\", F68=\"\"), \"\", 'Combined CSV'!$B$10)","v":""},{"$f":"IF('Item Entry'!D79=\"\", \"\", 'Item Entry'!D79)","v":""},{"$f":"IF('Item Entry'!F79=\"\", \"\", 'Item Entry'!F79)","v":""},{"$f":"IF('Item Entry'!E79=\"\", \"\", 'Item Entry'!E79)","v":""},{"$f":"IF('Item Entry'!H79=\"\", \"\", 'Item Entry'!H79)","v":""},{"$f":"IF('Item Entry'!I79=\"\", \"\", 'Item Entry'!I79)","v":""}]
[{"$f":"IF(AND(B69=\"\", D69=\"\", E69=\"\", F69=\"\"), \"\", 'Combined CSV'!$B$10)","v":""},{"$f":"IF('Item Entry'!D80=\"\", \"\", 'Item Entry'!D80)","v":""},{"$f":"IF('Item Entry'!F80=\"\", \"\", 'Item Entry'!F80)","v":""},{"$f":"IF('Item Entry'!E80=\"\", \"\", 'Item Entry'!E80)","v":""},{"$f":"IF('Item Entry'!H80=\"\", \"\", 'Item Entry'!H80)","v":""},{"$f":"IF('Item Entry'!I80=\"\", \"\", 'Item Entry'!I80)","v":""}]
[{"$f":"IF(AND(B70=\"\", D70=\"\", E70=\"\", F70=\"\"), \"\", 'Combined CSV'!$B$10)","v":""},{"$f":"IF('Item Entry'!D81=\"\", \"\", 'Item Entry'!D81)","v":""},{"$f":"IF('Item Entry'!F81=\"\", \"\", 'Item Entry'!F81)","v":""},{"$f":"IF('Item Entry'!E81=\"\", \"\", 'Item Entry'!E81)","v":""},{"$f":"IF('Item Entry'!H81=\"\", \"\", 'Item Entry'!H81)","v":""},{"$f":"IF('Item Entry'!I81=\"\", \"\", 'Item Entry'!I81)","v":""}]
[{"$f":"IF(AND(B71=\"\", D71=\"\", E71=\"\", F71=\"\"), \"\", 'Combined CSV'!$B$10)","v":""},{"$f":"IF('Item Entry'!D82=\"\", \"\", 'Item Entry'!D82)","v":""},{"$f":"IF('Item Entry'!F82=\"\", \"\", 'Item Entry'!F82)","v":""},{"$f":"IF('Item Entry'!E82=\"\", \"\", 'Item Entry'!E82)","v":""},{"$f":"IF('Item Entry'!H82=\"\", \"\", 'Item Entry'!H82)","v":""},{"$f":"IF('Item Entry'!I82=\"\", \"\", 'Item Entry'!I82)","v":""}]
[{"$f":"IF(AND(B72=\"\", D72=\"\", E72=\"\", F72=\"\"), \"\", 'Combined CSV'!$B$10)","v":""},{"$f":"IF('Item Entry'!D83=\"\", \"\", 'Item Entry'!D83)","v":""},{"$f":"IF('Item Entry'!F83=\"\", \"\", 'Item Entry'!F83)","v":""},{"$f":"IF('Item Entry'!E83=\"\", \"\", 'Item Entry'!E83)","v":""},{"$f":"IF('Item Entry'!H83=\"\", \"\", 'Item Entry'!H83)","v":""},{"$f":"IF('Item Entry'!I83=\"\", \"\", 'Item Entry'!I83)","v":""}]
[{"$f":"IF(AND(B73=\"\", D73=\"\", E73=\"\", F73=\"\"), \"\", 'Combined CSV'!$B$10)","v":""},{"$f":"IF('Item Entry'!D84=\"\", \"\", 'Item Entry'!D84)","v":""},{"$f":"IF('Item Entry'!F84=\"\", \"\", 'Item Entry'!F84)","v":""},{"$f":"IF('Item Entry'!E84=\"\", \"\", 'Item Entry'!E84)","v":""},{"$f":"IF('Item Entry'!H84=\"\", \"\", 'Item Entry'!H84)","v":""},{"$f":"IF('Item Entry'!I84=\"\", \"\", 'Item Entry'!I84)","v":""}]
[{"$f":"IF(AND(B74=\"\", D74=\"\", E74=\"\", F74=\"\"), \"\", 'Combined CSV'!$B$10)","v":""},{"$f":"IF('Item Entry'!D85=\"\", \"\", 'Item Entry'!D85)","v":""},{"$f":"IF('Item Entry'!F85=\"\", \"\", 'Item Entry'!F85)","v":""},{"$f":"IF('Item Entry'!E85=\"\", \"\", 'Item Entry'!E85)","v":""},{"$f":"IF('Item Entry'!H85=\"\", \"\", 'Item Entry'!H85)","v":""},{"$f":"IF('Item Entry'!I85=\"\", \"\", 'Item Entry'!I85)","v":""}]
[{"$f":"IF(AND(B75=\"\", D75=\"\", E75=\"\", F75=\"\"), \"\", 'Combined CSV'!$B$10)","v":""},{"$f":"IF('Item Entry'!D86=\"\", \"\", 'Item Entry'!D86)","v":""},{"$f":"IF('Item Entry'!F86=\"\", \"\", 'Item Entry'!F86)","v":""},{"$f":"IF('Item Entry'!E86=\"\", \"\", 'Item Entry'!E86)","v":""},{"$f":"IF('Item Entry'!H86=\"\", \"\", 'Item Entry'!H86)","v":""},{"$f":"IF('Item Entry'!I86=\"\", \"\", 'Item Entry'!I86)","v":""}]
[{"$f":"IF(AND(B76=\"\", D76=\"\", E76=\"\", F76=\"\"), \"\", 'Combined CSV'!$B$10)","v":""},{"$f":"IF('Item Entry'!D87=\"\", \"\", 'Item Entry'!D87)","v":""},{"$f":"IF('Item Entry'!F87=\"\", \"\", 'Item Entry'!F87)","v":""},{"$f":"IF('Item Entry'!E87=\"\", \"\", 'Item Entry'!E87)","v":""},{"$f":"IF('Item Entry'!H87=\"\", \"\", 'Item Entry'!H87)","v":""},{"$f":"IF('Item Entry'!I87=\"\", \"\", 'Item Entry'!I87)","v":""}]
[{"$f":"IF(AND(B77=\"\", D77=\"\", E77=\"\", F77=\"\"), \"\", 'Combined CSV'!$B$10)","v":""},{"$f":"IF('Item Entry'!D88=\"\", \"\", 'Item Entry'!D88)","v":""},{"$f":"IF('Item Entry'!F88=\"\", \"\", 'Item Entry'!F88)","v":""},{"$f":"IF('Item Entry'!E88=\"\", \"\", 'Item Entry'!E88)","v":""},{"$f":"IF('Item Entry'!H88=\"\", \"\", 'Item Entry'!H88)","v":""},{"$f":"IF('Item Entry'!I88=\"\", \"\", 'Item Entry'!I88)","v":""}]
[{"$f":"IF(AND(B78=\"\", D78=\"\", E78=\"\", F78=\"\"), \"\", 'Combined CSV'!$B$10)","v":""},{"$f":"IF('Item Entry'!D89=\"\", \"\", 'Item Entry'!D89)","v":""},{"$f":"IF('Item Entry'!F89=\"\", \"\", 'Item Entry'!F89)","v":""},{"$f":"IF('Item Entry'!E89=\"\", \"\", 'Item Entry'!E89)","v":""},{"$f":"IF('Item Entry'!H89=\"\", \"\", 'Item Entry'!H89)","v":""},{"$f":"IF('Item Entry'!I89=\"\", \"\", 'Item Entry'!I89)","v":""}]
[{"$f":"IF(AND(B79=\"\", D79=\"\", E79=\"\", F79=\"\"), \"\", 'Combined CSV'!$B$10)","v":""},{"$f":"IF('Item Entry'!D90=\"\", \"\", 'Item Entry'!D90)","v":""},{"$f":"IF('Item Entry'!F90=\"\", \"\", 'Item Entry'!F90)","v":""},{"$f":"IF('Item Entry'!E90=\"\", \"\", 'Item Entry'!E90)","v":""},{"$f":"IF('Item Entry'!H90=\"\", \"\", 'Item Entry'!H90)","v":""},{"$f":"IF('Item Entry'!I90=\"\", \"\", 'Item Entry'!I90)","v":""}]
[{"$f":"IF(AND(B80=\"\", D80=\"\", E80=\"\", F80=\"\"), \"\", 'Combined CSV'!$B$10)","v":""},{"$f":"IF('Item Entry'!D91=\"\", \"\", 'Item Entry'!D91)","v":""},{"$f":"IF('Item Entry'!F91=\"\", \"\", 'Item Entry'!F91)","v":""},{"$f":"IF('Item Entry'!E91=\"\", \"\", 'Item Entry'!E91)","v":""},{"$f":"IF('Item Entry'!H91=\"\", \"\", 'Item Entry'!H91)","v":""},{"$f":"IF('Item Entry'!I91=\"\", \"\", 'Item Entry'!I91)","v":""}]
[{"$f":"IF(AND(B81=\"\", D81=\"\", E81=\"\", F81=\"\"), \"\", 'Combined CSV'!$B$10)","v":""},{"$f":"IF('Item Entry'!D92=\"\", \"\", 'Item Entry'!D92)","v":""},{"$f":"IF('Item Entry'!F92=\"\", \"\", 'Item Entry'!F92)","v":""},{"$f":"IF('Item Entry'!E92=\"\", \"\", 'Item Entry'!E92)","v":""},{"$f":"IF('Item Entry'!H92=\"\", \"\", 'Item Entry'!H92)","v":""},{"$f":"IF('Item Entry'!I92=\"\", \"\", 'Item Entry'!I92)","v":""}]
[{"$f":"IF(AND(B82=\"\", D82=\"\", E82=\"\", F82=\"\"), \"\", 'Combined CSV'!$B$10)","v":""},{"$f":"IF('Item Entry'!D93=\"\", \"\", 'Item Entry'!D93)","v":""},{"$f":"IF('Item Entry'!F93=\"\", \"\", 'Item Entry'!F93)","v":""},{"$f":"IF('Item Entry'!E93=\"\", \"\", 'Item Entry'!E93)","v":""},{"$f":"IF('Item Entry'!H93=\"\", \"\", 'Item Entry'!H93)","v":""},{"$f":"IF('Item Entry'!I93=\"\", \"\", 'Item Entry'!I93)","v":""}]
[{"$f":"IF(AND(B83=\"\", D83=\"\", E83=\"\", F83=\"\"), \"\", 'Combined CSV'!$B$10)","v":""},{"$f":"IF('Item Entry'!D94=\"\", \"\", 'Item Entry'!D94)","v":""},{"$f":"IF('Item Entry'!F94=\"\", \"\", 'Item Entry'!F94)","v":""},{"$f":"IF('Item Entry'!E94=\"\", \"\", 'Item Entry'!E94)","v":""},{"$f":"IF('Item Entry'!H94=\"\", \"\", 'Item Entry'!H94)","v":""},{"$f":"IF('Item Entry'!I94=\"\", \"\", 'Item Entry'!I94)","v":""}]
[{"$f":"IF(AND(B84=\"\", D84=\"\", E84=\"\", F84=\"\"), \"\", 'Combined CSV'!$B$10)","v":""},{"$f":"IF('Item Entry'!D95=\"\", \"\", 'Item Entry'!D95)","v":""},{"$f":"IF('Item Entry'!F95=\"\", \"\", 'Item Entry'!F95)","v":""},{"$f":"IF('Item Entry'!E95=\"\", \"\", 'Item Entry'!E95)","v":""},{"$f":"IF('Item Entry'!H95=\"\", \"\", 'Item Entry'!H95)","v":""},{"$f":"IF('Item Entry'!I95=\"\", \"\", 'Item Entry'!I95)","v":""}]
[{"$f":"IF(AND(B85=\"\", D85=\"\", E85=\"\", F85=\"\"), \"\", 'Combined CSV'!$B$10)","v":""},{"$f":"IF('Item Entry'!D96=\"\", \"\", 'Item Entry'!D96)","v":""},{"$f":"IF('Item Entry'!F96=\"\", \"\", 'Item Entry'!F96)","v":""},{"$f":"IF('Item Entry'!E96=\"\", \"\", 'Item Entry'!E96)","v":""},{"$f":"IF('Item Entry'!H96=\"\", \"\", 'Item Entry'!H96)","v":""},{"$f":"IF('Item Entry'!I96=\"\", \"\", 'Item Entry'!I96)","v":""}]
[{"$f":"IF(AND(B86=\"\", D86=\"\", E86=\"\", F86=\"\"), \"\", 'Combined CSV'!$B$10)","v":""},{"$f":"IF('Item Entry'!D97=\"\", \"\", 'Item Entry'!D97)","v":""},{"$f":"IF('Item Entry'!F97=\"\", \"\", 'Item Entry'!F97)","v":""},{"$f":"IF('Item Entry'!E97=\"\", \"\", 'Item Entry'!E97)","v":""},{"$f":"IF('Item Entry'!H97=\"\", \"\", 'Item Entry'!H97)","v":""},{"$f":"IF('Item Entry'!I97=\"\", \"\", 'Item Entry'!I97)","v":""}]
[{"$f":"IF(AND(B87=\"\", D87=\"\", E87=\"\", F87=\"\"), \"\", 'Combined CSV'!$B$10)","v":""},{"$f":"IF('Item Entry'!D98=\"\", \"\", 'Item Entry'!D98)","v":""},{"$f":"IF('Item Entry'!F98=\"\", \"\", 'Item Entry'!F98)","v":""},{"$f":"IF('Item Entry'!E98=\"\", \"\", 'Item Entry'!E98)","v":""},{"$f":"IF('Item Entry'!H98=\"\", \"\", 'Item Entry'!H98)","v":""},{"$f":"IF('Item Entry'!I98=\"\", \"\", 'Item Entry'!I98)","v":""}]
[{"$f":"IF(AND(B88=\"\", D88=\"\", E88=\"\", F88=\"\"), \"\", 'Combined CSV'!$B$10)","v":""},{"$f":"IF('Item Entry'!D99=\"\", \"\", 'Item Entry'!D99)","v":""},{"$f":"IF('Item Entry'!F99=\"\", \"\", 'Item Entry'!F99)","v":""},{"$f":"IF('Item Entry'!E99=\"\", \"\", 'Item Entry'!E99)","v":""},{"$f":"IF('Item Entry'!H99=\"\", \"\", 'Item Entry'!H99)","v":""},{"$f":"IF('Item Entry'!I99=\"\", \"\", 'Item Entry'!I99)","v":""}]
[{"$f":"IF(AND(B89=\"\", D89=\"\", E89=\"\", F89=\"\"), \"\", 'Combined CSV'!$B$10)","v":""},{"$f":"IF('Item Entry'!D100=\"\", \"\", 'Item Entry'!D100)","v":""},{"$f":"IF('Item Entry'!F100=\"\", \"\", 'Item Entry'!F100)","v":""},{"$f":"IF('Item Entry'!E100=\"\", \"\", 'Item Entry'!E100)","v":""},{"$f":"IF('Item Entry'!H100=\"\", \"\", 'Item Entry'!H100)","v":""},{"$f":"IF('Item Entry'!I100=\"\", \"\", 'Item Entry'!I100)","v":""}]
[{"$f":"IF(AND(B90=\"\", D90=\"\", E90=\"\", F90=\"\"), \"\", 'Combined CSV'!$B$10)","v":""},{"$f":"IF('Item Entry'!D101=\"\", \"\", 'Item Entry'!D101)","v":""},{"$f":"IF('Item Entry'!F101=\"\", \"\", 'Item Entry'!F101)","v":""},{"$f":"IF('Item Entry'!E101=\"\", \"\", 'Item Entry'!E101)","v":""},{"$f":"IF('Item Entry'!H101=\"\", \"\", 'Item Entry'!H101)","v":""},{"$f":"IF('Item Entry'!I101=\"\", \"\", 'Item Entry'!I101)","v":""}]
[{"$f":"IF(AND(B91=\"\", D91=\"\", E91=\"\", F91=\"\"), \"\", 'Combined CSV'!$B$10)","v":""},{"$f":"IF('Item Entry'!D102=\"\", \"\", 'Item Entry'!D102)","v":""},{"$f":"IF('Item Entry'!F102=\"\", \"\", 'Item Entry'!F102)","v":""},{"$f":"IF('Item Entry'!E102=\"\", \"\", 'Item Entry'!E102)","v":""},{"$f":"IF('Item Entry'!H102=\"\", \"\", 'Item Entry'!H102)","v":""},{"$f":"IF('Item Entry'!I102=\"\", \"\", 'Item Entry'!I102)","v":""}]
[{"$f":"IF(AND(B92=\"\", D92=\"\", E92=\"\", F92=\"\"), \"\", 'Combined CSV'!$B$10)","v":""},{"$f":"IF('Item Entry'!D103=\"\", \"\", 'Item Entry'!D103)","v":""},{"$f":"IF('Item Entry'!F103=\"\", \"\", 'Item Entry'!F103)","v":""},{"$f":"IF('Item Entry'!E103=\"\", \"\", 'Item Entry'!E103)","v":""},{"$f":"IF('Item Entry'!H103=\"\", \"\", 'Item Entry'!H103)","v":""},{"$f":"IF('Item Entry'!I103=\"\", \"\", 'Item Entry'!I103)","v":""}]
[{"$f":"IF(AND(B93=\"\", D93=\"\", E93=\"\", F93=\"\"), \"\", 'Combined CSV'!$B$10)","v":""},{"$f":"IF('Item Entry'!D104=\"\", \"\", 'Item Entry'!D104)","v":""},{"$f":"IF('Item Entry'!F104=\"\", \"\", 'Item Entry'!F104)","v":""},{"$f":"IF('Item Entry'!E104=\"\", \"\", 'Item Entry'!E104)","v":""},{"$f":"IF('Item Entry'!H104=\"\", \"\", 'Item Entry'!H104)","v":""},{"$f":"IF('Item Entry'!I104=\"\", \"\", 'Item Entry'!I104)","v":""}]
[{"$f":"IF(AND(B94=\"\", D94=\"\", E94=\"\", F94=\"\"), \"\", 'Combined CSV'!$B$10)","v":""},{"$f":"IF('Item Entry'!D105=\"\", \"\", 'Item Entry'!D105)","v":""},{"$f":"IF('Item Entry'!F105=\"\", \"\", 'Item Entry'!F105)","v":""},{"$f":"IF('Item Entry'!E105=\"\", \"\", 'Item Entry'!E105)","v":""},{"$f":"IF('Item Entry'!H105=\"\", \"\", 'Item Entry'!H105)","v":""},{"$f":"IF('Item Entry'!I105=\"\", \"\", 'Item Entry'!I105)","v":""}]
[{"$f":"IF(AND(B95=\"\", D95=\"\", E95=\"\", F95=\"\"), \"\", 'Combined CSV'!$B$10)","v":""},{"$f":"IF('Item Entry'!D106=\"\", \"\", 'Item Entry'!D106)","v":""},{"$f":"IF('Item Entry'!F106=\"\", \"\", 'Item Entry'!F106)","v":""},{"$f":"IF('Item Entry'!E106=\"\", \"\", 'Item Entry'!E106)","v":""},{"$f":"IF('Item Entry'!H106=\"\", \"\", 'Item Entry'!H106)","v":""},{"$f":"IF('Item Entry'!I106=\"\", \"\", 'Item Entry'!I106)","v":""}]
[{"$f":"IF(AND(B96=\"\", D96=\"\", E96=\"\", F96=\"\"), \"\", 'Combined CSV'!$B$10)","v":""},{"$f":"IF('Item Entry'!D107=\"\", \"\", 'Item Entry'!D107)","v":""},{"$f":"IF('Item Entry'!F107=\"\", \"\", 'Item Entry'!F107)","v":""},{"$f":"IF('Item Entry'!E107=\"\", \"\", 'Item Entry'!E107)","v":""},{"$f":"IF('Item Entry'!H107=\"\", \"\", 'Item Entry'!H107)","v":""},{"$f":"IF('Item Entry'!I107=\"\", \"\", 'Item Entry'!I107)","v":""}]
[{"$f":"IF(AND(B97=\"\", D97=\"\", E97=\"\", F97=\"\"), \"\", 'Combined CSV'!$B$10)","v":""},{"$f":"IF('Item Entry'!D108=\"\", \"\", 'Item Entry'!D108)","v":""},{"$f":"IF('Item Entry'!F108=\"\", \"\", 'Item Entry'!F108)","v":""},{"$f":"IF('Item Entry'!E108=\"\", \"\", 'Item Entry'!E108)","v":""},{"$f":"IF('Item Entry'!H108=\"\", \"\", 'Item Entry'!H108)","v":""},{"$f":"IF('Item Entry'!I108=\"\", \"\", 'Item Entry'!I108)","v":""}]
[{"$f":"IF(AND(B98=\"\", D98=\"\", E98=\"\", F98=\"\"), \"\", 'Combined CSV'!$B$10)","v":""},{"$f":"IF('Item Entry'!D109=\"\", \"\", 'Item Entry'!D109)","v":""},{"$f":"IF('Item Entry'!F109=\"\", \"\", 'Item Entry'!F109)","v":""},{"$f":"IF('Item Entry'!E109=\"\", \"\", 'Item Entry'!E109)","v":""},{"$f":"IF('Item Entry'!H109=\"\", \"\", 'Item Entry'!H109)","v":""},{"$f":"IF('Item Entry'!I109=\"\", \"\", 'Item Entry'!I109)","v":""}]
[{"$f":"IF(AND(B99=\"\", D99=\"\", E99=\"\", F99=\"\"), \"\", 'Combined CSV'!$B$10)","v":""},{"$f":"IF('Item Entry'!D110=\"\", \"\", 'Item Entry'!D110)","v":""},{"$f":"IF('Item Entry'!F110=\"\", \"\", 'Item Entry'!F110)","v":""},{"$f":"IF('Item Entry'!E110=\"\", \"\", 'Item Entry'!E110)","v":""},{"$f":"IF('Item Entry'!H110=\"\", \"\", 'Item Entry'!H110)","v":""},{"$f":"IF('Item Entry'!I110=\"\", \"\", 'Item Entry'!I110)","v":""}]
[{"$f":"IF(AND(B100=\"\", D100=\"\", E100=\"\", F100=\"\"), \"\", 'Combined CSV'!$B$10)","v":""},{"$f":"IF('Item Entry'!D111=\"\", \"\", 'Item Entry'!D111)","v":""},{"$f":"IF('Item Entry'!F111=\"\", \"\", 'Item Entry'!F111)","v":""},{"$f":"IF('Item Entry'!E111=\"\", \"\", 'Item Entry'!E111)","v":""},{"$f":"IF('Item Entry'!H111=\"\", \"\", 'Item Entry'!H111)","v":""},{"$f":"IF('Item Entry'!I111=\"\", \"\", 'Item Entry'!I111)","v":""}]
[{"$f":"IF(AND(B101=\"\", D101=\"\", E101=\"\", F101=\"\"), \"\", 'Combined CSV'!$B$10)","v":""},{"$f":"IF('Item Entry'!D112=\"\", \"\", 'Item Entry'!D112)","v":""},{"$f":"IF('Item Entry'!F112=\"\", \"\", 'Item Entry'!F112)","v":""},{"$f":"IF('Item Entry'!E112=\"\", \"\", 'Item Entry'!E112)","v":""},{"$f":"IF('Item Entry'!H112=\"\", \"\", 'Item Entry'!H112)","v":""},{"$f":"IF('Item Entry'!I112=\"\", \"\", 'Item Entry'!I112)","v":""}]
[{"$f":"IF(AND(B102=\"\", D102=\"\", E102=\"\", F102=\"\"), \"\", 'Combined CSV'!$B$10)","v":""},{"$f":"IF('Item Entry'!D113=\"\", \"\", 'Item Entry'!D113)","v":""},{"$f":"IF('Item Entry'!F113=\"\", \"\", 'Item Entry'!F113)","v":""},{"$f":"IF('Item Entry'!E113=\"\", \"\", 'Item Entry'!E113)","v":""},{"$f":"IF('Item Entry'!H113=\"\", \"\", 'Item Entry'!H113)","v":""},{"$f":"IF('Item Entry'!I113=\"\", \"\", 'Item Entry'!I113)","v":""}]
[{"$f":"IF(AND(B103=\"\", D103=\"\", E103=\"\", F103=\"\"), \"\", 'Combined CSV'!$B$10)","v":""},{"$f":"IF('Item Entry'!D114=\"\", \"\", 'Item Entry'!D114)","v":""},{"$f":"IF('Item Entry'!F114=\"\", \"\", 'Item Entry'!F114)","v":""},{"$f":"IF('Item Entry'!E114=\"\", \"\", 'Item Entry'!E114)","v":""},{"$f":"IF('Item Entry'!H114=\"\", \"\", 'Item Entry'!H114)","v":""},{"$f":"IF('Item Entry'!I114=\"\", \"\", 'Item Entry'!I114)","v":""}]
[{"$f":"IF(AND(B104=\"\", D104=\"\", E104=\"\", F104=\"\"), \"\", 'Combined CSV'!$B$10)","v":""},{"$f":"IF('Item Entry'!D115=\"\", \"\", 'Item Entry'!D115)","v":""},{"$f":"IF('Item Entry'!F115=\"\", \"\", 'Item Entry'!F115)","v":""},{"$f":"IF('Item Entry'!E115=\"\", \"\", 'Item Entry'!E115)","v":""},{"$f":"IF('Item Entry'!H115=\"\", \"\", 'Item Entry'!H115)","v":""},{"$f":"IF('Item Entry'!I115=\"\", \"\", 'Item Entry'!I115)","v":""}]
[{"$f":"IF(AND(B105=\"\", D105=\"\", E105=\"\", F105=\"\"), \"\", 'Combined CSV'!$B$10)","v":""},{"$f":"IF('Item Entry'!D116=\"\", \"\", 'Item Entry'!D116)","v":""},{"$f":"IF('Item Entry'!F116=\"\", \"\", 'Item Entry'!F116)","v":""},{"$f":"IF('Item Entry'!E116=\"\", \"\", 'Item Entry'!E116)","v":""},{"$f":"IF('Item Entry'!H116=\"\", \"\", 'Item Entry'!H116)","v":""},{"$f":"IF('Item Entry'!I116=\"\", \"\", 'Item Entry'!I116)","v":""}]
[{"$f":"IF(AND(B106=\"\", D106=\"\", E106=\"\", F106=\"\"), \"\", 'Combined CSV'!$B$10)","v":""},{"$f":"IF('Item Entry'!D117=\"\", \"\", 'Item Entry'!D117)","v":""},{"$f":"IF('Item Entry'!F117=\"\", \"\", 'Item Entry'!F117)","v":""},{"$f":"IF('Item Entry'!E117=\"\", \"\", 'Item Entry'!E117)","v":""},{"$f":"IF('Item Entry'!H117=\"\", \"\", 'Item Entry'!H117)","v":""},{"$f":"IF('Item Entry'!I117=\"\", \"\", 'Item Entry'!I117)","v":""}]
[{"$f":"IF(AND(B107=\"\", D107=\"\", E107=\"\", F107=\"\"), \"\", 'Combined CSV'!$B$10)","v":""},{"$f":"IF('Item Entry'!D118=\"\", \"\", 'Item Entry'!D118)","v":""},{"$f":"IF('Item Entry'!F118=\"\", \"\", 'Item Entry'!F118)","v":""},{"$f":"IF('Item Entry'!E118=\"\", \"\", 'Item Entry'!E118)","v":""},{"$f":"IF('Item Entry'!H118=\"\", \"\", 'Item Entry'!H118)","v":""},{"$f":"IF('Item Entry'!I118=\"\", \"\", 'Item Entry'!I118)","v":""}]
[{"$f":"IF(AND(B108=\"\", D108=\"\", E108=\"\", F108=\"\"), \"\", 'Combined CSV'!$B$10)","v":""},{"$f":"IF('Item Entry'!D119=\"\", \"\", 'Item Entry'!D119)","v":""},{"$f":"IF('Item Entry'!F119=\"\", \"\", 'Item Entry'!F119)","v":""},{"$f":"IF('Item Entry'!E119=\"\", \"\", 'Item Entry'!E119)","v":""},{"$f":"IF('Item Entry'!H119=\"\", \"\", 'Item Entry'!H119)","v":""},{"$f":"IF('Item Entry'!I119=\"\", \"\", 'Item Entry'!I119)","v":""}]
[{"$f":"IF(AND(B109=\"\", D109=\"\", E109=\"\", F109=\"\"), \"\", 'Combined CSV'!$B$10)","v":""},{"$f":"IF('Item Entry'!D120=\"\", \"\", 'Item Entry'!D120)","v":""},{"$f":"IF('Item Entry'!F120=\"\", \"\", 'Item Entry'!F120)","v":""},{"$f":"IF('Item Entry'!E120=\"\", \"\", 'Item Entry'!E120)","v":""},{"$f":"IF('Item Entry'!H120=\"\", \"\", 'Item Entry'!H120)","v":""},{"$f":"IF('Item Entry'!I120=\"\", \"\", 'Item Entry'!I120)","v":""}]
[{"$f":"IF(AND(B110=\"\", D110=\"\", E110=\"\", F110=\"\"), \"\", 'Combined CSV'!$B$10)","v":""},{"$f":"IF('Item Entry'!D121=\"\", \"\", 'Item Entry'!D121)","v":""},{"$f":"IF('Item Entry'!F121=\"\", \"\", 'Item Entry'!F121)","v":""},{"$f":"IF('Item Entry'!E121=\"\", \"\", 'Item Entry'!E121)","v":""},{"$f":"IF('Item Entry'!H124=\"\", \"\", 'Item Entry'!H124)","v":""},{"$f":"IF('Item Entry'!I124=\"\", \"\", 'Item Entry'!I124)","v":""}]
[{"$f":"IF(AND(B111=\"\", D111=\"\", E111=\"\", F111=\"\"), \"\", 'Combined CSV'!$B$10)","v":""},{"$f":"IF('Item Entry'!D122=\"\", \"\", 'Item Entry'!D122)","v":""},null,{"$f":"IF('Item Entry'!E122=\"\", \"\", 'Item Entry'!E122)","v":""},{"$f":"IF('Item Entry'!H125=\"\", \"\", 'Item Entry'!H125)","v":""},{"$f":"IF('Item Entry'!I125=\"\", \"\", 'Item Entry'!I125)","v":""}]
[{"$f":"IF(AND(B112=\"\", D112=\"\", E112=\"\", F112=\"\"), \"\", 'Combined CSV'!$B$10)","v":""},{"$f":"IF('Item Entry'!D123=\"\", \"\", 'Item Entry'!D123)","v":""},{"$f":"IF('Item Entry'!B123=\"\", \"\", 'Item Entry'!B123)","v":""},{"$f":"IF('Item Entry'!E123=\"\", \"\", 'Item Entry'!E123)","v":""},{"$f":"IF('Item Entry'!H126=\"\", \"\", 'Item Entry'!H126)","v":""},{"$f":"IF('Item Entry'!I126=\"\", \"\", 'Item Entry'!I126)","v":""}]
[{"$f":"IF(AND(B113=\"\", D113=\"\", E113=\"\", F113=\"\"), \"\", 'Combined CSV'!$B$10)","v":""},{"$f":"IF('Item Entry'!D124=\"\", \"\", 'Item Entry'!D124)","v":""},{"$f":"IF('Item Entry'!B124=\"\", \"\", 'Item Entry'!B124)","v":""},{"$f":"IF('Item Entry'!E124=\"\", \"\", 'Item Entry'!E124)","v":""},{"$f":"IF('Item Entry'!H127=\"\", \"\", 'Item Entry'!H127)","v":""},{"$f":"IF('Item Entry'!I127=\"\", \"\", 'Item Entry'!I127)","v":""}]
[{"$f":"IF(AND(B114=\"\", D114=\"\", E114=\"\", F114=\"\"), \"\", 'Combined CSV'!$B$10)","v":""},{"$f":"IF('Item Entry'!D125=\"\", \"\", 'Item Entry'!D125)","v":""},{"$f":"IF('Item Entry'!B125=\"\", \"\", 'Item Entry'!B125)","v":""},{"$f":"IF('Item Entry'!E125=\"\", \"\", 'Item Entry'!E125)","v":""},{"$f":"IF('Item Entry'!H128=\"\", \"\", 'Item Entry'!H128)","v":""},{"$f":"IF('Item Entry'!I128=\"\", \"\", 'Item Entry'!I128)","v":""}]
[{"$f":"IF(AND(B115=\"\", D115=\"\", E115=\"\", F115=\"\"), \"\", 'Combined CSV'!$B$10)","v":""},{"$f":"IF('Item Entry'!D126=\"\", \"\", 'Item Entry'!D126)","v":""},{"$f":"IF('Item Entry'!B126=\"\", \"\", 'Item Entry'!B126)","v":""},{"$f":"IF('Item Entry'!E126=\"\", \"\", 'Item Entry'!E126)","v":""},{"$f":"IF('Item Entry'!H129=\"\", \"\", 'Item Entry'!H129)","v":""},{"$f":"IF('Item Entry'!I129=\"\", \"\", 'Item Entry'!I129)","v":""}]
[{"$f":"IF(AND(B116=\"\", D116=\"\", E116=\"\", F116=\"\"), \"\", 'Combined CSV'!$B$10)","v":""},{"$f":"IF('Item Entry'!D127=\"\", \"\", 'Item Entry'!D127)","v":""},{"$f":"IF('Item Entry'!B127=\"\", \"\", 'Item Entry'!B127)","v":""},{"$f":"IF('Item Entry'!E127=\"\", \"\", 'Item Entry'!E127)","v":""},{"$f":"IF('Item Entry'!H130=\"\", \"\", 'Item Entry'!H130)","v":""},{"$f":"IF('Item Entry'!I130=\"\", \"\", 'Item Entry'!I130)","v":""}]
[{"$f":"IF(AND(B117=\"\", D117=\"\", E117=\"\", F117=\"\"), \"\", 'Combined CSV'!$B$10)","v":""},{"$f":"IF('Item Entry'!D128=\"\", \"\", 'Item Entry'!D128)","v":""},{"$f":"IF('Item Entry'!B128=\"\", \"\", 'Item Entry'!B128)","v":""},{"$f":"IF('Item Entry'!E128=\"\", \"\", 'Item Entry'!E128)","v":""},{"$f":"IF('Item Entry'!H131=\"\", \"\", 'Item Entry'!H131)","v":""},{"$f":"IF('Item Entry'!I131=\"\", \"\", 'Item Entry'!I131)","v":""}]
[{"$f":"IF(AND(B118=\"\", D118=\"\", E118=\"\", F118=\"\"), \"\", 'Combined CSV'!$B$10)","v":""},{"$f":"IF('Item Entry'!D129=\"\", \"\", 'Item Entry'!D129)","v":""},{"$f":"IF('Item Entry'!B129=\"\", \"\", 'Item Entry'!B129)","v":""},{"$f":"IF('Item Entry'!E129=\"\", \"\", 'Item Entry'!E129)","v":""},{"$f":"IF('Item Entry'!H132=\"\", \"\", 'Item Entry'!H132)","v":""},{"$f":"IF('Item Entry'!I132=\"\", \"\", 'Item Entry'!I132)","v":""}]
[{"$f":"IF(AND(B119=\"\", D119=\"\", E119=\"\", F119=\"\"), \"\", 'Combined CSV'!$B$10)","v":""},{"$f":"IF('Item Entry'!D130=\"\", \"\", 'Item Entry'!D130)","v":""},{"$f":"IF('Item Entry'!B130=\"\", \"\", 'Item Entry'!B130)","v":""},{"$f":"IF('Item Entry'!E130=\"\", \"\", 'Item Entry'!E130)","v":""},{"$f":"IF('Item Entry'!H133=\"\", \"\", 'Item Entry'!H133)","v":""},{"$f":"IF('Item Entry'!I133=\"\", \"\", 'Item Entry'!I133)","v":""}]
[{"$f":"IF(AND(B120=\"\", D120=\"\", E120=\"\", F120=\"\"), \"\", 'Combined CSV'!$B$10)","v":""},{"$f":"IF('Item Entry'!D131=\"\", \"\", 'Item Entry'!D131)","v":""},{"$f":"IF('Item Entry'!B131=\"\", \"\", 'Item Entry'!B131)","v":""},{"$f":"IF('Item Entry'!E131=\"\", \"\", 'Item Entry'!E131)","v":""},{"$f":"IF('Item Entry'!H134=\"\", \"\", 'Item Entry'!H134)","v":""},{"$f":"IF('Item Entry'!I134=\"\", \"\", 'Item Entry'!I134)","v":""}]
[{"$f":"IF(AND(B121=\"\", D121=\"\", E121=\"\", F121=\"\"), \"\", 'Combined CSV'!$B$10)","v":""},{"$f":"IF('Item Entry'!D132=\"\", \"\", 'Item Entry'!D132)","v":""},{"$f":"IF('Item Entry'!B132=\"\", \"\", 'Item Entry'!B132)","v":""},{"$f":"IF('Item Entry'!E132=\"\", \"\", 'Item Entry'!E132)","v":""},{"$f":"IF('Item Entry'!H135=\"\", \"\", 'Item Entry'!H135)","v":""},{"$f":"IF('Item Entry'!I135=\"\", \"\", 'Item Entry'!I135)","v":""}]
[null,{"$f":"IF('Item Entry'!D133=\"\", \"\", 'Item Entry'!D133)","v":""}]
[null,{"$f":"IF('Item Entry'!D134=\"\", \"\", 'Item Entry'!D134)","v":""}]
[null,{"$f":"IF('Item Entry'!D135=\"\", \"\", 'Item Entry'!D135)","v":""}]
[null,{"$f":"IF('Item Entry'!D136=\"\", \"\", 'Item Entry'!D136)","v":""}]
[null,{"$f":"IF('Item Entry'!D137=\"\", \"\", 'Item Entry'!D137)","v":""}]
[null,{"$f":"IF('Item Entry'!D138=\"\", \"\", 'Item Entry'!D138)","v":""}]
[null,{"$f":"IF('Item Entry'!D139=\"\", \"\", 'Item Entry'!D139)","v":""}]
[null,{"$f":"IF('Item Entry'!D140=\"\", \"\", 'Item Entry'!D140)","v":""}]
[null,{"$f":"IF('Item Entry'!D141=\"\", \"\", 'Item Entry'!D141)","v":""}]
[null,{"$f":"IF('Item Entry'!D142=\"\", \"\", 'Item Entry'!D142)","v":""}]
[null,{"$f":"IF('Item Entry'!D143=\"\", \"\", 'Item Entry'!D143)","v":""}]
[null,{"$f":"IF('Item Entry'!D144=\"\", \"\", 'Item Entry'!D144)","v":""}]
[null,{"$f":"IF('Item Entry'!D145=\"\", \"\", 'Item Entry'!D145)","v":""}]
[null,{"$f":"IF('Item Entry'!D146=\"\", \"\", 'Item Entry'!D146)","v":""}]
[null,{"$f":"IF('Item Entry'!D147=\"\", \"\", 'Item Entry'!D147)","v":""}]
[null,{"$f":"IF('Item Entry'!D148=\"\", \"\", 'Item Entry'!D148)","v":""}]
[null,{"$f":"IF('Item Entry'!D149=\"\", \"\", 'Item Entry'!D149)","v":""}]
[null,{"$f":"IF('Item Entry'!D150=\"\", \"\", 'Item Entry'!D150)","v":""}]
[null,{"$f":"IF('Item Entry'!D151=\"\", \"\", 'Item Entry'!D151)","v":""}]
[null,{"$f":"IF('Item Entry'!D152=\"\", \"\", 'Item Entry'!D152)","v":""}]
[null,{"$f":"IF('Item Entry'!D153=\"\", \"\", 'Item Entry'!D153)","v":""}]
[null,{"$f":"IF('Item Entry'!D154=\"\", \"\", 'Item Entry'!D154)","v":""}]
[null,{"$f":"IF('Item Entry'!D155=\"\", \"\", 'Item Entry'!D155)","v":""}]
[null,{"$f":"IF('Item Entry'!D156=\"\", \"\", 'Item Entry'!D156)","v":""}]
[null,{"$f":"IF('Item Entry'!D157=\"\", \"\", 'Item Entry'!D157)","v":""}]
[null,{"$f":"IF('Item Entry'!D158=\"\", \"\", 'Item Entry'!D158)","v":""}]
[null,{"$f":"IF('Item Entry'!D159=\"\", \"\", 'Item Entry'!D159)","v":""}]
[null,{"$f":"IF('Item Entry'!D160=\"\", \"\", 'Item Entry'!D160)","v":""}]
[null,{"$f":"IF('Item Entry'!D161=\"\", \"\", 'Item Entry'!D161)","v":""}]
[null,{"$f":"IF('Item Entry'!D162=\"\", \"\", 'Item Entry'!D162)","v":""}]
[null,{"$f":"IF('Item Entry'!D163=\"\", \"\", 'Item Entry'!D163)","v":""}]
[null,{"$f":"IF('Item Entry'!D164=\"\", \"\", 'Item Entry'!D164)","v":""}]
[null,{"$f":"IF('Item Entry'!D165=\"\", \"\", 'Item Entry'!D165)","v":""}]
[null,{"$f":"IF('Item Entry'!D166=\"\", \"\", 'Item Entry'!D166)","v":""}]
[null,{"$f":"IF('Item Entry'!D167=\"\", \"\", 'Item Entry'!D167)","v":""}]
[null,{"$f":"IF('Item Entry'!D168=\"\", \"\", 'Item Entry'!D168)","v":""}]
[null,{"$f":"IF('Item Entry'!D169=\"\", \"\", 'Item Entry'!D169)","v":""}]
[null,{"$f":"IF('Item Entry'!D170=\"\", \"\", 'Item Entry'!D170)","v":""}]
[null,{"$f":"IF('Item Entry'!D171=\"\", \"\", 'Item Entry'!D171)","v":""}]
[null,{"$f":"IF('Item Entry'!D172=\"\", \"\", 'Item Entry'!D172)","v":""}]
[null,{"$f":"IF('Item Entry'!D173=\"\", \"\", 'Item Entry'!D173)","v":""}]
[null,{"$f":"IF('Item Entry'!D174=\"\", \"\", 'Item Entry'!D174)","v":""}]
[null,{"$f":"IF('Item Entry'!D175=\"\", \"\", 'Item Entry'!D175)","v":""}]
[null,{"$f":"IF('Item Entry'!D176=\"\", \"\", 'Item Entry'!D176)","v":""}]
[null,{"$f":"IF('Item Entry'!D177=\"\", \"\", 'Item Entry'!D177)","v":""}]
[null,{"$f":"IF('Item Entry'!D178=\"\", \"\", 'Item Entry'!D178)","v":""}]
[null,{"$f":"IF('Item Entry'!D179=\"\", \"\", 'Item Entry'!D179)","v":""}]
[null,{"$f":"IF('Item Entry'!D180=\"\", \"\", 'Item Entry'!D180)","v":""}]
[null,{"$f":"IF('Item Entry'!D181=\"\", \"\", 'Item Entry'!D181)","v":""}]
[null,{"$f":"IF('Item Entry'!D182=\"\", \"\", 'Item Entry'!D182)","v":""}]
[null,{"$f":"IF('Item Entry'!D183=\"\", \"\", 'Item Entry'!D183)","v":""}]
[null,{"$f":"IF('Item Entry'!D184=\"\", \"\", 'Item Entry'!D184)","v":""}]
[null,{"$f":"IF('Item Entry'!D185=\"\", \"\", 'Item Entry'!D185)","v":""}]
[null,{"$f":"IF('Item Entry'!D186=\"\", \"\", 'Item Entry'!D186)","v":""}]
[null,{"$f":"IF('Item Entry'!D187=\"\", \"\", 'Item Entry'!D187)","v":""}]
[null,{"$f":"IF('Item Entry'!D188=\"\", \"\", 'Item Entry'!D188)","v":""}]
[null,{"$f":"IF('Item Entry'!D189=\"\", \"\", 'Item Entry'!D189)","v":""}]
[null,{"$f":"IF('Item Entry'!D190=\"\", \"\", 'Item Entry'!D190)","v":""}]
[null,{"$f":"IF('Item Entry'!D191=\"\", \"\", 'Item Entry'!D191)","v":""}]
[null,{"$f":"IF('Item Entry'!D192=\"\", \"\", 'Item Entry'!D192)","v":""}]
[null,{"$f":"IF('Item Entry'!D193=\"\", \"\", 'Item Entry'!D193)","v":""}]
[null,{"$f":"IF('Item Entry'!D194=\"\", \"\", 'Item Entry'!D194)","v":""}]
[null,{"$f":"IF('Item Entry'!D195=\"\", \"\", 'Item Entry'!D195)","v":""}]
[null,{"$f":"IF('Item Entry'!D196=\"\", \"\", 'Item Entry'!D196)","v":""}]
[null,{"$f":"IF('Item Entry'!D197=\"\", \"\", 'Item Entry'!D197)","v":""}]
[null,{"$f":"IF('Item Entry'!D198=\"\", \"\", 'Item Entry'!D198)","v":""}]
[null,{"$f":"IF('Item Entry'!D199=\"\", \"\", 'Item Entry'!D199)","v":""}]
[null,{"$f":"IF('Item Entry'!D200=\"\", \"\", 'Item Entry'!D200)","v":""}]
[null,{"$f":"IF('Item Entry'!D201=\"\", \"\", 'Item Entry'!D201)","v":""}]
[null,{"$f":"IF('Item Entry'!D202=\"\", \"\", 'Item Entry'!D202)","v":""}]
[null,{"$f":"IF('Item Entry'!D203=\"\", \"\", 'Item Entry'!D203)","v":""}]
[null,{"$f":"IF('Item Entry'!D204=\"\", \"\", 'Item Entry'!D204)","v":""}]
[null,{"$f":"IF('Item Entry'!D205=\"\", \"\", 'Item Entry'!D205)","v":""}]
[null,{"$f":"IF('Item Entry'!D206=\"\", \"\", 'Item Entry'!D206)","v":""}]
[null,{"$f":"IF('Item Entry'!D207=\"\", \"\", 'Item Entry'!D207)","v":""}]
[null,{"$f":"IF('Item Entry'!D208=\"\", \"\", 'Item Entry'!D208)","v":""}]
[null,{"$f":"IF('Item Entry'!D209=\"\", \"\", 'Item Entry'!D209)","v":""}]
[null,{"$f":"IF('Item Entry'!D210=\"\", \"\", 'Item Entry'!D210)","v":""}]
[null,{"$f":"IF('Item Entry'!D211=\"\", \"\", 'Item Entry'!D211)","v":""}]
[null,{"$f":"IF('Item Entry'!D212=\"\", \"\", 'Item Entry'!D212)","v":""}]
[null,{"$f":"IF('Item Entry'!D213=\"\", \"\", 'Item Entry'!D213)","v":""}]
[null,{"$f":"IF('Item Entry'!D214=\"\", \"\", 'Item Entry'!D214)","v":""}]
[null,{"$f":"IF('Item Entry'!D215=\"\", \"\", 'Item Entry'!D215)","v":""}]
[null,{"$f":"IF('Item Entry'!D216=\"\", \"\", 'Item Entry'!D216)","v":""}]
[null,{"$f":"IF('Item Entry'!D217=\"\", \"\", 'Item Entry'!D217)","v":""}]
[null,{"$f":"IF('Item Entry'!D218=\"\", \"\", 'Item Entry'!D218)","v":""}]
[null,{"$f":"IF('Item Entry'!D219=\"\", \"\", 'Item Entry'!D219)","v":""}]
[null,{"$f":"IF('Item Entry'!D220=\"\", \"\", 'Item Entry'!D220)","v":""}]
[null,{"$f":"IF('Item Entry'!D221=\"\", \"\", 'Item Entry'!D221)","v":""}]
[null,{"$f":"IF('Item Entry'!D222=\"\", \"\", 'Item Entry'!D222)","v":""}]
[null,{"$f":"IF('Item Entry'!D223=\"\", \"\", 'Item Entry'!D223)","v":""}]
[null,{"$f":"IF('Item Entry'!D224=\"\", \"\", 'Item Entry'!D224)","v":""}]
[null,{"$f":"IF('Item Entry'!D225=\"\", \"\", 'Item Entry'!D225)","v":""}]
[null,{"$f":"IF('Item Entry'!D226=\"\", \"\", 'Item Entry'!D226)","v":""}]
[null,{"$f":"IF('Item Entry'!D227=\"\", \"\", 'Item Entry'!D227)","v":""}]
[null,{"$f":"IF('Item Entry'!D228=\"\", \"\", 'Item Entry'!D228)","v":""}]
[null,{"$f":"IF('Item Entry'!D229=\"\", \"\", 'Item Entry'!D229)","v":""}]
[null,{"$f":"IF('Item Entry'!D230=\"\", \"\", 'Item Entry'!D230)","v":""}]
[null,{"$f":"IF('Item Entry'!D231=\"\", \"\", 'Item Entry'!D231)","v":""}]
[null,{"$f":"IF('Item Entry'!D232=\"\", \"\", 'Item Entry'!D232)","v":""}]
[null,{"$f":"IF('Item Entry'!D233=\"\", \"\", 'Item Entry'!D233)","v":""}]
[null,{"$f":"IF('Item Entry'!D234=\"\", \"\", 'Item Entry'!D234)","v":""}]
[null,{"$f":"IF('Item Entry'!D235=\"\", \"\", 'Item Entry'!D235)","v":""}]
[null,{"$f":"IF('Item Entry'!D236=\"\", \"\", 'Item Entry'!D236)","v":""}]
[null,{"$f":"IF('Item Entry'!D237=\"\", \"\", 'Item Entry'!D237)","v":""}]
[null,{"$f":"IF('Item Entry'!D238=\"\", \"\", 'Item Entry'!D238)","v":""}]
[null,{"$f":"IF('Item Entry'!D239=\"\", \"\", 'Item Entry'!D239)","v":""}]
[null,{"$f":"IF('Item Entry'!D240=\"\", \"\", 'Item Entry'!D240)","v":""}]
[null,{"$f":"IF('Item Entry'!D241=\"\", \"\", 'Item Entry'!D241)","v":""}]
[null,{"$f":"IF('Item Entry'!D242=\"\", \"\", 'Item Entry'!D242)","v":""}]
[null,{"$f":"IF('Item Entry'!D243=\"\", \"\", 'Item Entry'!D243)","v":""}]
[null,{"$f":"IF('Item Entry'!D244=\"\", \"\", 'Item Entry'!D244)","v":""}]
[null,{"$f":"IF('Item Entry'!D245=\"\", \"\", 'Item Entry'!D245)","v":""}]
[null,{"$f":"IF('Item Entry'!D246=\"\", \"\", 'Item Entry'!D246)","v":""}]
[null,{"$f":"IF('Item Entry'!D247=\"\", \"\", 'Item Entry'!D247)","v":""}]
[null,{"$f":"IF('Item Entry'!D248=\"\", \"\", 'Item Entry'!D248)","v":""}]
[null,{"$f":"IF('Item Entry'!D249=\"\", \"\", 'Item Entry'!D249)","v":""}]
[null,{"$f":"IF('Item Entry'!D250=\"\", \"\", 'Item Entry'!D250)","v":""}]
[null,{"$f":"IF('Item Entry'!D251=\"\", \"\", 'Item Entry'!D251)","v":""}]
[null,{"$f":"IF('Item Entry'!D252=\"\", \"\", 'Item Entry'!D252)","v":""}]
[null,{"$f":"IF('Item Entry'!D253=\"\", \"\", 'Item Entry'!D253)","v":""}]
[null,{"$f":"IF('Item Entry'!D254=\"\", \"\", 'Item Entry'!D254)","v":""}]
[null,{"$f":"IF('Item Entry'!D255=\"\", \"\", 'Item Entry'!D255)","v":""}]
[null,{"$f":"IF('Item Entry'!D256=\"\", \"\", 'Item Entry'!D256)","v":""}]
[null,{"$f":"IF('Item Entry'!D257=\"\", \"\", 'Item Entry'!D257)","v":""}]
[null,{"$f":"IF('Item Entry'!D258=\"\", \"\", 'Item Entry'!D258)","v":""}]
[null,{"$f":"IF('Item Entry'!D259=\"\", \"\", 'Item Entry'!D259)","v":""}]
[null,{"$f":"IF('Item Entry'!D260=\"\", \"\", 'Item Entry'!D260)","v":""}]
[null,{"$f":"IF('Item Entry'!D261=\"\", \"\", 'Item Entry'!D261)","v":""}]
[null,{"$f":"IF('Item Entry'!D262=\"\", \"\", 'Item Entry'!D262)","v":""}]
[null,{"$f":"IF('Item Entry'!D263=\"\", \"\", 'Item Entry'!D263)","v":""}]
[null,{"$f":"IF('Item Entry'!D264=\"\", \"\", 'Item Entry'!D264)","v":""}]
[null,{"$f":"IF('Item Entry'!D265=\"\", \"\", 'Item Entry'!D265)","v":""}]
[null,{"$f":"IF('Item Entry'!D266=\"\", \"\", 'Item Entry'!D266)","v":""}]
[null,{"$f":"IF('Item Entry'!D267=\"\", \"\", 'Item Entry'!D267)","v":""}]
[null,{"$f":"IF('Item Entry'!D268=\"\", \"\", 'Item Entry'!D268)","v":""}]
[null,{"$f":"IF('Item Entry'!D269=\"\", \"\", 'Item Entry'!D269)","v":""}]
[null,{"$f":"IF('Item Entry'!D270=\"\", \"\", 'Item Entry'!D270)","v":""}]
[null,{"$f":"IF('Item Entry'!D271=\"\", \"\", 'Item Entry'!D271)","v":""}]
[null,{"$f":"IF('Item Entry'!D272=\"\", \"\", 'Item Entry'!D272)","v":""}]
[null,{"$f":"IF('Item Entry'!D273=\"\", \"\", 'Item Entry'!D273)","v":""}]
[null,{"$f":"IF('Item Entry'!D274=\"\", \"\", 'Item Entry'!D274)","v":""}]
[null,{"$f":"IF('Item Entry'!D275=\"\", \"\", 'Item Entry'!D275)","v":""}]
[null,{"$f":"IF('Item Entry'!D276=\"\", \"\", 'Item Entry'!D276)","v":""}]
[null,{"$f":"IF('Item Entry'!D277=\"\", \"\", 'Item Entry'!D277)","v":""}]
[null,{"$f":"IF('Item Entry'!D278=\"\", \"\", 'Item Entry'!D278)","v":""}]
[null,{"$f":"IF('Item Entry'!D279=\"\", \"\", 'Item Entry'!D279)","v":""}]
[null,{"$f":"IF('Item Entry'!D280=\"\", \"\", 'Item Entry'!D280)","v":""}]
[null,{"$f":"IF('Item Entry'!D281=\"\", \"\", 'Item Entry'!D281)","v":""}]
[null,{"$f":"IF('Item Entry'!D282=\"\", \"\", 'Item Entry'!D282)","v":""}]
[null,{"$f":"IF('Item Entry'!D283=\"\", \"\", 'Item Entry'!D283)","v":""}]
[null,{"$f":"IF('Item Entry'!D284=\"\", \"\", 'Item Entry'!D284)","v":""}]
[null,{"$f":"IF('Item Entry'!D285=\"\", \"\", 'Item Entry'!D285)","v":""}]
[null,{"$f":"IF('Item Entry'!D286=\"\", \"\", 'Item Entry'!D286)","v":""}]
[null,{"$f":"IF('Item Entry'!D287=\"\", \"\", 'Item Entry'!D287)","v":""}]
[null,{"$f":"IF('Item Entry'!D288=\"\", \"\", 'Item Entry'!D288)","v":""}]
[null,{"$f":"IF('Item Entry'!D289=\"\", \"\", 'Item Entry'!D289)","v":""}]
[null,{"$f":"IF('Item Entry'!D290=\"\", \"\", 'Item Entry'!D290)","v":""}]
[null,{"$f":"IF('Item Entry'!D291=\"\", \"\", 'Item Entry'!D291)","v":""}]
[null,{"$f":"IF('Item Entry'!D292=\"\", \"\", 'Item Entry'!D292)","v":""}]
[null,{"$f":"IF('Item Entry'!D293=\"\", \"\", 'Item Entry'!D293)","v":""}]
[null,{"$f":"IF('Item Entry'!D294=\"\", \"\", 'Item Entry'!D294)","v":""}]
[null,{"$f":"IF('Item Entry'!D295=\"\", \"\", 'Item Entry'!D295)","v":""}]
[null,{"$f":"IF('Item Entry'!D296=\"\", \"\", 'Item Entry'!D296)","v":""}]
[null,{"$f":"IF('Item Entry'!D297=\"\", \"\", 'Item Entry'!D297)","v":""}]
[null,{"$f":"IF('Item Entry'!D298=\"\", \"\", 'Item Entry'!D298)","v":""}]
[null,{"$f":"IF('Item Entry'!D299=\"\", \"\", 'Item Entry'!D299)","v":""}]
[null,{"$f":"IF('Item Entry'!D300=\"\", \"\", 'Item Entry'!D300)","v":""}]
[null,{"$f":"IF('Item Entry'!D301=\"\", \"\", 'Item Entry'!D301)","v":""}]
[null,{"$f":"IF('Item Entry'!D302=\"\", \"\", 'Item Entry'!D302)","v":""}]

{"sheet":"Country Codes Lookup","index":5,"n_rows":251,"n_cols":2,"rows_kept":251,"cut":false,"hidden":true,"merged":[]}
["Country Name","ISO 3166-1-alpha-2 code"]
["AFGHANISTAN","AF"]
["ÅLAND ISLANDS","AX"]
["ALBANIA","AL"]
["ALGERIA","DZ"]
["AMERICAN SAMOA","AS"]
["ANDORRA","AD"]
["ANGOLA","AO"]
["ANGUILLA","AI"]
["ANTARCTICA","AQ"]
["ANTIGUA AND BARBUDA","AG"]
["ARGENTINA","AR"]
["ARMENIA","AM"]
["ARUBA","AW"]
["AUSTRALIA","AU"]
["AUSTRIA","AT"]
["AZERBAIJAN","AZ"]
["BAHAMAS","BS"]
["BAHRAIN","BH"]
["BANGLADESH","BD"]
["BARBADOS","BB"]
["BELARUS","BY"]
["BELGIUM","BE"]
["BELIZE","BZ"]
["BENIN","BJ"]
["BERMUDA","BM"]
["BHUTAN","BT"]
["BOLIVIA, PLURINATIONAL STATE OF","BO"]
["BONAIRE, SINT EUSTATIUS AND SABA","BQ"]
["BOSNIA AND HERZEGOVINA","BA"]
["BOTSWANA","BW"]
["BOUVET ISLAND","BV"]
["BRAZIL","BR"]
["BRITISH INDIAN OCEAN TERRITORY","IO"]
["BRUNEI DARUSSALAM","BN"]
["BULGARIA","BG"]
["BURKINA FASO","BF"]
["BURUNDI","BI"]
["CAMBODIA","KH"]
["CAMEROON","CM"]
["CANADA","CA"]
["CAPE VERDE","CV"]
["CAYMAN ISLANDS","KY"]
["CENTRAL AFRICAN REPUBLIC","CF"]
["CHAD","TD"]
["CHILE","CL"]
["CHINA","CN"]
["CHRISTMAS ISLAND","CX"]
["COCOS (KEELING) ISLANDS","CC"]
["COLOMBIA","CO"]
["COMOROS","KM"]
["CONGO","CG"]
["CONGO, THE DEMOCRATIC REPUBLIC OF THE","CD"]
["COOK ISLANDS","CK"]
["COSTA RICA","CR"]
["CÔTE D'IVOIRE","CI"]
["CROATIA","HR"]
["CUBA","CU"]
["CURAÇAO","CW"]
["CYPRUS","CY"]
["CZECH REPUBLIC","CZ"]
["DENMARK","DK"]
["DJIBOUTI","DJ"]
["DOMINICA","DM"]
["DOMINICAN REPUBLIC","DO"]
["ECUADOR","EC"]
["EGYPT","EG"]
["EL SALVADOR","SV"]
["EQUATORIAL GUINEA","GQ"]
["ERITREA","ER"]
["ESTONIA","EE"]
["ETHIOPIA","ET"]
["FALKLAND ISLANDS (MALVINAS)","FK"]
["FAROE ISLANDS","FO"]
["FIJI","FJ"]
["FINLAND","FI"]
["FRANCE","FR"]
["FRENCH GUIANA","GF"]
["FRENCH POLYNESIA","PF"]
["FRENCH SOUTHERN TERRITORIES","TF"]
["GABON","GA"]
["GAMBIA","GM"]
["GEORGIA","GE"]
["GERMANY","DE"]
["GHANA","GH"]
["GIBRALTAR","GI"]
["GREECE","GR"]
["GREENLAND","GL"]
["GRENADA","GD"]
["GUADELOUPE","GP"]
["GUAM","GU"]
["GUATEMALA","GT"]
["GUERNSEY","GG"]
["GUINEA","GN"]
["GUINEA-BISSAU","GW"]
["GUYANA","GY"]
["HAITI","HT"]
["HEARD ISLAND AND MCDONALD ISLANDS","HM"]
["HOLY SEE (VATICAN CITY STATE)","VA"]
["HONDURAS","HN"]
["HONG KONG","HK"]
["HUNGARY","HU"]
["ICELAND","IS"]
["INDIA","IN"]
["INDONESIA","ID"]
["IRAN, ISLAMIC REPUBLIC OF","IR"]
["IRAQ","IQ"]
["IRELAND","IE"]
["ISLE OF MAN","IM"]
["ISRAEL","IL"]
["ITALY","IT"]
["JAMAICA","JM"]
["JAPAN","JP"]
["JERSEY","JE"]
["JORDAN","JO"]
["KAZAKHSTAN","KZ"]
["KENYA","KE"]
["KIRIBATI","KI"]
["KOREA, DEMOCRATIC PEOPLE'S REPUBLIC OF","KP"]
["KOREA, REPUBLIC OF","KR"]
["KUWAIT","KW"]
["KYRGYZSTAN","KG"]
["LAO PEOPLE'S DEMOCRATIC REPUBLIC","LA"]
["LATVIA","LV"]
["LEBANON","LB"]
["LESOTHO","LS"]
["LIBERIA","LR"]
["LIBYA","LY"]
["LIECHTENSTEIN","LI"]
["LITHUANIA","LT"]
["LUXEMBOURG","LU"]
["MACAO","MO"]
["MACEDONIA, THE FORMER YUGOSLAV REPUBLIC OF","MK"]
["MADAGASCAR","MG"]
["MALAWI","MW"]
["MALAYSIA","MY"]
["MALDIVES","MV"]
["MALI","ML"]
["MALTA","MT"]
["MARSHALL ISLANDS","MH"]
["MARTINIQUE","MQ"]
["MAURITANIA","MR"]
["MAURITIUS","MU"]
["MAYOTTE","YT"]
["MEXICO","MX"]
["MICRONESIA, FEDERATED STATES OF","FM"]
["MOLDOVA, REPUBLIC OF","MD"]
["MONACO","MC"]
["MONGOLIA","MN"]
["MONTENEGRO","ME"]
["MONTSERRAT","MS"]
["MOROCCO","MA"]
["MOZAMBIQUE","MZ"]
["MYANMAR","MM"]
["NAMIBIA","NA"]
["NAURU","NR"]
["NEPAL","NP"]
["NETHERLANDS","NL"]
["NEW CALEDONIA","NC"]
["NEW ZEALAND","NZ"]
["NICARAGUA","NI"]
["NIGER","NE"]
["NIGERIA","NG"]
["NIUE","NU"]
["NORFOLK ISLAND","NF"]
["NORTHERN MARIANA ISLANDS","MP"]
["NORWAY","NO"]
["OMAN","OM"]
["PAKISTAN","PK"]
["PALAU","PW"]
["PALESTINIAN TERRITORY, OCCUPIED","PS"]
["PANAMA","PA"]
["PAPUA NEW GUINEA","PG"]
["PARAGUAY","PY"]
["PERU","PE"]
["PHILIPPINES","PH"]
["PITCAIRN","PN"]
["POLAND","PL"]
["PORTUGAL","PT"]
["PUERTO RICO","PR"]
["QATAR","QA"]
["RÉUNION","RE"]
["ROMANIA","RO"]
["RUSSIAN FEDERATION","RU"]
["RWANDA","RW"]
["SAINT BARTHÉLEMY","BL"]
["SAINT HELENA, ASCENSION AND TRISTAN DA CUNHA","SH"]
["SAINT KITTS AND NEVIS","KN"]
["SAINT LUCIA","LC"]
["SAINT MARTIN (FRENCH PART)","MF"]
["SAINT PIERRE AND MIQUELON","PM"]
["SAINT VINCENT AND THE GRENADINES","VC"]
["SAMOA","WS"]
["SAN MARINO","SM"]
["SAO TOME AND PRINCIPE","ST"]
["SAUDI ARABIA","SA"]
["SENEGAL","SN"]
["SERBIA","RS"]
["SEYCHELLES","SC"]
["SIERRA LEONE","SL"]
["SINGAPORE","SG"]
["SINT MAARTEN (DUTCH PART)","SX"]
["SLOVAKIA","SK"]
["SLOVENIA","SI"]
["SOLOMON ISLANDS","SB"]
["SOMALIA","SO"]
["SOUTH AFRICA","ZA"]
["SOUTH GEORGIA AND THE SOUTH SANDWICH ISLANDS","GS"]
["SOUTH SUDAN","SS"]
["SPAIN","ES"]
["SRI LANKA","LK"]
["SUDAN","SD"]
["SURINAME","SR"]
["SVALBARD AND JAN MAYEN","SJ"]
["SWAZILAND","SZ"]
["SWEDEN","SE"]
["SWITZERLAND","CH"]
["SYRIAN ARAB REPUBLIC","SY"]
["TAIWAN, PROVINCE OF CHINA","TW"]
["TAJIKISTAN","TJ"]
["TANZANIA, UNITED REPUBLIC OF","TZ"]
["THAILAND","TH"]
["TIMOR-LESTE","TL"]
["TOGO","TG"]
["TOKELAU","TK"]
["TONGA","TO"]
["TRINIDAD AND TOBAGO","TT"]
["TUNISIA","TN"]
["TURKEY","TR"]
["TURKMENISTAN","TM"]
["TURKS AND CAICOS ISLANDS","TC"]
["TUVALU","TV"]
["UGANDA","UG"]
["UKRAINE","UA"]
["UNITED ARAB EMIRATES","AE"]
["UNITED KINGDOM","GB"]
["UNITED STATES","US"]
["UNITED STATES MINOR OUTLYING ISLANDS","UM"]
["URUGUAY","UY"]
["UZBEKISTAN","UZ"]
["VANUATU","VU"]
["VENEZUELA, BOLIVARIAN REPUBLIC OF","VE"]
["VIET NAM","VN"]
["VIRGIN ISLANDS, BRITISH","VG"]
["VIRGIN ISLANDS, U.S.","VI"]
["WALLIS AND FUTUNA","WF"]
["WESTERN SAHARA","EH"]
["YEMEN","YE"]
["ZAMBIA","ZM"]
["ZIMBABWE","ZW"]
["ZIMBABWE;ZW"]